BEGIN:VCALENDAR
VERSION:2.0
PRODID:-//Swing Dance Events Switzerland - ECPv6.15.20//NONSGML v1.0//EN
CALSCALE:GREGORIAN
METHOD:PUBLISH
X-WR-CALNAME:Swing Dance Events Switzerland
X-ORIGINAL-URL:https://swingdanceevents.ch
X-WR-CALDESC:Veranstaltungen für Swing Dance Events Switzerland
REFRESH-INTERVAL;VALUE=DURATION:PT1H
X-Robots-Tag:noindex
X-PUBLISHED-TTL:PT1H
BEGIN:VTIMEZONE
TZID:Europe/Zurich
BEGIN:DAYLIGHT
TZOFFSETFROM:+0100
TZOFFSETTO:+0200
TZNAME:CEST
DTSTART:20240331T010000
END:DAYLIGHT
BEGIN:STANDARD
TZOFFSETFROM:+0200
TZOFFSETTO:+0100
TZNAME:CET
DTSTART:20241027T010000
END:STANDARD
BEGIN:DAYLIGHT
TZOFFSETFROM:+0100
TZOFFSETTO:+0200
TZNAME:CEST
DTSTART:20250330T010000
END:DAYLIGHT
BEGIN:STANDARD
TZOFFSETFROM:+0200
TZOFFSETTO:+0100
TZNAME:CET
DTSTART:20251026T010000
END:STANDARD
BEGIN:DAYLIGHT
TZOFFSETFROM:+0100
TZOFFSETTO:+0200
TZNAME:CEST
DTSTART:20260329T010000
END:DAYLIGHT
BEGIN:STANDARD
TZOFFSETFROM:+0200
TZOFFSETTO:+0100
TZNAME:CET
DTSTART:20261025T010000
END:STANDARD
END:VTIMEZONE
BEGIN:VEVENT
DTSTART;VALUE=DATE:20250919
DTEND;VALUE=DATE:20250923
DTSTAMP:20260422T060632
CREATED:20250305T225908Z
LAST-MODIFIED:20250305T225908Z
UID:10002608-1758258000-1758517199@swingdanceevents.ch
SUMMARY:10th Swiss Boogie Weekend (by the Crazy Shakers\, Zurich)
DESCRIPTION:Im Jahr des 40-jährigen Bestehens der Crazy Shakers veranstalten wir zum 10. Mal das Swiss Boogie Weekend. Und natürlich wird es etwas ganz Besonderes: Drei Tage voller Workshops\, eine große Party mit Live-Bands und natürlich internationale Trainer bei uns zu Gast in Zürich. \nDie Workshops sind für alle Niveaus geeignet. Von Anfänger bis besonders erfahrene Tänzer –  für jeden wird etwas geboten. Wir können es kaum erwarten\, euch eine großartige Zeit zu bereiten! \nDeine Trainer: \n\nTanya Georgiievska & Sondre Olsen Bye (NOR)\nWilma Edlund & Viktor Edlund (SWE)\nLena Magnusson & Tobias Ramberg (SWE)\nPaula Appenzeller & Jesper Boberg (CH & SWE)\nJessica Kaiser & Markus Kakuska (AUT)\n\nWeitere Informationen: https://boogieweekend.ch \n\nWe celebrate the 40th anniversary of the Crazy Shakers and the 10th anniversary of the Swiss Boogie Weekend. And of course it will be special: Three days full of workshops\, a big party with live bands and of course international trainers at our place in Zurich. \nWorkshops are offered for all different levels\, from beginner to advanced – there is something for everyone. We can’t wait to see you having a great time! \nYour trainer: \n\nTanya Georgiievska & Sondre Olsen Bye (NOR)\nWilma Edlund & Viktor Edlund (SWE)\nLena Magnusson & Tobias Ramberg (SWE)\nPaula Appenzeller & Jesper Boberg (CH & SWE)\nJessica Kaiser & Markus Kakuska (AUT)\n\nFurther information: https://boogieweekend.ch
URL:https://swingdanceevents.ch/event/10th-swiss-boogie-weekend-by-the-crazy-shakers-zurich/
LOCATION:Club Silbando\, Förrlibuckstrasse 62\, Zürich\, ZH\, 8005\, Switzerland
CATEGORIES:Festival,Party,Show,Socialdance,Workshop
ATTACH;FMTTYPE=image/png:https://swingdanceevents.ch/wp-content/uploads/2025/03/Logo-Swiss-Boogie-Weekend.png
END:VEVENT
BEGIN:VEVENT
DTSTART;VALUE=DATE:20250919
DTEND;VALUE=DATE:20250923
DTSTAMP:20260422T060632
CREATED:20250826T063149Z
LAST-MODIFIED:20250826T063553Z
UID:10002883-1758258000-1758517199@swingdanceevents.ch
SUMMARY:DanceMode Zurich Balboa Weekend 2025
DESCRIPTION:✨ DanceMode Zurich Balboa Weekend ✨\nwith international dance instructor Brenda Jean Russell \nJoin us for a weekend of smooth\, sassy\, and swingin’ Balboa in the heart of Zurich! Whether you love slow and sultry\, crisp and classic\, or fast and fancy\, Brenda will guide you through technique\, rhythm\, and styling that will make your dancing shine. \n🗓 Dates: September 19–21\, 2025\n📍 Location: Zeughausstrasse 56\, 8004 Zurich\, Switzerland \nRegistration form: https://forms.gle/65NrGtPpTqdd5Mz79 \n🎶 Friday – Sunday Schedule\nFrom Slow Balboa to Pure Bal\, styling to advanced combos\, and social dances each night — this is your chance to immerse yourself in Balboa’s elegance and energy. All socials feature a mix of Balboa & Swing tunes to keep the floor hopping! \nSchedule Overview\nFriday\, Sept 19\n18:30–20:30 — Slow Balboa\n21:00–24:00 — Balboa / Swing Social \nSaturday\, Sept 20\n11:00–12:30 — Pure Bal & Rotation: Foundations of Aesthetic & Technique\n12:30–13:30 — Lunch\n13:30–15:00 — Ad-libs\, Rhythm & Styling Variations: Making it Cool & Fun\n15:00–15:30 — Break\n15:30–17:00 — Advanced Turning & Rhythm Combos: Put Your Technique to the Test\n17:00–20:00 — Dinner & Rest\n20:00–20:45 — Balboa Taster Class\n21:00–24:00 — Balboa / Swing Social \nSunday\, Sept 21\n12:00–13:30 — Cross Overs & Cross Throughs: Technique & Aesthetic\n13:30–14:30 — Lunch\n14:30–16:00 — Bal/Swing Rhythm & Styling Variations: Making it Cool & Fun\n16:00–16:30 — Break\n16:30–18:00 — Kicks\, Turns\, & Transitions: Making it Smooth & Sassy \n💡 Save the Date: We look forward to our next big Balboa Immersion in Basel — August 2026!
URL:https://swingdanceevents.ch/event/dancemode-zurich-balboa-weekend-2025/
LOCATION:IFMZ Zürich\, Zeughausstrasse 56\, Zürich\, Zürich\, 8004\, Switzerland
CATEGORIES:Class,Socialdance,Teaster
ATTACH;FMTTYPE=image/jpeg:https://swingdanceevents.ch/wp-content/uploads/2025/08/532826435_1353277609916985_829293388635716571_n.jpg
ORGANIZER;CN="pianocantiere":MAILTO:moritz.muellenbach@gmail.com
END:VEVENT
BEGIN:VEVENT
DTSTART;TZID=Europe/Zurich:20250922T190000
DTEND;TZID=Europe/Zurich:20250922T230000
DTSTAMP:20260422T060632
CREATED:20250523T152311Z
LAST-MODIFIED:20250523T152311Z
UID:10002663-1758567600-1758582000@swingdanceevents.ch
SUMMARY:Monday Blues
DESCRIPTION:Got the Monday Blues? Wir haben deine Medizin. \nMonday Blues mit traditioneller Bluesmusik. \n\n\nMit der Live-Jamsession wird der Anlass einmal mehr zum Begegnungsort zwischen Musizierenden und Tanzenden. Bring dein Instrument und/oder deine Füsse mit und zelebriere mit uns den Monday Blues.
URL:https://swingdanceevents.ch/event/monday-blues-2/2025-09-22/
LOCATION:Mahogany Hall\, Klosterlistutz 18\, 3000 Bern
CATEGORIES:Crashcourse,Socialdance
ATTACH;FMTTYPE=image/jpeg:https://swingdanceevents.ch/wp-content/uploads/2025/05/Monday-Blues.jpeg
ORGANIZER;CN="Blues Dance Bern":MAILTO:info@be-bluesed.ch
END:VEVENT
BEGIN:VEVENT
DTSTART;TZID=Europe/Zurich:20250923T190000
DTEND;TZID=Europe/Zurich:20250923T233000
DTSTAMP:20260422T060632
CREATED:20250922T054855Z
LAST-MODIFIED:20250922T054855Z
UID:10002515-1758654000-1758670200@swingdanceevents.ch
SUMMARY:El Boge Swing Social & Classes (beginners welcome)
DESCRIPTION:Der Dienstag El Boge Swing Social. \n\n20.15 – 23:30 Socialdance mit DJ (Fr.10.-\, 5.- für Teilnehmer Klasse)\nLindy Hop Klassen \n\n19:00 – 19:30 free Lindy CrashCourse\n19:30 – 20:15 Lindy 1 walk in class Fr.20.- (just walk in\, kein Partner notwendig).\nTeachers: Marco & Alina\, Julio & Simone\, Matej\, Eike\n\n\nSoloJazz / Jazzroots\n\n18:00 – 18:45 SoloJazz open level walk in Class\, beginners welcome\nTeacher Marco Muetze\n\n\n\nAlle Klassen benötigen keine Anmeldung. Kommt einfach vorbei auf den Klassenstart.
URL:https://swingdanceevents.ch/event/el-boge-swing-social-classes-beginners-welcome-6-2-2-3-3-3-2-2-4-3-4-2-5-4-2-2-2-2-2-2-2-5-2-3-2-2-2-2/
LOCATION:El Social\, Viaduktstrasse 64\, Zürich\, ZH\, 8005\, Switzerland
CATEGORIES:Class,Crashcourse,DJ,Party,Socialdance
ATTACH;FMTTYPE=image/png:https://swingdanceevents.ch/wp-content/uploads/2025/09/FlyerBogen2025_Tuesday_September3.png
END:VEVENT
BEGIN:VEVENT
DTSTART;TZID=Europe/Zurich:20250925T200000
DTEND;TZID=Europe/Zurich:20250925T230000
DTSTAMP:20260422T060632
CREATED:20250924T184702Z
LAST-MODIFIED:20250924T184702Z
UID:10002307-1758830400-1758841200@swingdanceevents.ch
SUMMARY:CANCELED Bürkli-Hop BACK@BÜRKLIPLATZ in reason of low temperature
DESCRIPTION:WIR SIND ZURÜCK AUF DEM BÜRKLIPLATZ \nDon’t miss Zürich’s outdoor Socialdance for LindyHop Balboa Shag SoloJazz etc. more info & community: https://www.facebook.com/groups/buerklihop Free\, it’s a noncomercial szene-meeting run by szene members.
URL:https://swingdanceevents.ch/event/buerkli-hop-ersatzstandort-5-2-2/
LOCATION:Bürkliplatz Musikpavillon\, Musikpavillon\, Tram Bürkliplatz\, Zürich\, ZH\, 8001\, Switzerland
CATEGORIES:DJ,Party,Socialdance
ATTACH;FMTTYPE=image/png:https://swingdanceevents.ch/wp-content/uploads/2025/08/BuerklihopCanceled20250925.png
ORGANIZER;CN="The B%C3%BCrkliHop Syndicat by Z%C3%BCrich's Lindy Szene":MAILTO:buerklihop@google.com
END:VEVENT
BEGIN:VEVENT
DTSTART;TZID=Europe/Zurich:20250926T193000
DTEND;TZID=Europe/Zurich:20250927T020000
DTSTAMP:20260422T060632
CREATED:20250106T200357Z
LAST-MODIFIED:20250813T071841Z
UID:10002431-1758915000-1758938400@swingdanceevents.ch
SUMMARY:Altstadt Swing
DESCRIPTION:Der nächste Social Dance in Winterthur: Freitag 26. September 2025\nAltstadt Swing in der @altekasernekulturzentrum\nmit The Sheiks und DJ lil’roquette \n19:45 Crashkurs\n21:00 Live-Konzert mit The Sheiks und Musik aus der Dose von DJ lil’roquette \nThe Sheiks sind fünf leidenschaftliche Musiker\, die Swing und Eigenes genauso spielen wie in den wilden 2Oern: frisch\, laut und humorvoll.\nMit ihrer einzigartigen Energie und erfrischenden Lockerheit erspielten sie sich in weit über 1OO Konzerten im In- und Ausland (u.a. Stir it Zurich\, Lindy Cake Freiburg\, Balboa & Shag Festival Augsburg) den Ruf als hervorragender Live-Act für Swingtanzfestivals.\nKommt vorbei und erlebt\, wie The Sheiks die Bühne erobern – ein Abend\, der eure Füsse zum Tanzen und Herzen zum Schlagen bringt!
URL:https://swingdanceevents.ch/event/altstadt-swing-10/
LOCATION:Alte Kaserne Winterthur\, Technikumstrasse 8\, Winterthur\, Switzerland
CATEGORIES:Crashcourse,DJ,LiveBand,Party
ATTACH;FMTTYPE=image/png:https://swingdanceevents.ch/wp-content/uploads/2025/01/250926_AltstadtSwing_1080x1350px-scaled.png
ORGANIZER;CN="Swingscouts%2C Winterthur":MAILTO:info@swingscouts.ch
END:VEVENT
BEGIN:VEVENT
DTSTART;TZID=Europe/Zurich:20250927T170000
DTEND;TZID=Europe/Zurich:20250927T220000
DTSTAMP:20260422T060632
CREATED:20250114T194236Z
LAST-MODIFIED:20250516T151426Z
UID:10002455-1758992400-1759010400@swingdanceevents.ch
SUMMARY:Aescher Swing
DESCRIPTION:Der Social Dance mit der schönsten Aussicht der Schweiz! \nWas will man mehr als vor einer malerischen Bergkulisse das Tanzbein zu schwingen\, sich bei einem Huusiistee oder einem kühlen Bier zu erfrischen und feines aus der Aescher Speisekarte zu geniessen!? \nWie kommst du zum Aescher und wieder nach Hause? \nBitte beachte den Fahrplan bezüglich letzter Bergfahrt auf https://www.ebenalp.ch (normalerweise 18.45 Uhr). \nAb Parkplatz “Erstböhl” ist der Aufstieg ca. 1 Std. und der Abstieg (mit Stirnlampe) ca. 40 min. Am besten bildet ihr in der Swingcommunity Fahrgemeinschaften.\nFreitag und Samstag würde dich beim Erstböhl auch der PubliCar auf Vorbestellung abholen und nach Appenzell zum Bahnhof bringen: https://www.postauto.ch/de/publicar-appenzell-ai \nEs gibt die Möglichkeit im Aescher zu Übernachten\, wir haben ein Kontingent Betten für Tänzer reservieren können. Bitte Hüttenschlafsack mitnehmen\, kann man aber auch mieten! Bei Interesse gerne direkt das Bergrestaurant unter info@aescher.ch kontaktieren und bei der Reservierung erwähnen\, dass ihr Tänzer seid. \nWeitere Infos: \n\nFindet bei jeder Witterung statt.\nEintritt: Kollekte (kein Ticket benötigt)\nÜbernachtung: Bei Interesse auf dem Aescher zu übernachten\, melde dich bei info@aescher.ch
URL:https://swingdanceevents.ch/event/aescher-swing-11/
LOCATION:Aescher Gasthaus am Berg\, Äscher 1\, Schwende\, AI\, 9057\, Switzerland
CATEGORIES:Socialdance
ATTACH;FMTTYPE=image/jpeg:https://swingdanceevents.ch/wp-content/uploads/2025/01/Aescherswing-3.jpg
END:VEVENT
BEGIN:VEVENT
DTSTART;TZID=Europe/Zurich:20250927T193000
DTEND;TZID=Europe/Zurich:20250927T233000
DTSTAMP:20260422T060632
CREATED:20250812T143611Z
LAST-MODIFIED:20251028T221451Z
UID:10002863-1759001400-1759015800@swingdanceevents.ch
SUMMARY:DOWN TOWN SOCIAL - Hello Balboa! Mit kostenlosem Balboa Schnupperkurs
DESCRIPTION:Ein DOWN TOWN SPECIAL im November: HELLO BALBOA! \nFreu dich auf 🎧 DJBKey & DJ Stefan und Songs\, die deine Balboa Füssen aufwecken lassen. \nAlle Tänzer*innen sind selbstverständlich willkommen – das Tempo der Musik wird lediglich leicht schneller als bei einem “normalen” DOWN TOWN SOCIAL sein 😍 \nSamstag\, 29. November 2025 ab 19:30 \nhttps://app.downtownswing.ch/de/events/down-town-social \n🎟️ CHF 15.00 / mit Legi CHF 10.00 \n*** \nDu suchst nach einer Möglichkeit und Inspiration\, zu schneller Musik zu tanzen? Besuche uns am kostenlosen Balboa Schnupperkurs und starte an der Party gleich durch: \nKostenloser Balboa Schnupperkurs \nSamstag\, 29.11.2025 | 18:30 – 19:15 \n→ Info & Anmeldung \nAnmeldung empfohlen\, dir die Teilnahme zu sichern \nDieser Schnupperkurs ist super geeignet\, für Interessent*innen\, die planen im Beginner-Improver Track am Bal-Inspiration 2026 teilzunehmen 💪 und noch keine oder wenig Balboa Erfahrung sammeln konnten. \n\n🙌 Helfer*innen gesucht!\nKomm mit ins Team und hilf beim Aufbau\, der Eintrittskontrolle oder beim Abbau! 🙏 Als Dankeschön gibt’s freien Eintritt und 1 Getränk 🍻 – merci vielmals für deinen Support! 💖 \n💥 Link zu den Helfereinsätzen \nVielen Dank für deinen Support! 🙌❤️
URL:https://swingdanceevents.ch/event/down-town-social-10/2025-09-27/
LOCATION:Tanzstudio DOWNTOWNSWING\, Hohlstrasse 86a\, Zürich\, ZH\, 8004\, Switzerland
CATEGORIES:DJ,LiveBand,Party,Socialdance
ATTACH;FMTTYPE=image/jpeg:https://swingdanceevents.ch/wp-content/uploads/2025/08/20250707-down-town-social-flyer-dates-2025-sep-dez.jpg
ORGANIZER;CN="Downtownswing":MAILTO:info@downtownswing.ch
END:VEVENT
BEGIN:VEVENT
DTSTART;TZID=Europe/Zurich:20250928T190000
DTEND;TZID=Europe/Zurich:20250928T220000
DTSTAMP:20260422T060632
CREATED:20240424T120331Z
LAST-MODIFIED:20250218T085423Z
UID:10002562-1759086000-1759096800@swingdanceevents.ch
SUMMARY:Swingin’around@Bourbaki
DESCRIPTION:Swing-Party im Bourbaki in Luzern.
URL:https://swingdanceevents.ch/event/swinginaroundbourbaki/2025-09-28/
LOCATION:Bourbaki Luzern\, Löwenplatz 1\, Luzern\, Luzern\, 6004\, Switzerland
CATEGORIES:DJ,Party,Socialdance
ATTACH;FMTTYPE=image/jpeg:https://swingdanceevents.ch/wp-content/uploads/2024/04/Bourbaki.jpg
ORGANIZER;CN="Footwork":MAILTO:info@footwork.ch
END:VEVENT
END:VCALENDAR