BEGIN:VCALENDAR
VERSION:2.0
PRODID:-//Swing Dance Events Switzerland - ECPv6.15.20//NONSGML v1.0//EN
CALSCALE:GREGORIAN
METHOD:PUBLISH
X-ORIGINAL-URL:https://swingdanceevents.ch
X-WR-CALDESC:Veranstaltungen für Swing Dance Events Switzerland
REFRESH-INTERVAL;VALUE=DURATION:PT1H
X-Robots-Tag:noindex
X-PUBLISHED-TTL:PT1H
BEGIN:VTIMEZONE
TZID:Europe/Zurich
BEGIN:DAYLIGHT
TZOFFSETFROM:+0100
TZOFFSETTO:+0200
TZNAME:CEST
DTSTART:20240331T010000
END:DAYLIGHT
BEGIN:STANDARD
TZOFFSETFROM:+0200
TZOFFSETTO:+0100
TZNAME:CET
DTSTART:20241027T010000
END:STANDARD
BEGIN:DAYLIGHT
TZOFFSETFROM:+0100
TZOFFSETTO:+0200
TZNAME:CEST
DTSTART:20250330T010000
END:DAYLIGHT
BEGIN:STANDARD
TZOFFSETFROM:+0200
TZOFFSETTO:+0100
TZNAME:CET
DTSTART:20251026T010000
END:STANDARD
BEGIN:DAYLIGHT
TZOFFSETFROM:+0100
TZOFFSETTO:+0200
TZNAME:CEST
DTSTART:20260329T010000
END:DAYLIGHT
BEGIN:STANDARD
TZOFFSETFROM:+0200
TZOFFSETTO:+0100
TZNAME:CET
DTSTART:20261025T010000
END:STANDARD
END:VTIMEZONE
BEGIN:VEVENT
DTSTART;TZID=Europe/Zurich:20250930T190000
DTEND;TZID=Europe/Zurich:20250930T223000
DTSTAMP:20260424T115420
CREATED:20250827T151625Z
LAST-MODIFIED:20250827T151625Z
UID:10002888-1759258800-1759271400@swingdanceevents.ch
SUMMARY:Lindy Circle
DESCRIPTION:Am letzten Dienstag im Monat treffen wir uns im Keller vom Kaffe und Club Øya. Lindy Hop Crashkurs von 19:00 – 20:00 Uhr (Unkostenbeitrag 10.-) anschliessend Open Dance Floor (Kollekte). \nFür den Crashkurs (10.-) braucht es keine Anmeldung\, aber kommt frühzeitig\, denn die Plätze sind begrenzt. 19-20 Uhr: Lindy Hop Crashkurs \n  \nWir danken dem OYA\, dass wir seit Jahren monatlich den tollen Tanzraum für unsere Social Dances nutzen dürfen!
URL:https://swingdanceevents.ch/event/lindy-circle-6/
LOCATION:ØYA BAR\, Schwertgasse 27\, St.Gallen\, SG\, 9000\, Switzerland
CATEGORIES:Crashcourse,DJ
ATTACH;FMTTYPE=image/jpeg:https://swingdanceevents.ch/wp-content/uploads/2025/08/lindy-circle.jpg
END:VEVENT
BEGIN:VEVENT
DTSTART;TZID=Europe/Zurich:20250930T190000
DTEND;TZID=Europe/Zurich:20250930T233000
DTSTAMP:20260424T115420
CREATED:20250929T151140Z
LAST-MODIFIED:20250930T183647Z
UID:10002516-1759258800-1759275000@swingdanceevents.ch
SUMMARY:El Boge Swing Social & Classes (beginners welcome)
DESCRIPTION:Der Dienstag El Boge Swing Social. \n\n20.15 – 23:30 Socialdance mit DJ (Fr.10.-\, 5.- für Teilnehmer Klasse)\nLindy Hop Klassen \n\n19:00 – 19:30 free Lindy CrashCourse\n19:30 – 20:15 Lindy 1 walk in class Fr.20.- (just walk in\, kein Partner notwendig).\nTeachers: Marco & Alina\, Julio & Simone\, Matej\, Eike\n\n\nSoloJazz / Jazzroots\n\n18:00 – 18:45 SoloJazz open level walk in Class\, beginners welcome\nTeacher Marco Muetze\n\n\n\nAlle Klassen benötigen keine Anmeldung. Kommt einfach vorbei auf den Klassenstart.
URL:https://swingdanceevents.ch/event/el-boge-swing-social-classes-beginners-welcome-6-2-2-3-3-3-2-2-4-3-4-2-5-4-2-2-2-2-2-2-2-5-2-3-2-2-2-2-2/2025-09-30/
LOCATION:El Social\, Viaduktstrasse 64\, Zürich\, ZH\, 8005\, Switzerland
CATEGORIES:Class,Crashcourse,DJ,Party,Socialdance
ATTACH;FMTTYPE=image/png:https://swingdanceevents.ch/wp-content/uploads/2025/09/FlyerBogen2025_Tuesday_20251007.png
END:VEVENT
BEGIN:VEVENT
DTSTART;TZID=Europe/Zurich:20251001T201500
DTEND;TZID=Europe/Zurich:20251001T233000
DTSTAMP:20260424T115420
CREATED:20250706T163345Z
LAST-MODIFIED:20251125T153125Z
UID:10002690-1759349700-1759361400@swingdanceevents.ch
SUMMARY:Swing Cocktail
DESCRIPTION:Deine wöchentliche Portion Tanzglück \nAm Swing Cocktail verwöhnen wir Dich mit der besten Swing-Musik unserer grossartigen DJs\, laden regelmässig fabelhafte Bands ein und tanzen\, was das Zeug hält. Komm und swing mit uns\, probier neugelernte Moves aus\, plaudere mit Deinen Freund:innen und geniess die entspannte Atmosphäre – jeden Mittwoch in der schmucken Archbar direkt am Hauptbahnhof Winterthur. \nSocial Dance 20:15–23:30\nEintritt CHF 10.- / 5.- (Legi) // bei Liveband Hutkollekte (Empfehlung CHF 15-20.-) \nÜber DJs\, Bands und weitere Specials informieren wir Dich auf Instagram\, Facebook und WhatsApp.
URL:https://swingdanceevents.ch/event/swing-cocktail-21/2025-10-01/
LOCATION:Archbar\, Archstrasse 2\, Winterthur\, 8400\, Switzerland
CATEGORIES:DJ,Socialdance
ATTACH;FMTTYPE=image/jpeg:https://swingdanceevents.ch/wp-content/uploads/2025/07/SC_Quadrat_klein.jpg
ORGANIZER;CN="Swingscouts%2C Winterthur":MAILTO:info@swingscouts.ch
END:VEVENT
BEGIN:VEVENT
DTSTART;TZID=Europe/Zurich:20251002T200000
DTEND;TZID=Europe/Zurich:20251002T220000
DTSTAMP:20260424T115420
CREATED:20250930T185834Z
LAST-MODIFIED:20251001T222944Z
UID:10002308-1759435200-1759442400@swingdanceevents.ch
SUMMARY:Bürkli-Hop LIVE THE PAVILION DANCE ORCHESTRA
DESCRIPTION:Live The Pavilion Swing Dance Orchestra (1 loooong Set) \n20:00 DJ \n20:15 The Pavilion Dance Orchestra bis ca. 21:30 \n21:30-22:00 DJ \nDon’t miss Zürich’s outdoor Socialdance for LindyHop Balboa Shag SoloJazz etc. more info & community: https://www.facebook.com/groups/buerklihop Free\, it’s a noncomercial szene-meeting run by szene members.
URL:https://swingdanceevents.ch/event/buerkli-hop-paviliondanceorchestra/
LOCATION:Bürkliplatz Musikpavillon\, Musikpavillon\, Tram Bürkliplatz\, Zürich\, ZH\, 8001\, Switzerland
CATEGORIES:DJ,LiveBand,Party,Socialdance
ATTACH;FMTTYPE=image/png:https://swingdanceevents.ch/wp-content/uploads/2025/09/20251002-PavilionDanceOrchestra.png
ORGANIZER;CN="The B%C3%BCrkliHop Syndicat by Z%C3%BCrich's Lindy Szene":MAILTO:buerklihop@google.com
END:VEVENT
BEGIN:VEVENT
DTSTART;TZID=Europe/Zurich:20251004T103000
DTEND;TZID=Europe/Zurich:20251005T163000
DTSTAMP:20260424T115420
CREATED:20250826T200140Z
LAST-MODIFIED:20250902T145534Z
UID:10002884-1759573800-1759681800@swingdanceevents.ch
SUMMARY:Pure Balboa Workshop
DESCRIPTION:🔥 Local Flavor Edition 🔥 \n✏️ Registrierung ist offen 🔥🤩 \nNutze die Gelegenheit\, deine Pure Balboa Skills über ein ganzes Wochenende hinweg zu vertiefen. Arbeite zusammen mit Lehrern aus der Region und verschiedenen Tanzpartner*innen an Verbindung\, Musikalität und Kommunikation. \nSei mit dabei und lass uns zusammen an deinen Pure Balboa Techniken feilen – ein Wochenende voller Inspiration und Austausch wartet auf dich: \n🔥 Pure Balboa Workshop \n🔥 2 Levels: The Blend (Level 1) & The Edge – (Level 2) \n🔥 7h Unterricht – 4h am Samstag & 3h am Sonntag \n🔥 5 verschiedenen Teachers: Nina\, Ulla\, Danja\, Anthony & Samir \n🔥 2 Social Dances \nLOCATION \nDowntownswing Studio\, Hohlstrasse 86a\, 8004 Zürich\, Schweiz \nSTUNDENPLAN (provisorisch) \nSamstag  \n• 10:30-11:30 Klasse 1 \n• 11:45-12:45 Klasse 2 \nMittagspause \n• 14:15-15:15 Klasse 3 \n• 15:30-16:30 Klasse 4 \nBreak \n• 20:00-00:00 Social Dance Party \nSonntag \n• 10:30-11:30 Klasse 5 \n• 11:45-12:45 Klasse 6 \nMittagspause \n• 14:15-15:15 Klasse 7 \nPause \n• 16:00-19:00 Sunday Shag’n’Shuffle \nLEVELS \nUnser Ziel ist es\, zwei ausgeglichene Gruppen zusammenzustellen\, um allen Teilnehmenden ein optimales Tanzerlebnis zu ermöglichen. Sollten dich die Organisatoren in einem anderen Level sehen\, wirst du von uns kontaktiert.  \nWir empfehlen eine Anmeldung mit Tanzpartner*in\, damit deine Teilnahme bei verfügbaren Kursplätzen zügig bestätigt werden kann. \nLevel 1 – The Blend – mixing technique and style  \n• Du hast bereits Balboa Tanz Erfahrung gesammelt und fühlst dich mit den Grundlagen in Pure Balboa sicher. \n• Dein Repertoire umfasst ein solides Vokabular und Begriffe wie Up-Hold\, Down-Hold\, Crab Walks\, Paddles\, Pivots oder Ad-Libs sind dir vertraut. \n• Perfektion ist noch nicht zwingend! Entscheidend ist\, dass du dich auf der Tanzfläche wohlfühlst\, Lust hast\, deine Basics zu verfeinern und offen für Neues bist. \n➡️ Zur Anmeldung ‘The Blend’ – Level 1 \nLevel 2 – The Edge – pushing past limits  \n• Du hast bereits umfassende Tanzerfahrung gesammelt und bist stetig auf der Suche nach neuen Möglichkeiten\, deine Musikalität zum Ausdruck zu bringen. \n• Bekannte Muster verlässt du gern\, um mit Kreativität und Dynamik zu überraschen. Auch bei höherem Tempo (über 210 bpm) behältst du mühelos den Rhythmus und spielst variantenreich mit der Musik. \n• Zudem möchtest du Bestehendes weiter erforschen und verfeinern\, sowie deine tänzerische Ausdruckskraft weiterentwickeln. \n➡️ Zur Anmeldung ‘The Edge’ – Level 2
URL:https://swingdanceevents.ch/event/pure-balboa-workshop/
LOCATION:Tanzstudio DOWNTOWNSWING\, Hohlstrasse 86a\, Zürich\, ZH\, 8004\, Switzerland
CATEGORIES:Class,DJ,Party,Socialdance,Workshop
ATTACH;FMTTYPE=image/jpeg:https://swingdanceevents.ch/wp-content/uploads/2025/08/20251004-Pure-Balboa-Workshop-Insta_45.jpg
ORGANIZER;CN="Downtownswing":MAILTO:info@downtownswing.ch
END:VEVENT
BEGIN:VEVENT
DTSTART;TZID=Europe/Zurich:20251004T140000
DTEND;TZID=Europe/Zurich:20251004T163000
DTSTAMP:20260424T115420
CREATED:20250902T085635Z
LAST-MODIFIED:20250902T085635Z
UID:10002901-1759586400-1759595400@swingdanceevents.ch
SUMMARY:Solo Jazz Workshop - Improvisation
DESCRIPTION:Date: 04.10.2025    Time: 14:00-16:30     Price: 70/45 (reduced) \nIn this workshop\, we will explore how to improvise to jazz music. Fabi and Emma will guide you through musicality\, music structure\, and share tools to help you gain confidence dancing on your own. This workshop is open to all levels\, from curious beginners to experienced solo dancers. Join us to improvise\, experiment\, and express your individuality through jazz.
URL:https://swingdanceevents.ch/event/solo-jazz-workshop-improvisation/
LOCATION:Ella’s Fellas\, Hohlstrasse 192\, Zürich\, 8004\, Switzerland
ATTACH;FMTTYPE=image/png:https://swingdanceevents.ch/wp-content/uploads/2025/09/4.png
ORGANIZER;CN="Ella's Fellas":MAILTO:info@ellasfellas.ch
END:VEVENT
BEGIN:VEVENT
DTSTART;TZID=Europe/Zurich:20251004T160000
DTEND;TZID=Europe/Zurich:20251004T190000
DTSTAMP:20260424T115420
CREATED:20250914T200247Z
LAST-MODIFIED:20250914T202525Z
UID:10002913-1759593600-1759604400@swingdanceevents.ch
SUMMARY:Tea Time Swing: Saisonstart
DESCRIPTION:Tea Time Swing mit auserlesenem Tee\, feinem Kuchen und Swing Musik zum Tanzen.\nNeu: an zwei Samstagen pro Monat\, von 16:00 bis 19:00 Uhr. \nMusik:\nDJ Crossover\nDJ Bändlimeier \nEintritt:\nCHF 10.- \nKuchen backen:\nUnterstütze uns mit einem Kuchen und erhalte einen Eintritt\, dazu Tee & Kuchen. \nMitmachen:\nHilf uns beim Kuchen- und Teeverkauf oder an der Eintrittskasse und erhalte freien Eintritt. Melde dich unter:\nportal.helfereinsatz.ch/teatimeswing
URL:https://swingdanceevents.ch/event/tea-time-swing-saisonstart-3/
LOCATION:Bananenreiferei\, Pfingstweidstrasse 101\, Zürich\, 8005
CATEGORIES:DJ,Party,Socialdance
ATTACH;FMTTYPE=image/png:https://swingdanceevents.ch/wp-content/uploads/2025/09/20251004_tts_web_high_2000px.png
END:VEVENT
BEGIN:VEVENT
DTSTART;TZID=Europe/Zurich:20251004T200000
DTEND;TZID=Europe/Zurich:20251005T000000
DTSTAMP:20260424T115420
CREATED:20250929T094124Z
LAST-MODIFIED:20250929T095419Z
UID:10002932-1759608000-1759622400@swingdanceevents.ch
SUMMARY:Saturday Shuffle
DESCRIPTION:Zur Workshophalbzeit die vielen neuen Inputs direkt ausprobieren und umsetzen? \nWillkommen zum Saturday Shuffle Social Dancing! \n🎶 Mit DJ lil’roquette & DJ Dawid\nRegulär CHF 15.00 / mit Legi CHF 10.00 \nDer Event ist im Workshop inbegriffen. Abendkasse für Nicht-Workshopteilnehmende \nMagst du uns am Event unterstützen? Wohoo.\nFür einen Helfereinsatz erhältst du den Eintritt zum Event plus 1 Getränk deiner Wahl. \nEinsatzmöglichkeiten:\n⏰ Aufbau 16:45-17:30\n⏰ Kasse/Eintrittskontrolle 19:45-20:45\n⏰ Kasse/Eintrittskontrolle 20:45-21:45\n⏰ Kasse/Eintrittskontrolle 21:45-22:45\n⏰ Kasse/Eintrittskontrolle 22:45-23:45\n⏰ Abbau (00:00-00:30) \nhttps://portal.helfereinsatz.ch/downtownswing\nDANKE für deine Unterstützung! 🌟
URL:https://swingdanceevents.ch/event/saturday-shuffle-2/
LOCATION:Tanzstudio DOWNTOWNSWING\, Hohlstrasse 86a\, Zürich\, ZH\, 8004\, Switzerland
CATEGORIES:DJ,Party,Socialdance
ATTACH;FMTTYPE=image/jpeg:https://swingdanceevents.ch/wp-content/uploads/2025/09/20251004-Saturday-Shuffle-Flyer-1.jpg
ORGANIZER;CN="Downtownswing":MAILTO:info@downtownswing.ch
END:VEVENT
BEGIN:VEVENT
DTSTART;TZID=Europe/Zurich:20251005T160000
DTEND;TZID=Europe/Zurich:20251005T190000
DTSTAMP:20260424T115420
CREATED:20250812T145128Z
LAST-MODIFIED:20250812T150449Z
UID:10002867-1759680000-1759690800@swingdanceevents.ch
SUMMARY:Sunday Shag’n’Shuffle
DESCRIPTION:🎉 Social Dancing für Balboa & Collegiate Shag 🌟 \n\nKomm vorbei und schwing die Tanzbeine beim Shag’n’Shuffle Social Dance! 💃🕺 Egal ob Anfänger oder Profi – hier ist für alle etwas dabei\, die schnelle Schuhsohlen lieben und Lust auf einen gemütlichen Tanzevent haben! ✨\n\n📍 Location: Downtownswing Studio\, Hohlstrasse 86a\, 8004 Zürich\n🔗 Mehr Infos: https://shagnshuffle.ch\n\n🎶 Mit DJ:\n      Eintritt: CHF 15.00\n      Mit Legi: CHF 10.00\n\n🎶 Mit Live Band & DJ:\n      Eintritt: CHF 25.00\n      Mit Legi: CHF 20.00\n\nHelfer*innen gesucht! 🙋‍♂️🙋‍♀️\nDu möchtest uns unterstützen und hinter den Kulissen mit anpacken? Dann melde dich als Helfer*in! 💪\nFür Helfende gibt’s den Eintritt + 1 Getränk! 🥤\n\nEinsatzmöglichkeiten:\n⏰ Aufbau (15:00-16:00)\n⏰ Kasse/Eintrittskontrolle 1 (15:45-16:45)\n⏰ Kasse/Eintrittskontrolle 2 (16:45-17:45)\n⏰ Kasse/Eintrittskontrolle 3 (17:45-18:45)\n⏰ Abbau (19:00-20:00)\n\nhttps://portal.helfereinsatz.ch/downtownswing\nDANKE für deine Unterstützung! 🌟\n\nVerpasse nicht den Spass – wir freuen uns auf dich! 🎶💃🕺🎉
URL:https://swingdanceevents.ch/event/sunday-shagnshuffle-8/2025-10-05/
LOCATION:Tanzstudio DOWNTOWNSWING\, Hohlstrasse 86a\, Zürich\, ZH\, 8004\, Switzerland
CATEGORIES:DJ,Party,Socialdance
ATTACH;FMTTYPE=image/jpeg:https://swingdanceevents.ch/wp-content/uploads/2025/08/20250707-Sunday-ShagNSuffle-NEW.jpg
ORGANIZER;CN="Downtownswing":MAILTO:info@downtownswing.ch
END:VEVENT
END:VCALENDAR