BEGIN:VCALENDAR
VERSION:2.0
PRODID:-//Swing Dance Events Switzerland - ECPv6.15.20//NONSGML v1.0//EN
CALSCALE:GREGORIAN
METHOD:PUBLISH
X-ORIGINAL-URL:https://swingdanceevents.ch
X-WR-CALDESC:Veranstaltungen für Swing Dance Events Switzerland
REFRESH-INTERVAL;VALUE=DURATION:PT1H
X-Robots-Tag:noindex
X-PUBLISHED-TTL:PT1H
BEGIN:VTIMEZONE
TZID:Europe/Zurich
BEGIN:DAYLIGHT
TZOFFSETFROM:+0100
TZOFFSETTO:+0200
TZNAME:CEST
DTSTART:20240331T010000
END:DAYLIGHT
BEGIN:STANDARD
TZOFFSETFROM:+0200
TZOFFSETTO:+0100
TZNAME:CET
DTSTART:20241027T010000
END:STANDARD
BEGIN:DAYLIGHT
TZOFFSETFROM:+0100
TZOFFSETTO:+0200
TZNAME:CEST
DTSTART:20250330T010000
END:DAYLIGHT
BEGIN:STANDARD
TZOFFSETFROM:+0200
TZOFFSETTO:+0100
TZNAME:CET
DTSTART:20251026T010000
END:STANDARD
BEGIN:DAYLIGHT
TZOFFSETFROM:+0100
TZOFFSETTO:+0200
TZNAME:CEST
DTSTART:20260329T010000
END:DAYLIGHT
BEGIN:STANDARD
TZOFFSETFROM:+0200
TZOFFSETTO:+0100
TZNAME:CET
DTSTART:20261025T010000
END:STANDARD
END:VTIMEZONE
BEGIN:VEVENT
DTSTART;TZID=Europe/Zurich:20251014T190000
DTEND;TZID=Europe/Zurich:20251014T233000
DTSTAMP:20260425T023748
CREATED:20251007T181438Z
LAST-MODIFIED:20251012T180419Z
UID:10002518-1760468400-1760484600@swingdanceevents.ch
SUMMARY:El Boge Swing Social & Classes (beginners welcome)
DESCRIPTION:Der Dienstag El Boge Swing Social. \n\n20.15 – 23:30 Socialdance mit DJ (Fr.10.-\, 5.- für Teilnehmer Klasse)\nLindy Hop Klassen \n\n19:00 – 19:30 free Lindy CrashCourse\n19:30 – 20:15 Lindy 1 walk in class Fr.20.- (just walk in\, kein Partner notwendig).\nTeachers: Marco & Alina\, Julio & Simone\, Matej\, Eike\n\n\nSoloJazz / Jazzroots\n\n18:00 – 18:45 SoloJazz open level walk in Class\, beginners welcome\nTeacher Marco Muetze\n\n\n\nAlle Klassen benötigen keine Anmeldung. Kommt einfach vorbei auf den Klassenstart.
URL:https://swingdanceevents.ch/event/el-boge-swing-social-classes-beginners-welcome-6-2-2-3-3-3-2-2-4-3-4-2-5-4-2-2-2-2-2-2-2-5-2-3-2-2-2-2-2-2/
LOCATION:El Social\, Viaduktstrasse 64\, Zürich\, ZH\, 8005\, Switzerland
CATEGORIES:Class,Crashcourse,DJ,Party,Socialdance
ATTACH;FMTTYPE=image/png:https://swingdanceevents.ch/wp-content/uploads/2025/10/FlyerBogen2025_Tuesday_20251014.png
END:VEVENT
BEGIN:VEVENT
DTSTART;TZID=Europe/Zurich:20251015T201500
DTEND;TZID=Europe/Zurich:20251015T233000
DTSTAMP:20260425T023748
CREATED:20250706T163345Z
LAST-MODIFIED:20251125T153125Z
UID:10002692-1760559300-1760571000@swingdanceevents.ch
SUMMARY:Swing Cocktail
DESCRIPTION:Deine wöchentliche Portion Tanzglück \nAm Swing Cocktail verwöhnen wir Dich mit der besten Swing-Musik unserer grossartigen DJs\, laden regelmässig fabelhafte Bands ein und tanzen\, was das Zeug hält. Komm und swing mit uns\, probier neugelernte Moves aus\, plaudere mit Deinen Freund:innen und geniess die entspannte Atmosphäre – jeden Mittwoch in der schmucken Archbar direkt am Hauptbahnhof Winterthur. \nSocial Dance 20:15–23:30\nEintritt CHF 10.- / 5.- (Legi) // bei Liveband Hutkollekte (Empfehlung CHF 15-20.-) \nÜber DJs\, Bands und weitere Specials informieren wir Dich auf Instagram\, Facebook und WhatsApp.
URL:https://swingdanceevents.ch/event/swing-cocktail-21/2025-10-15/
LOCATION:Archbar\, Archstrasse 2\, Winterthur\, 8400\, Switzerland
CATEGORIES:DJ,Socialdance
ATTACH;FMTTYPE=image/jpeg:https://swingdanceevents.ch/wp-content/uploads/2025/07/SC_Quadrat_klein.jpg
ORGANIZER;CN="Swingscouts%2C Winterthur":MAILTO:info@swingscouts.ch
END:VEVENT
BEGIN:VEVENT
DTSTART;TZID=Europe/Zurich:20251016T200000
DTEND;TZID=Europe/Zurich:20251016T230000
DTSTAMP:20260425T023748
CREATED:20251016T051427Z
LAST-MODIFIED:20251016T052649Z
UID:10002935-1760644800-1760655600@swingdanceevents.ch
SUMMARY:CANCELED Bürkli-Hop BACK@BÜRKLIPLATZ in reason of low temperature
DESCRIPTION:Bürkli-Hop is canceled today in reason of low temperature. Last Bürklihop date 2025 is 23. Oct.
URL:https://swingdanceevents.ch/event/canceled-buerkli-hop-backbuerkliplatz-in-reason-of-low-temperature/
LOCATION:Bürkliplatz Musikpavillon\, Musikpavillon\, Tram Bürkliplatz\, Zürich\, ZH\, 8001\, Switzerland
CATEGORIES:DJ,Party,Socialdance
ATTACH;FMTTYPE=image/png:https://swingdanceevents.ch/wp-content/uploads/2025/10/BuerklihopCanceled20251016-1.png
ORGANIZER;CN="The B%C3%BCrkliHop Syndicat by Z%C3%BCrich's Lindy Szene":MAILTO:buerklihop@google.com
END:VEVENT
BEGIN:VEVENT
DTSTART;TZID=Europe/Zurich:20251018T100000
DTEND;TZID=Europe/Zurich:20251018T121000
DTSTAMP:20260425T023748
CREATED:20251007T070444Z
LAST-MODIFIED:20251007T070444Z
UID:10002933-1760781600-1760789400@swingdanceevents.ch
SUMMARY:Lindy Hop in a Day
DESCRIPTION:10.00 – 12.10 (inkl. 10 min Pause) \nDieser Workshop ist für Leute\, die einen neuen tollen Tanz kennenlernen oder ihre Lindy Hop Basics vertiefen und erweitern möchten. \nInhalt: Bounce\, Groove\, Steps & Triplesteps\, 8er-Schritte\, Technik von Führen & Folgen\, erste Lindy Hop Moves\nLevel: Beginners\nTeachers: Nadine & Janina\nOrt: Sousol\, Baselstrasse 13\, Luzern\nKosten: 50 Fr. / 20% Rabatt Studi- oder Kulturlegi\nAnmeldung (mit oder ohne PartnerIn): Google Forms \nLindy Hop ist ein fröhlicher und energetischer Paartanz der in den 1920er und 1930er Jahren in Harlem\, New York\, entstand. Er entwickelte sich während der Swing-Ära aus dem Charleston und anderen afroamerikanischen Tanzstilen. Lindy Hop ist ein verspielter Tanz und lässt viel Raum für Improvisation. Probier’s aus! \nwww.triplestep.ch
URL:https://swingdanceevents.ch/event/lindy-hop-in-a-day/
LOCATION:Sousol Luzern\, Baselstrasse 13\, Luzern\, Luzern\, 6003
CATEGORIES:Workshop
ATTACH;FMTTYPE=image/jpeg:https://swingdanceevents.ch/wp-content/uploads/2025/10/lindyinaday-NJ-quad.jpg
ORGANIZER;CN="Triplestep":MAILTO:kontakt@triplestep.ch
END:VEVENT
BEGIN:VEVENT
DTSTART;TZID=Europe/Zurich:20251018T110000
DTEND;TZID=Europe/Zurich:20251018T133000
DTSTAMP:20260425T023748
CREATED:20250819T090650Z
LAST-MODIFIED:20250819T090650Z
UID:10002874-1760785200-1760794200@swingdanceevents.ch
SUMMARY:Aerial Workshop
DESCRIPTION:Date: 18.10.2025     Time: 11:00-13:30    Price: 70.-/45.-CHF (reduced) \nJoin us for our next aerial workshop with Fabienne and Luciano! In this session\, you’ll learn three different airsteps. We will build up each figure step by step and show you how to safely spot each other. No prior aerial experience is necessary\, but you should be familiar with the basic steps of Lindy Hop. You’ll need to sign up with a fixed partner as we won’t be rotating partners during this class. Please wear comfortable clothing and shoes that allow you to move freely\, flip\, and get down on the ground.
URL:https://swingdanceevents.ch/event/aerial-workshop-6/
LOCATION:Ella’s Fellas\, Hohlstrasse 192\, Zürich\, 8004\, Switzerland
ATTACH;FMTTYPE=image/png:https://swingdanceevents.ch/wp-content/uploads/2025/08/Workshops.png
ORGANIZER;CN="Ella's Fellas":MAILTO:info@ellasfellas.ch
END:VEVENT
BEGIN:VEVENT
DTSTART;TZID=Europe/Zurich:20251018T140000
DTEND;TZID=Europe/Zurich:20251018T163000
DTSTAMP:20260425T023748
CREATED:20250902T090302Z
LAST-MODIFIED:20250902T090302Z
UID:10002902-1760796000-1760805000@swingdanceevents.ch
SUMMARY:Solo Jazz Workshop - Fast - track Choreo
DESCRIPTION:Date: 18.10.2025     Time: 14:00-16:30     Price: 70/45 CHF (reduced) \nThis fast-paced workshop is all about picking up a Solo Jazz routine in one go. We’ll work on memory and styling\, with a focus on clarity\, rhythm\, and movement quality. Fabi and Emma will support you in building presence and confidence when presenting a routine in front of others. Ideal for dancers who are comfortable with Solo Jazz and ready to learn quickly.
URL:https://swingdanceevents.ch/event/solo-jazz-workshop-fast-track-choreo/
LOCATION:Ella’s Fellas\, Hohlstrasse 192\, Zürich\, 8004\, Switzerland
ATTACH;FMTTYPE=image/png:https://swingdanceevents.ch/wp-content/uploads/2025/09/5.png
ORGANIZER;CN="Ella's Fellas":MAILTO:info@ellasfellas.ch
END:VEVENT
BEGIN:VEVENT
DTSTART;TZID=Europe/Zurich:20251018T160000
DTEND;TZID=Europe/Zurich:20251018T190000
DTSTAMP:20260425T023748
CREATED:20250914T205004Z
LAST-MODIFIED:20251016T140112Z
UID:10002922-1760803200-1760814000@swingdanceevents.ch
SUMMARY:Tea Time Swing (Live)
DESCRIPTION:Tea Time Swing mit auserlesenem Tee\, feinem Kuchen und Swing Musik zum Tanzen.\nNeu: an zwei Samstagen pro Monat\, von 16:00 bis 19:00 Uhr. \nMusik:\nBouncy Rhythm Club (live)\nDJ Shuffle Deluxe \nEintritt:\nCHF 20.- (Legi/Kulturlegi: 15.-) \nKuchen backen:\nUnterstütze uns mit einem Kuchen und erhalte einen Eintritt\, dazu Tee & Kuchen. \nMitmachen:\nHilf uns beim Kuchen- und Teeverkauf oder an der Eintrittskasse und erhalte freien Eintritt. Melde dich unter:\nportal.helfereinsatz.ch/teatimeswing
URL:https://swingdanceevents.ch/event/tea-time-swing-live-8/
LOCATION:Bananenreiferei\, Pfingstweidstrasse 101\, Zürich\, 8005
CATEGORIES:DJ,LiveBand,Party,Socialdance
ATTACH;FMTTYPE=image/png:https://swingdanceevents.ch/wp-content/uploads/2025/09/20251018_tts_web_high_1920_1080.png
ORGANIZER;CN="TeaTimeSwing by Lindy and More":MAILTO:teatimeswing@gmx.ch
END:VEVENT
BEGIN:VEVENT
DTSTART;TZID=Europe/Zurich:20251019T143000
DTEND;TZID=Europe/Zurich:20251019T190000
DTSTAMP:20260425T023748
CREATED:20240423T105754Z
LAST-MODIFIED:20251016T153051Z
UID:10001872-1760884200-1760900400@swingdanceevents.ch
SUMMARY:Dayswing mit Liveband – Coniglio Connection
DESCRIPTION:Tanzen am Nachmittag zu Livemusik zur bombastischen Musik von Coniglio Connection. \nEs gibt Kaffee\, Kuchen und einen Second-hand-Market für Tanzschuhe und -kleider. \nVorher gibts für die schnellen Füsse einen Balboa Taster für Beginners!! \nTaster ab 13.30\, Party ab 14.30 \n\n\nEintritt: 28.- (18.- für Footwork Mitglieder und Legi) \nCONIGLIO CONNECTION \nDie wahrscheinlich beste Swing-Band der Schweiz: Mitreissend\, energiegeladen und voller Spielfreude bringt sie mit starken Vocals und packenden Instrumenten jeden Saal zum Tanzen. Mit Klassikern der Swing-Ära und eigenen Songs wird jedes Konzert zu einem unvergesslichen Erlebnis. Das Tempo lädt zum Lindy Hop tanzen ein – mit ein paar schnelleren Songs für alle\, die Fast Feet lieben. \nTASTER \nBalboa ist der eleganteste unter den Swingtänzen – mit feinem Footwork und entspannter Eleganz auch bei schnellen Songs. Er ist die perfekte Ergänzung zum Lindy Hop\, wenn du den ganzen Abend durchtanzen möchtest. Dieser Taster richtet sich an alle ohne Balboa-Erfahrung. Hinweis: Balboa wird sehr nah getanzt – falls dir das zu viel ist\, probiere den Shag Taster. \nDer Taster wird durchgeführt mit Elisa Oegema und Jonathan Sehr \n​​ \nCollegiate Shag \nLeider müssen wir den Shag-Taster absagen. \nWir informieren euch\, sobald es wieder eine Möglichkeit gibt\, Collegiate Shag zu tanzen! \nSECOND-HAND-MARKET​ \nDer Day Swing lädt nicht nur zum Tanzen\, sondern mit einem kleinen Secondhand-Markt auch zum Stöbern ein. \nBring Vintage-\, Tanzkleider und Tanzschuhe mit\, die du nicht mehr brauchst\, und verkaufe sie weiter. \nStöbere selbst durch die Schätze der anderen. Vielleicht findest du genau das perfekte Outfit für die Tanzfläche! \nKAFFEE UND KUCHEN​ \nEin beschwingter Sonntagnachmittag lädt zur Gemütlichkeit ein! Gönn deinen Beinen eine kleine Tanzpause bei feinem Tee\, Kaffee und hausgemachtem Kuchen. Wenn du selbst eine Köstlichkeit mitbringst\, erhältst du zwei Getränkebons. Trage dich unter diesem Link ein: Lukify – Kuchen Day Swing
URL:https://swingdanceevents.ch/event/tanzkeller-mit-liveband-coniglio-connection/
LOCATION:Sousol Luzern\, Baselstrasse 13\, Luzern\, Luzern\, 6003
CATEGORIES:DJ,LiveBand,Party,Socialdance,Teaster
ATTACH;FMTTYPE=image/jpeg:https://swingdanceevents.ch/wp-content/uploads/2024/04/Coniglio-1.jpg
ORGANIZER;CN="Footwork":MAILTO:info@footwork.ch
END:VEVENT
END:VCALENDAR