BEGIN:VCALENDAR
VERSION:2.0
PRODID:-//Swing Dance Events Switzerland - ECPv6.15.20//NONSGML v1.0//EN
CALSCALE:GREGORIAN
METHOD:PUBLISH
X-WR-CALNAME:Swing Dance Events Switzerland
X-ORIGINAL-URL:https://swingdanceevents.ch
X-WR-CALDESC:Veranstaltungen für Swing Dance Events Switzerland
REFRESH-INTERVAL;VALUE=DURATION:PT1H
X-Robots-Tag:noindex
X-PUBLISHED-TTL:PT1H
BEGIN:VTIMEZONE
TZID:Europe/Zurich
BEGIN:DAYLIGHT
TZOFFSETFROM:+0100
TZOFFSETTO:+0200
TZNAME:CEST
DTSTART:20240331T010000
END:DAYLIGHT
BEGIN:STANDARD
TZOFFSETFROM:+0200
TZOFFSETTO:+0100
TZNAME:CET
DTSTART:20241027T010000
END:STANDARD
BEGIN:DAYLIGHT
TZOFFSETFROM:+0100
TZOFFSETTO:+0200
TZNAME:CEST
DTSTART:20250330T010000
END:DAYLIGHT
BEGIN:STANDARD
TZOFFSETFROM:+0200
TZOFFSETTO:+0100
TZNAME:CET
DTSTART:20251026T010000
END:STANDARD
BEGIN:DAYLIGHT
TZOFFSETFROM:+0100
TZOFFSETTO:+0200
TZNAME:CEST
DTSTART:20260329T010000
END:DAYLIGHT
BEGIN:STANDARD
TZOFFSETFROM:+0200
TZOFFSETTO:+0100
TZNAME:CET
DTSTART:20261025T010000
END:STANDARD
END:VTIMEZONE
BEGIN:VEVENT
DTSTART;TZID=Europe/Zurich:20251028T190000
DTEND;TZID=Europe/Zurich:20251028T223000
DTSTAMP:20260422T024745
CREATED:20250827T152130Z
LAST-MODIFIED:20250827T152130Z
UID:10002890-1761678000-1761690600@swingdanceevents.ch
SUMMARY:Lindy Circle
DESCRIPTION:Für den Crashkurs (10.-) braucht es keine Anmeldung\, aber kommt frühzeitig\, denn die Plätze sind begrenzt. 19-20 Uhr: Lindy Hop Crashkurs \nAb 20 Uhr: Social Dance mit DJane Regula \n  \nWir danken dem OYA\, dass wir seit Jahren monatlich den tollen Tanzraum für unsere Social Dances nutzen dürfen!
URL:https://swingdanceevents.ch/event/lindy-circle-7/
LOCATION:ØYA BAR\, Schwertgasse 27\, St.Gallen\, SG\, 9000\, Switzerland
CATEGORIES:Crashcourse,DJ,Party
ATTACH;FMTTYPE=image/jpeg:https://swingdanceevents.ch/wp-content/uploads/2025/08/lindy-circle-1.jpg
END:VEVENT
BEGIN:VEVENT
DTSTART;TZID=Europe/Zurich:20251028T190000
DTEND;TZID=Europe/Zurich:20251028T233000
DTSTAMP:20260422T024745
CREATED:20251025T100719Z
LAST-MODIFIED:20251025T100919Z
UID:10002520-1761678000-1761694200@swingdanceevents.ch
SUMMARY:El Boge Swing Special Beatrice Neagu Class & The Monday Swing Live
DESCRIPTION:Der Dienstag El Boge Swing Social. \n7:00 – 8:15pm Special Class with Beatrice Neagu (B). All levels\, focused on intermediate. \n8:15 Social dance with The Monday Swing feat Valerio \nSave your spot in her class and don’t miss the party with The Monday Swing feat Valerio. Presale for class https://docs.google.com/forms/d/e/1FAIpQLSchMaRLpA5wIf8VIBTCaOM1slvZPMXf3sb6gXeRsK37JPQfEg/viewform?usp=dialog \n \nAbout Class:\n\nBeatrice is a Brussels-based dancer\, teacher & performer — ballet-schooled  contemporary/ballet/comedy -toured across Europe\, trained/mentored closely by legends Norma Miller and Chester Whitmore plus Dawn Hampton & HDC sessions. Founder of performance collectives in Brussels\, her hometown.\nHer vibe: sophisticated\, musical\, technical and empowering — perfect for brand-new dancers and seasoned movers alike. Above all\, she’s a free social dancer who teaches with rhythm\, presence\, and pure joy. \nBeatrice Neagu — performer\, choreographer\, anthropologist & storyteller.\nBrussels founder. Ballet (Bucharest)  Contemporary & acting (EU tours).\nMentored by Norma Miller & Chester Whitmore.\nStyle: big soul+clean technique . Social dancer first\, always.\nInterest &Passionate about Choreography & Performances/Gigs of the Vaudeville&BroadwayStyle \nLearn classic jazz moves\, bounce with the groove\, and feel free on the floor.\nI’m Beatrice — Brussels-born founder\, ballet roots (Bucharest)\, contemporary tours around EU\, acting chops\, and lucky to learn up close from Norma Miller & Chester Whitmore.\nMy classes = musical\, expressive\, and super welcoming — from absolute beginner to seasoned swing kid.\nGrab your dance buddy and let’s swing out! \nFor this Lindy Hop class Beatrice get paired with Marco Muetze. He learn up close from Chester Whitmore and have learned about and get knowing Beatrice from Chester.\n\nAbout Social\nGet ready for The Monday Swing once again! They’ve proven themselves masters of one thing: providing fantastic swinging music that creates an amazing party for dancers.\n\nThe Monday Swing featuring Valerio on Posune
URL:https://swingdanceevents.ch/event/el-boge-swing-social-classes-beginners-welcome-6-2-2-3-3-3-2-2-4-3-4-2-5-4-2-2-2-2-2-2-2-5-2-3-2-2-2-2-2-3-2/
LOCATION:El Social\, Viaduktstrasse 64\, Zürich\, ZH\, 8005\, Switzerland
CATEGORIES:Class,DJ,LiveBand,Party,Socialdance,Workshop
ATTACH;FMTTYPE=image/png:https://swingdanceevents.ch/wp-content/uploads/2025/10/EingangBogen2025_20251028_Tuesday_Beatricer.png
END:VEVENT
BEGIN:VEVENT
DTSTART;TZID=Europe/Zurich:20251029T201500
DTEND;TZID=Europe/Zurich:20251029T233000
DTSTAMP:20260422T024745
CREATED:20250706T163345Z
LAST-MODIFIED:20251125T153125Z
UID:10002694-1761768900-1761780600@swingdanceevents.ch
SUMMARY:Swing Cocktail
DESCRIPTION:Deine wöchentliche Portion Tanzglück \nAm Swing Cocktail verwöhnen wir Dich mit der besten Swing-Musik unserer grossartigen DJs\, laden regelmässig fabelhafte Bands ein und tanzen\, was das Zeug hält. Komm und swing mit uns\, probier neugelernte Moves aus\, plaudere mit Deinen Freund:innen und geniess die entspannte Atmosphäre – jeden Mittwoch in der schmucken Archbar direkt am Hauptbahnhof Winterthur. \nSocial Dance 20:15–23:30\nEintritt CHF 10.- / 5.- (Legi) // bei Liveband Hutkollekte (Empfehlung CHF 15-20.-) \nÜber DJs\, Bands und weitere Specials informieren wir Dich auf Instagram\, Facebook und WhatsApp.
URL:https://swingdanceevents.ch/event/swing-cocktail-21/2025-10-29/
LOCATION:Archbar\, Archstrasse 2\, Winterthur\, 8400\, Switzerland
CATEGORIES:DJ,Socialdance
ATTACH;FMTTYPE=image/jpeg:https://swingdanceevents.ch/wp-content/uploads/2025/07/SC_Quadrat_klein.jpg
ORGANIZER;CN="Swingscouts%2C Winterthur":MAILTO:info@swingscouts.ch
END:VEVENT
BEGIN:VEVENT
DTSTART;TZID=Europe/Zurich:20251030T190000
DTEND;TZID=Europe/Zurich:20251030T235500
DTSTAMP:20260422T024745
CREATED:20250827T152538Z
LAST-MODIFIED:20250827T152538Z
UID:10002891-1761850800-1761868500@swingdanceevents.ch
SUMMARY:Swing in der Stuhlfabrik
DESCRIPTION:Der Abend startet schwungvoll mit einem offenen Crashkurs für alle Tanzfreudigen – angeleitet von den mitreissenden Sitterbugs. Ideal für Einsteigerinnen\, Einsteiger und alle\, die einfach mal reinschnuppern möchten! \nAnschliessend heizt der Bouncy Rhythm Club mit einer energiegeladenen Live-Performance die Stimmung richtig ein – tanzbar\, mitreissend und voller Swing-Groove. \nNur Mut – es wird locker\, lustig und lebendig!\nOb allein oder zu zweit: Alle sind herzlich willkommen! \nTüröffnung: \n19.00 Uhr
URL:https://swingdanceevents.ch/event/swing-in-der-stuhlfabrik/
LOCATION:Theater Stuhlfabrik Herisau\, Kasernenstrasse 39A\, Herisau\, 9100\, Switzerland
CATEGORIES:Crashcourse,LiveBand,Party
ATTACH;FMTTYPE=image/jpeg:https://swingdanceevents.ch/wp-content/uploads/2025/08/stuhlfabrik.jpg
END:VEVENT
BEGIN:VEVENT
DTSTART;TZID=Europe/Zurich:20251030T200000
DTEND;TZID=Europe/Zurich:20251030T233000
DTSTAMP:20260422T024745
CREATED:20251027T172446Z
LAST-MODIFIED:20251029T073550Z
UID:10002948-1761854400-1761867000@swingdanceevents.ch
SUMMARY:Thursty Bounce! Socialdance & Workshop class (walk in\, no sign up)
DESCRIPTION:Euer neuer Social in Zürich. Wir treffen uns erstmalig am Donnerstag Abend im Winter um kollektiv mit Tanzen den fehlenden Bürklihop zu kompensieren. \nam 30. Oktober DJ-Night & Workshop Class\, am 06. November Live Band The Monday Swing. \nWorkshop Class am 30 Oktober mit 7-8 with Beatrice Neagu (B) partnered mit Marco Muetze. \nBeatrice is a Brussels-based dancer\, teacher & performer — ballet-schooled contemporary/ballet/comedy -toured across Europe\, trained/mentored closely by legends Norma Miller and Chester Whitmore plus Dawn Hampton & HDC sessions. Founder of performance collectives in Brussels\, her hometown.Her vibe: sophisticated\, musical\, technical and empowering — perfect for brand-new dancers and seasoned movers alike. Above all\, she’s a free social dancer who teaches with rhythm\, presence\, and pure joy.Beatrice Neagu — performer\, choreographer\, anthropologist & storyteller.Brussels founder. Ballet (Bucharest) Contemporary & acting (EU tours).Mentored by Norma Miller & Chester Whitmore.Style: big soul+clean technique . Social dancer first\, always.Interest &Passionate about Choreography & Performances/Gigs of the Vaudeville&BroadwayStyle Learn classic jazz moves\, bounce with the groove\, and feel free on the floor.I’m Beatrice — Brussels-born founder\, ballet roots (Bucharest)\, contemporary tours around EU\, acting chops\, and lucky to learn up close from Norma Miller & Chester Whitmore.My classes = musical\, expressive\, and super welcoming — from absolute beginner to seasoned swing kid.Grab your dance buddy and let’s swing out! \n  \n 
URL:https://swingdanceevents.ch/event/thursty-bounce-3/
LOCATION:IFMZ Zürich\, Zeughausstrasse 56\, Zürich\, Zürich\, 8004\, Switzerland
CATEGORIES:Class,DJ,LiveBand,Party,Socialdance
ATTACH;FMTTYPE=image/png:https://swingdanceevents.ch/wp-content/uploads/2025/10/30Okt.png
END:VEVENT
BEGIN:VEVENT
DTSTART;TZID=Europe/Zurich:20251031T193000
DTEND;TZID=Europe/Zurich:20251101T010000
DTSTAMP:20260422T024745
CREATED:20251022T191705Z
LAST-MODIFIED:20251022T191705Z
UID:10002949-1761939000-1761958800@swingdanceevents.ch
SUMMARY:Halloween Twist it! (inklusive Anfänger Crash-Kurs Boogie)
DESCRIPTION:Am Freitag wird es gruslig bei den Crazy Shakers. Wir rufen alle Geister\, Hexen und Zombies zu uns auf die Tanzfläche.\nIhr habt noch ein Zombie-Gspändli\, dass gern Boogie lernen möchte? Perfekt bring es mit zum gratis Crashkurs (keine Anmeldung erforderlich).Du kommst auch noch verkleidet? Dann springt für dich ein Willkommens-Drink an der Bar raus.\nEinlass Crashkurs ab 19:30\nStart Social Dance Party ab 20:15
URL:https://swingdanceevents.ch/event/halloween-twist-it-inklusive-anfaenger-crash-kurs-boogie/
LOCATION:Club Silbando\, Förrlibuckstrasse 62\, Zürich\, ZH\, 8005\, Switzerland
CATEGORIES:Crashcourse,DJ,Party,Socialdance
ATTACH;FMTTYPE=image/jpeg:https://swingdanceevents.ch/wp-content/uploads/2025/10/HalloweenTwistit2025.jpeg
END:VEVENT
BEGIN:VEVENT
DTSTART;TZID=Europe/Zurich:20251031T204500
DTEND;TZID=Europe/Zurich:20251031T235900
DTSTAMP:20260422T024745
CREATED:20250811T114709Z
LAST-MODIFIED:20250902T084517Z
UID:10002859-1761943500-1761955140@swingdanceevents.ch
SUMMARY:Social Dance -Live Band – Free Crash course – 31.10.25
DESCRIPTION:Whether you’ve been dancing for a month or have never tried Lindy Hop before\, everyone is welcome! Social dance is a place where you can try new things\, meet people\, dance comfortably or wildly\, watch\, listen\, or just spend time with your friends. We are happy to have you and this time\, we’ve got a live band. \nFree Crash Course: 20:15 – 20:45Door Opening: 20:45Entrance: 20.- / 10.- \nImportant: \nBefore attending our event\, please check our homepage to ensure you have the latest information. \nIf you are with us for the first time\, you have to register as an association member (one-time\, free of charge and without obligations) \nTo make sure that everyone feels comfortable\, we have the following Code of Conduct (view).
URL:https://swingdanceevents.ch/event/social-dance-live-band-free-crash-course-31-10-25/
LOCATION:Ella’s Fellas NEU\, Hohlstrasse 192\, Zürich\, 8004\, Switzerland
ATTACH;FMTTYPE=image/png:https://swingdanceevents.ch/wp-content/uploads/2025/08/Kurse-Facebook-Post.png
ORGANIZER;CN="Ella's Fellas":MAILTO:info@ellasfellas.ch
END:VEVENT
BEGIN:VEVENT
DTSTART;VALUE=DATE:20251101
DTEND;VALUE=DATE:20251104
DTSTAMP:20260422T024745
CREATED:20250914T095650Z
LAST-MODIFIED:20250914T095650Z
UID:10002911-1761973200-1762145999@swingdanceevents.ch
SUMMARY:Slow Bal Workshop
DESCRIPTION:3 Levels\, 2 Partys\, 1 famoses Teacherpaar – und ganz viele Slow-Bal-Vibes! 🔥\nOb Du seit Langem leidenschaftlich dabei bist oder Deine ersten Schritte wagst\, dieses Wochenende wird dafür sorgen\, dass Du Dich (noch mehr) in Slow Balboa verliebst. \n🔥 Basic · Intermediate · Advanced (jede Lektion ist einzeln buch- und kombinierbar!)\n🔥 bis zu 9h Unterricht\n🔥 Teachers: Jutta & Stefan Peschke (DE)\n🔥 Party mit The Monday Swing in der Alten Kaserne\n🔥 Bye-Bye-Party am Sonntag \nDetails und Anmeldung: www.slowbal.ch oder www.swingscouts.ch.
URL:https://swingdanceevents.ch/event/slow-bal-workshop/
LOCATION:Swingstation\, Rudolfstrasse 15\, Winterthur\, Zürich\, 8400\, Switzerland
CATEGORIES:Class,LiveBand,Party,Workshop
ATTACH;FMTTYPE=image/png:https://swingdanceevents.ch/wp-content/uploads/2025/09/Slow.png
ORGANIZER;CN="Swingscouts%2C Winterthur":MAILTO:info@swingscouts.ch
END:VEVENT
BEGIN:VEVENT
DTSTART;TZID=Europe/Zurich:20251101T150000
DTEND;TZID=Europe/Zurich:20251101T170000
DTSTAMP:20260422T024745
CREATED:20251028T222322Z
LAST-MODIFIED:20251028T222322Z
UID:10002953-1762009200-1762016400@swingdanceevents.ch
SUMMARY:Swing Practice Session
DESCRIPTION:DANCE 💃 PRACTICE 🕺 REPEAT \n🔥  Pack deine Trainingskleider ein\n🔥  Socialise mit anderen Kursteilnehmer*innen\n🔥  Bring deine Tanz Skills in entspannter Atmosphäre auf das nächste Level \nSonntag\, 26. Oktober 2025 | 15:00 – 17:00\nDowntownswing Studio | Hohlstrasse 86a\, 8004 Zürich\n→ Weitere Details \nInteressiert? 👉 Join us! • Keine Anmeldung erforderlich\nUnkostenbeitrag: 5.- pro Person\, cash only \nNächste Daten:  Sa\, 1. Nov • Sa\, 8. Nov 2025
URL:https://swingdanceevents.ch/event/swing-practice-session-5/2025-11-01/
LOCATION:Tanzstudio DOWNTOWNSWING\, Hohlstrasse 86a\, Zürich\, ZH\, 8004\, Switzerland
CATEGORIES:practica/opentraning
ATTACH;FMTTYPE=image/jpeg:https://swingdanceevents.ch/wp-content/uploads/2025/10/swing-practice-session-.jpg
ORGANIZER;CN="Downtownswing":MAILTO:info@downtownswing.ch
END:VEVENT
BEGIN:VEVENT
DTSTART;TZID=Europe/Zurich:20251101T160000
DTEND;TZID=Europe/Zurich:20251101T190000
DTSTAMP:20260422T024745
CREATED:20250914T203144Z
LAST-MODIFIED:20251016T140323Z
UID:10002915-1762012800-1762023600@swingdanceevents.ch
SUMMARY:Tea Time Swing
DESCRIPTION:Tea Time Swing mit auserlesenem Tee\, feinem Kuchen und Swing Musik zum Tanzen.\nNeu: an zwei Samstagen pro Monat\, von 16:00 bis 19:00 Uhr. \nMusik:\nDJ lil’roquette\nDJ Phatt D \nEintritt:\nCHF 10.- \nKuchen backen:\nUnterstütze uns mit einem Kuchen und erhalte einen Eintritt\, dazu Tee & Kuchen. \nMitmachen:\nHilf uns beim Kuchen- und Teeverkauf oder an der Eintrittskasse und erhalte freien Eintritt. Melde dich unter:\nportal.helfereinsatz.ch/teatimeswing
URL:https://swingdanceevents.ch/event/tea-time-swing/
LOCATION:Bananenreiferei\, Pfingstweidstrasse 101\, Zürich\, 8005
CATEGORIES:DJ,Party,Socialdance
ATTACH;FMTTYPE=image/png:https://swingdanceevents.ch/wp-content/uploads/2025/09/20251101_tts_web_high_1920_1080.png
ORGANIZER;CN="TeaTimeSwing by Lindy and More":MAILTO:teatimeswing@gmx.ch
END:VEVENT
BEGIN:VEVENT
DTSTART;TZID=Europe/Zurich:20251101T201500
DTEND;TZID=Europe/Zurich:20251102T010000
DTSTAMP:20260422T024745
CREATED:20250916T161119Z
LAST-MODIFIED:20250930T071634Z
UID:10002929-1762028100-1762045200@swingdanceevents.ch
SUMMARY:Let’s Swing Lindy Hop Party Vol.37
DESCRIPTION:Lindyhop Party OHNE Crash Kurs powered by The Spotted Cat’s \nin der Aula vom KV Zürich \nLimmatstrasse 310\, 8005 Zürich
URL:https://swingdanceevents.ch/event/lets-swing-lindy-hop-party-vol-37/
LOCATION:AULA KV Zürich\, Limmatstrasse 310\, Zürich\, Zürich\, 8005\, Switzerland
CATEGORIES:DJ,Party
ATTACH;FMTTYPE=image/jpeg:https://swingdanceevents.ch/wp-content/uploads/2025/09/Flyer-Lindy-Vol-37.jpeg
END:VEVENT
END:VCALENDAR