BEGIN:VCALENDAR
VERSION:2.0
PRODID:-//Swing Dance Events Switzerland - ECPv6.15.20//NONSGML v1.0//EN
CALSCALE:GREGORIAN
METHOD:PUBLISH
X-WR-CALNAME:Swing Dance Events Switzerland
X-ORIGINAL-URL:https://swingdanceevents.ch
X-WR-CALDESC:Veranstaltungen für Swing Dance Events Switzerland
REFRESH-INTERVAL;VALUE=DURATION:PT1H
X-Robots-Tag:noindex
X-PUBLISHED-TTL:PT1H
BEGIN:VTIMEZONE
TZID:Europe/Zurich
BEGIN:DAYLIGHT
TZOFFSETFROM:+0100
TZOFFSETTO:+0200
TZNAME:CEST
DTSTART:20240331T010000
END:DAYLIGHT
BEGIN:STANDARD
TZOFFSETFROM:+0200
TZOFFSETTO:+0100
TZNAME:CET
DTSTART:20241027T010000
END:STANDARD
BEGIN:DAYLIGHT
TZOFFSETFROM:+0100
TZOFFSETTO:+0200
TZNAME:CEST
DTSTART:20250330T010000
END:DAYLIGHT
BEGIN:STANDARD
TZOFFSETFROM:+0200
TZOFFSETTO:+0100
TZNAME:CET
DTSTART:20251026T010000
END:STANDARD
BEGIN:DAYLIGHT
TZOFFSETFROM:+0100
TZOFFSETTO:+0200
TZNAME:CEST
DTSTART:20260329T010000
END:DAYLIGHT
BEGIN:STANDARD
TZOFFSETFROM:+0200
TZOFFSETTO:+0100
TZNAME:CET
DTSTART:20261025T010000
END:STANDARD
END:VTIMEZONE
BEGIN:VEVENT
DTSTART;TZID=Europe/Zurich:20251117T190000
DTEND;TZID=Europe/Zurich:20251117T230000
DTSTAMP:20260422T003214
CREATED:20250523T152311Z
LAST-MODIFIED:20250523T152311Z
UID:10002664-1763406000-1763420400@swingdanceevents.ch
SUMMARY:Monday Blues
DESCRIPTION:Got the Monday Blues? Wir haben deine Medizin. \nMonday Blues mit traditioneller Bluesmusik. \n\n\nMit der Live-Jamsession wird der Anlass einmal mehr zum Begegnungsort zwischen Musizierenden und Tanzenden. Bring dein Instrument und/oder deine Füsse mit und zelebriere mit uns den Monday Blues.
URL:https://swingdanceevents.ch/event/monday-blues-2/2025-11-17/
LOCATION:Mahogany Hall\, Klosterlistutz 18\, 3000 Bern
CATEGORIES:Crashcourse,Socialdance
ATTACH;FMTTYPE=image/jpeg:https://swingdanceevents.ch/wp-content/uploads/2025/05/Monday-Blues.jpeg
ORGANIZER;CN="Blues Dance Bern":MAILTO:info@be-bluesed.ch
END:VEVENT
BEGIN:VEVENT
DTSTART;TZID=Europe/Zurich:20251118T190000
DTEND;TZID=Europe/Zurich:20251118T233000
DTSTAMP:20260422T003214
CREATED:20251117T062907Z
LAST-MODIFIED:20251117T062908Z
UID:10002523-1763492400-1763508600@swingdanceevents.ch
SUMMARY:El Boge Swing Social & Classes (beginners welcome)
DESCRIPTION:Der Dienstag El Boge Swing Social. \n\n20.15 – 23:30 Socialdance mit DJ (Fr.10.-\, 5.- für Teilnehmer Klasse)\nLindy Hop Klassen \n\n19:00 – 19:30 free Lindy CrashCourse\n19:30 – 20:15 Lindy 1 walk in class Fr.20.- (just walk in\, kein Partner notwendig).\nTeachers: Marco & Alina\, Julio & Simone\, Matej\, Eike\n\n\nSoloJazz / Jazzroots\n\non break\n\n\n\nAlle Klassen benötigen keine Anmeldung. Kommt einfach vorbei auf den Klassenstart.
URL:https://swingdanceevents.ch/event/el-boge-swing-social-classes-beginners-welcome-6-2-2-3-3-3-2-2-4-3-4-2-5-4-2-2-2-2-2-2-2-5-2-3-2-2-2-2-2-3-4-2/
LOCATION:El Social\, Viaduktstrasse 64\, Zürich\, ZH\, 8005\, Switzerland
CATEGORIES:Class,Crashcourse,DJ,Party,Socialdance
ATTACH;FMTTYPE=image/png:https://swingdanceevents.ch/wp-content/uploads/2025/11/FlyerBogen2025_Tuesday_20251118.png
END:VEVENT
BEGIN:VEVENT
DTSTART;TZID=Europe/Zurich:20251119T201500
DTEND;TZID=Europe/Zurich:20251119T233000
DTSTAMP:20260422T003214
CREATED:20250706T163345Z
LAST-MODIFIED:20251125T153125Z
UID:10002697-1763583300-1763595000@swingdanceevents.ch
SUMMARY:Swing Cocktail
DESCRIPTION:Deine wöchentliche Portion Tanzglück \nAm Swing Cocktail verwöhnen wir Dich mit der besten Swing-Musik unserer grossartigen DJs\, laden regelmässig fabelhafte Bands ein und tanzen\, was das Zeug hält. Komm und swing mit uns\, probier neugelernte Moves aus\, plaudere mit Deinen Freund:innen und geniess die entspannte Atmosphäre – jeden Mittwoch in der schmucken Archbar direkt am Hauptbahnhof Winterthur. \nSocial Dance 20:15–23:30\nEintritt CHF 10.- / 5.- (Legi) // bei Liveband Hutkollekte (Empfehlung CHF 15-20.-) \nÜber DJs\, Bands und weitere Specials informieren wir Dich auf Instagram\, Facebook und WhatsApp.
URL:https://swingdanceevents.ch/event/swing-cocktail-21/2025-11-19/
LOCATION:Archbar\, Archstrasse 2\, Winterthur\, 8400\, Switzerland
CATEGORIES:DJ,Socialdance
ATTACH;FMTTYPE=image/jpeg:https://swingdanceevents.ch/wp-content/uploads/2025/07/SC_Quadrat_klein.jpg
ORGANIZER;CN="Swingscouts%2C Winterthur":MAILTO:info@swingscouts.ch
END:VEVENT
BEGIN:VEVENT
DTSTART;VALUE=DATE:20251121
DTEND;VALUE=DATE:20251126
DTSTAMP:20260422T003214
CREATED:20250714T152719Z
LAST-MODIFIED:20250714T153000Z
UID:10002824-1763701200-1764046799@swingdanceevents.ch
SUMMARY:Stir it! 2025
DESCRIPTION:Teachers: \nDaniil & Maria (https://youtu.be/Hd1zlYzPgjc) \nJacek und Konrad (https://youtu.be/LwoREub7k34\, https://youtu.be/SbZUnp9wC94) \nTadas und Pamela (https://youtu.be/Om4LSRhp9Dw) \nKarl (Solo) (https://youtu.be/WXanJoOAvHU) \nBriana (Stepping\, Body Percussion\, Rhythm in Play) (https://youtu.be/d5hKHOMYlL0) \nArnas & Egle (https://youtu.be/vu7r9E3zfJs) \nInes & Dani (Boogie Woogie) (https://youtu.be/ubr4Qi_JCBU) \nBands: \nHot Sugar Band (https://youtu.be/U24WGUmkFHE) \nChicago Swing Collective (https://youtu.be/mp6-8UGH87I) \nThe Sheiks (Workshop Band) (https://youtu.be/h6MtP94u2c4) \nAlle weiteren Infos findet ihr auf unserer Website www.stirit.ch und auf social media Instagram_stirit.
URL:https://swingdanceevents.ch/event/stir-it-2025/
LOCATION:Tanzwerk 101\, Pfingstweidstrasse 101\, Zürich\, Zürich\, 8005\, Switzerland
CATEGORIES:Festival,LiveBand,Party,Workshop
ATTACH;FMTTYPE=image/jpeg:https://swingdanceevents.ch/wp-content/uploads/2025/07/ec82784e-3cbb-4d05-a9d6-4d4d7b6d47ff.jpg
END:VEVENT
BEGIN:VEVENT
DTSTART;TZID=Europe/Zurich:20251121T203000
DTEND;TZID=Europe/Zurich:20251122T000000
DTSTAMP:20260422T003214
CREATED:20251021T132955Z
LAST-MODIFIED:20251021T133356Z
UID:10002940-1763757000-1763769600@swingdanceevents.ch
SUMMARY:Swing im Sousol
DESCRIPTION:20.30 – 24.00 mit Djane Shake’n’Bake \n  \n* * * Wir freuen uns auf TänzerInnen von nah und fern!! * * * \n  \nAnreise: \nZu Fuss: 10 min. vom Bahnhof Luzern \nMit dem Auto: Parkhaus Altstadt ist vis à vis vom Sousol \nMit ÖV: Bus 2\, 5\, 12 bis Kasernenplatz \n  \nSousol\, Baselstrasse 13\, Luzern \nEintritt: 7 Fr. (kostenlos für Teilnehmende der aktuellen Kursreihe) \n  \nwww.triplestep.ch
URL:https://swingdanceevents.ch/event/swing-im-sousol-27/
LOCATION:Sousol Luzern\, Baselstrasse 13\, Luzern\, Luzern\, 6003
CATEGORIES:Socialdance
ATTACH;FMTTYPE=image/jpeg:https://swingdanceevents.ch/wp-content/uploads/2025/10/sousol25okt2-4_5-4-scaled.jpg
ORGANIZER;CN="Triplestep":MAILTO:kontakt@triplestep.ch
END:VEVENT
BEGIN:VEVENT
DTSTART;TZID=Europe/Zurich:20251122T110000
DTEND;TZID=Europe/Zurich:20251122T133000
DTSTAMP:20260422T003214
CREATED:20250902T092837Z
LAST-MODIFIED:20250902T092837Z
UID:10002907-1763809200-1763818200@swingdanceevents.ch
SUMMARY:Aerial Workshop
DESCRIPTION:Date: 22.11.2025     Time: 11:00-13:30    Price: 70.-/45.-CHF (reduced) \nJoin us for our next aerial workshop with Fabienne and Luciano! In this session\, you’ll learn three different airsteps. We will build up each figure step by step and show you how to safely spot each other. No prior aerial experience is necessary\, but you should be familiar with the basic steps of Lindy Hop. \nYou’ll need to sign up with a fixed partner as we won’t be rotating partners during this class. Please wear comfortable clothing and shoes that allow you to move freely\, flip\, and get down on the ground.
URL:https://swingdanceevents.ch/event/aerial-workshop-8/
LOCATION:Ella’s Fellas\, Hohlstrasse 192\, Zürich\, 8004\, Switzerland
ATTACH;FMTTYPE=image/png:https://swingdanceevents.ch/wp-content/uploads/2025/09/Workshops-3.png
ORGANIZER;CN="Ella's Fellas":MAILTO:info@ellasfellas.ch
END:VEVENT
BEGIN:VEVENT
DTSTART;TZID=Europe/Zurich:20251123T154500
DTEND;TZID=Europe/Zurich:20251123T190000
DTSTAMP:20260422T003214
CREATED:20250124T213926Z
LAST-MODIFIED:20251119T151729Z
UID:10002478-1763912700-1763924400@swingdanceevents.ch
SUMMARY:shake’n’cake – die Boogie-Woogie Tanzparty der Crazy Shakers\, Zürich (mit einem Swing-Crashkurs)
DESCRIPTION:shake’n’cake – die Boogie-Woogie Tanzparty der Crazy Shakers\, Zürich. \nMit einem Crashkurs ‘a piece of cake’ mit wechselnden Themen aus dem Bereich der Swingtänze. Vorkenntnisse sind nicht erforderlich. \nWann?\n15:45-16:30: Crashkurs ‘a piece of cake’ (5 CHF) / 16:30-19:00: Party (10 CHF) \nWo?\nClub Silbando\, Förrlibuckstrasse 62\, CH-8005 Zürich (Richtung Eingang Swisscom gehen; auf der linken Seite der ‘Terrasse’ ist eine Tür mit Schild ‘Silbando’\, dann in den 1. Stock.) \nWie?\nÖV: Hardturmstrasse; Parkieren: Am besten im Parkhaus Züri West an der Förrlibuckstrasse 151 \nWarum?\nBoogie lernen – Boogie tanzen – Spass haben… Der Cake\, immer lecker\, immer neu – überraschen lassen. Und natürlich\, Kaffee\, Tee und andere gute Getränke. Ein Angebot\, dass du nicht ablehnen kannst…
URL:https://swingdanceevents.ch/event/shakencake-die-boogie-woogie-tanzparty-der-crazy-shakers-zuerich-mit-einem-swing-crashkurs/
LOCATION:Club Silbando\, Förrlibuckstrasse 62\, Zürich\, ZH\, 8005\, Switzerland
CATEGORIES:Crashcourse,DJ,Party,Socialdance
ATTACH;FMTTYPE=image/png:https://swingdanceevents.ch/wp-content/uploads/2025/01/Crazy_Shakers_Logo_white-3.png
END:VEVENT
BEGIN:VEVENT
DTSTART;TZID=Europe/Zurich:20251123T190000
DTEND;TZID=Europe/Zurich:20251123T220000
DTSTAMP:20260422T003214
CREATED:20240424T120331Z
LAST-MODIFIED:20250218T085423Z
UID:10002565-1763924400-1763935200@swingdanceevents.ch
SUMMARY:Swingin’around@Bourbaki
DESCRIPTION:Swing-Party im Bourbaki in Luzern.
URL:https://swingdanceevents.ch/event/swinginaroundbourbaki/2025-11-23/
LOCATION:Bourbaki Luzern\, Löwenplatz 1\, Luzern\, Luzern\, 6004\, Switzerland
CATEGORIES:DJ,Party,Socialdance
ATTACH;FMTTYPE=image/jpeg:https://swingdanceevents.ch/wp-content/uploads/2024/04/Bourbaki.jpg
ORGANIZER;CN="Footwork":MAILTO:info@footwork.ch
END:VEVENT
END:VCALENDAR