BEGIN:VCALENDAR
VERSION:2.0
PRODID:-//Swing Dance Events Switzerland - ECPv6.15.20//NONSGML v1.0//EN
CALSCALE:GREGORIAN
METHOD:PUBLISH
X-WR-CALNAME:Swing Dance Events Switzerland
X-ORIGINAL-URL:https://swingdanceevents.ch
X-WR-CALDESC:Veranstaltungen für Swing Dance Events Switzerland
REFRESH-INTERVAL;VALUE=DURATION:PT1H
X-Robots-Tag:noindex
X-PUBLISHED-TTL:PT1H
BEGIN:VTIMEZONE
TZID:Europe/Zurich
BEGIN:DAYLIGHT
TZOFFSETFROM:+0100
TZOFFSETTO:+0200
TZNAME:CEST
DTSTART:20240331T010000
END:DAYLIGHT
BEGIN:STANDARD
TZOFFSETFROM:+0200
TZOFFSETTO:+0100
TZNAME:CET
DTSTART:20241027T010000
END:STANDARD
BEGIN:DAYLIGHT
TZOFFSETFROM:+0100
TZOFFSETTO:+0200
TZNAME:CEST
DTSTART:20250330T010000
END:DAYLIGHT
BEGIN:STANDARD
TZOFFSETFROM:+0200
TZOFFSETTO:+0100
TZNAME:CET
DTSTART:20251026T010000
END:STANDARD
BEGIN:DAYLIGHT
TZOFFSETFROM:+0100
TZOFFSETTO:+0200
TZNAME:CEST
DTSTART:20260329T010000
END:DAYLIGHT
BEGIN:STANDARD
TZOFFSETFROM:+0200
TZOFFSETTO:+0100
TZNAME:CET
DTSTART:20261025T010000
END:STANDARD
END:VTIMEZONE
BEGIN:VEVENT
DTSTART;VALUE=DATE:20251128
DTEND;VALUE=DATE:20251202
DTSTAMP:20260424T181354
CREATED:20250423T083741Z
LAST-MODIFIED:20250423T083741Z
UID:10002629-1764306000-1764565199@swingdanceevents.ch
SUMMARY:Swingscouts im Kurhaus Bergün
DESCRIPTION:Dieses Jahr ist es wieder so weit: Die Swingscouts laden ins Kurhaus Bergün ein. \nVom 28. bis zum 30. November 2025 verwandelt sich das wunderschöne historische Hotel aus der Jugendstilzeit erneut in einen Hotspot für Lindy Hop\, Balboa und Shag. Drei Tage voller Rhythmus\, Energie und unvergesslicher Tanzmomente erwarten dich. \nLive on Stage: Heart of Dixie (CZ)\nDas 9-köpfige Orchester aus der lebendigen Swing-Community in Brünn (CZ) hat sich auf Lindy Hop- und Balboa-Veranstaltungen spezialisiert. Die Formation begann als kleine Dixieland-Band\, entwickelte sich aber zu einem Kollektiv\, das den Sound von Count Basie und anderen berühmten Big Bands aus der ursprünglichen Swing-Tanzära einfangen möchte. Alle Mitglieder sind professionelle Jazzmusiker mit tiefer Liebe und Verständnis für den Groove\, der nötig ist\, um Menschen zum Tanzen und Pulsieren zu bringen. Sie fühlen sich auf einer grossen Bühne mit einem Ballsaal voller Tänzer am wohlsten und sind immer bereit\, die ganze Nacht durchzugrooven. \nDas Sahnehäubchen für das Wochenende in Bergün ist das neueste Vollzeitmitglied\, die Schweizer Jazzsängerin Géraldine Schnyder\, die mit brandneuen\, massgeschneiderten Arrangements im Stil von Ella Mae Morse zu hören sein wird.
URL:https://swingdanceevents.ch/event/swingscouts-im-kurhaus-berguen/
LOCATION:Kurhaus Bergün\, Puez 112\, Bergün\, Graubünden\, 7482\, Switzerland
ATTACH;FMTTYPE=image/jpeg:https://swingdanceevents.ch/wp-content/uploads/2025/04/Titel_Swingscouts@Berguen.jpg
ORGANIZER;CN="Swingscouts%2C Winterthur":MAILTO:info@swingscouts.ch
END:VEVENT
BEGIN:VEVENT
DTSTART;TZID=Europe/Zurich:20251202T193000
DTEND;TZID=Europe/Zurich:20251202T233000
DTSTAMP:20260424T181354
CREATED:20251117T065038Z
LAST-MODIFIED:20251125T183041Z
UID:10002525-1764703800-1764718200@swingdanceevents.ch
SUMMARY:El Boge Swing LIVE THE SHEIKS & Classes (beginners welcome)
DESCRIPTION:Der Dienstag El Boge Swing Social. \n\n20.15 – 23:30 Socialdance mit den SHEIKS (Fr.25.-\, 20.- für Teilnehmer Klasse)\nLindy Hop Klassen \n\n19:30 – 20:15 Lindy 1 walk in class Fr.20.- (just walk in\, kein Partner notwendig).\nTeachers: Marco & Alina\, Julio & Simone\, Matej\, Eik\nAlle Klassen benötigen keine Anmeldung. Kommt einfach vorbei auf den Klassenstart.\n\n\n\nThe Sheiks – Swingful Joy!\nDie sechs Musiker haben sich vom Jazz der Anfänge berauschen lassen\, torkeln durch zeitloses Hitmaterial und galoppieren auf prächtigen Eigenkompositionen davon.\nPräsentiert wird dies mit durchschlagender Spielfreude und einer frischen Brise Dada\, dass man meint\, die röhrenden 20er hätten gerade erst begonnen.\nValerio Lepori – Posaune & StimmeRoger Greipl – Sax & StummeBenjamin Danech – Trompete & StimmeTobias Künzli – Klavier & StimmeJonas Künzli – Bass & StimmeFlavio Viazzolli – Schlagzeug & Stimme
URL:https://swingdanceevents.ch/event/el-boge-swing-social-classes-beginners-welcome-6-2-2-3-3-3-2-2-4-3-4-2-5-4-2-2-2-2-2-2-2-5-2-3-2-2-2-2-2-3-4-3/
LOCATION:El Social\, Viaduktstrasse 64\, Zürich\, ZH\, 8005\, Switzerland
CATEGORIES:Class,Crashcourse,DJ,LiveBand,Party,Socialdance
ATTACH;FMTTYPE=image/png:https://swingdanceevents.ch/wp-content/uploads/2025/11/FlyerBogen2025_Tuesday_LiveBand_20251202-1.png
END:VEVENT
BEGIN:VEVENT
DTSTART;TZID=Europe/Zurich:20251203T201500
DTEND;TZID=Europe/Zurich:20251203T233000
DTSTAMP:20260424T181354
CREATED:20250706T163345Z
LAST-MODIFIED:20251125T153125Z
UID:10002699-1764792900-1764804600@swingdanceevents.ch
SUMMARY:Swing Cocktail
DESCRIPTION:Deine wöchentliche Portion Tanzglück \nAm Swing Cocktail verwöhnen wir Dich mit der besten Swing-Musik unserer grossartigen DJs\, laden regelmässig fabelhafte Bands ein und tanzen\, was das Zeug hält. Komm und swing mit uns\, probier neugelernte Moves aus\, plaudere mit Deinen Freund:innen und geniess die entspannte Atmosphäre – jeden Mittwoch in der schmucken Archbar direkt am Hauptbahnhof Winterthur. \nSocial Dance 20:15–23:30\nEintritt CHF 10.- / 5.- (Legi) // bei Liveband Hutkollekte (Empfehlung CHF 15-20.-) \nÜber DJs\, Bands und weitere Specials informieren wir Dich auf Instagram\, Facebook und WhatsApp.
URL:https://swingdanceevents.ch/event/swing-cocktail-21/2025-12-03/
LOCATION:Archbar\, Archstrasse 2\, Winterthur\, 8400\, Switzerland
CATEGORIES:DJ,Socialdance
ATTACH;FMTTYPE=image/jpeg:https://swingdanceevents.ch/wp-content/uploads/2025/07/SC_Quadrat_klein.jpg
ORGANIZER;CN="Swingscouts%2C Winterthur":MAILTO:info@swingscouts.ch
END:VEVENT
BEGIN:VEVENT
DTSTART;TZID=Europe/Zurich:20251205T204500
DTEND;TZID=Europe/Zurich:20251205T235900
DTSTAMP:20260424T181354
CREATED:20250902T093335Z
LAST-MODIFIED:20250902T093335Z
UID:10002909-1764967500-1764979140@swingdanceevents.ch
SUMMARY:Social Dance – Live Band – Free Crash course – 05.12.25
DESCRIPTION:Whether you’ve been dancing for a month or have never tried Lindy Hop before\, everyone is welcome! Social dance is a place where you can try new things\, meet people\, dance comfortably or wildly\, watch\, listen\, or just spend time with your friends. We are happy to have you! \nFree Crash Course: 20:15 – 20:45 \nDoor Opening: 20:45 \nEntrance: 20.-/ 10.- CHF \nImportant: \nIf you are with us for the first time\, you have to register as an association member (one-time\, free of charge and without obligations) \nTo make sure that everyone feels comfortable\, we have the following Code of Conduct (view).
URL:https://swingdanceevents.ch/event/social-dance-live-band-free-crash-course-05-12-25-5/
LOCATION:Ella’s Fellas\, Hohlstrasse 192\, Zürich\, 8004\, Switzerland
ATTACH;FMTTYPE=image/jpeg:https://swingdanceevents.ch/wp-content/uploads/2025/09/social-dance-rent-room-2-1.jpg
ORGANIZER;CN="Ella's Fellas":MAILTO:info@ellasfellas.ch
END:VEVENT
BEGIN:VEVENT
DTSTART;TZID=Europe/Zurich:20251206T080000
DTEND;TZID=Europe/Zurich:20251206T170000
DTSTAMP:20260424T181354
CREATED:20251028T222322Z
LAST-MODIFIED:20251028T222322Z
UID:10002957-1765008000-1765040400@swingdanceevents.ch
SUMMARY:Swing Practice Session
DESCRIPTION:DANCE 💃 PRACTICE 🕺 REPEAT \n🔥  Pack deine Trainingskleider ein\n🔥  Socialise mit anderen Kursteilnehmer*innen\n🔥  Bring deine Tanz Skills in entspannter Atmosphäre auf das nächste Level \nSonntag\, 26. Oktober 2025 | 15:00 – 17:00\nDowntownswing Studio | Hohlstrasse 86a\, 8004 Zürich\n→ Weitere Details \nInteressiert? 👉 Join us! • Keine Anmeldung erforderlich\nUnkostenbeitrag: 5.- pro Person\, cash only \nNächste Daten:  Sa\, 1. Nov • Sa\, 8. Nov 2025
URL:https://swingdanceevents.ch/event/swing-practice-session-5/2025-12-06/
LOCATION:Tanzstudio DOWNTOWNSWING\, Hohlstrasse 86a\, Zürich\, ZH\, 8004\, Switzerland
CATEGORIES:practica/opentraning
ATTACH;FMTTYPE=image/jpeg:https://swingdanceevents.ch/wp-content/uploads/2025/10/swing-practice-session-.jpg
ORGANIZER;CN="Downtownswing":MAILTO:info@downtownswing.ch
END:VEVENT
BEGIN:VEVENT
DTSTART;TZID=Europe/Zurich:20251206T160000
DTEND;TZID=Europe/Zurich:20251206T190000
DTSTAMP:20260424T181354
CREATED:20250914T203551Z
LAST-MODIFIED:20250914T203551Z
UID:10002916-1765036800-1765047600@swingdanceevents.ch
SUMMARY:Tea Time Swing
DESCRIPTION:Tea Time Swing mit auserlesenem Tee\, feinem Kuchen und Swing Musik zum Tanzen.\nNeu: an zwei Samstagen pro Monat\, von 16:00 bis 19:00 Uhr. \nMusik:\nDJ Da Vinci\nDJ Kuno \nEintritt:\nCHF 10.- \nKuchen backen:\nUnterstütze uns mit einem Kuchen und erhalte einen Eintritt\, dazu Tee & Kuchen. \nMitmachen:\nHilf uns beim Kuchen- und Teeverkauf oder an der Eintrittskasse und erhalte freien Eintritt. Melde dich unter:\nportal.helfereinsatz.ch/teatimeswing
URL:https://swingdanceevents.ch/event/tea-time-swing-14/
LOCATION:Bananenreiferei\, Pfingstweidstrasse 101\, Zürich\, 8005
CATEGORIES:DJ,Party
ATTACH;FMTTYPE=image/png:https://swingdanceevents.ch/wp-content/uploads/2025/09/20251206_tts_web_high_1920_1080.png
END:VEVENT
BEGIN:VEVENT
DTSTART;TZID=Europe/Zurich:20251206T200000
DTEND;TZID=Europe/Zurich:20251207T003000
DTSTAMP:20260424T181354
CREATED:20250603T113645Z
LAST-MODIFIED:20251125T152812Z
UID:10002676-1765051200-1765067400@swingdanceevents.ch
SUMMARY:Fast Feet Floor
DESCRIPTION:Dieses Jahr bringt uns der Samichlaus schnelle Musik! Denn wie wir alle wissen\, fängt der Spass erst ab 180 bpm so richtig an. Also lasst uns den ganzen Abend lang Shag\, Balboa\, Fast Lindy und Charleston tanzen – das wird ein Fest!\n\n \n\nDas schmucke Kellertheater in der Altstadt Winterthurs ist 5 Minuten zu Fuss vom Bahnhof entfernt\, sodass Du nach Partyende entspannt jede Nachtverbindung nach Zürich oder St. Gallen erreichst.\n\n\n\n20:00–20:45 Shag-Taster mit Monika & Ying (kostenlos)\n20:45–00:30 Party mit DJs Ying\, Benno & Ingrid\nEintritt CHF 16.- / 14.- (Legi)
URL:https://swingdanceevents.ch/event/fast-feet-floor-8/
LOCATION:Kellertheater Winterthur\, Marktgasse 53\, Winterthur\, ZH\, 8400\, Switzerland
CATEGORIES:DJ,Party,Socialdance
ATTACH;FMTTYPE=image/jpeg:https://swingdanceevents.ch/wp-content/uploads/2025/06/FFF_Banner-1-scaled.jpg
ORGANIZER;CN="Swingscouts%2C Winterthur":MAILTO:info@swingscouts.ch
END:VEVENT
BEGIN:VEVENT
DTSTART;TZID=Europe/Zurich:20251206T203000
DTEND;TZID=Europe/Zurich:20251207T010000
DTSTAMP:20260424T181354
CREATED:20240924T111413Z
LAST-MODIFIED:20250921T190759Z
UID:10002193-1765053000-1765069200@swingdanceevents.ch
SUMMARY:Tanzkeller mit Liveband – Samichlaus Edition
DESCRIPTION:Tanzkeller im Sousol mit Belmondos Tanzkapelle & Swing-DJ. \nEs warten einige tolle Samichlaus-Überraschungen auf dich! \nEintritt: 28.– / 18.–
URL:https://swingdanceevents.ch/event/tanzkeller-mit-liveband-christmas-edition/
LOCATION:Sousol Luzern\, Baselstrasse 13\, Luzern\, Luzern\, 6003
CATEGORIES:DJ,LiveBand,Party,Socialdance
ATTACH;FMTTYPE=image/png:https://swingdanceevents.ch/wp-content/uploads/2024/09/Belmonos_Bild.png
ORGANIZER;CN="Footwork":MAILTO:info@footwork.ch
END:VEVENT
BEGIN:VEVENT
DTSTART;TZID=Europe/Zurich:20251207T160000
DTEND;TZID=Europe/Zurich:20251207T190000
DTSTAMP:20260424T181354
CREATED:20250812T145128Z
LAST-MODIFIED:20250812T150449Z
UID:10002869-1765123200-1765134000@swingdanceevents.ch
SUMMARY:Sunday Shag’n’Shuffle
DESCRIPTION:🎉 Social Dancing für Balboa & Collegiate Shag 🌟 \n\nKomm vorbei und schwing die Tanzbeine beim Shag’n’Shuffle Social Dance! 💃🕺 Egal ob Anfänger oder Profi – hier ist für alle etwas dabei\, die schnelle Schuhsohlen lieben und Lust auf einen gemütlichen Tanzevent haben! ✨\n\n📍 Location: Downtownswing Studio\, Hohlstrasse 86a\, 8004 Zürich\n🔗 Mehr Infos: https://shagnshuffle.ch\n\n🎶 Mit DJ:\n      Eintritt: CHF 15.00\n      Mit Legi: CHF 10.00\n\n🎶 Mit Live Band & DJ:\n      Eintritt: CHF 25.00\n      Mit Legi: CHF 20.00\n\nHelfer*innen gesucht! 🙋‍♂️🙋‍♀️\nDu möchtest uns unterstützen und hinter den Kulissen mit anpacken? Dann melde dich als Helfer*in! 💪\nFür Helfende gibt’s den Eintritt + 1 Getränk! 🥤\n\nEinsatzmöglichkeiten:\n⏰ Aufbau (15:00-16:00)\n⏰ Kasse/Eintrittskontrolle 1 (15:45-16:45)\n⏰ Kasse/Eintrittskontrolle 2 (16:45-17:45)\n⏰ Kasse/Eintrittskontrolle 3 (17:45-18:45)\n⏰ Abbau (19:00-20:00)\n\nhttps://portal.helfereinsatz.ch/downtownswing\nDANKE für deine Unterstützung! 🌟\n\nVerpasse nicht den Spass – wir freuen uns auf dich! 🎶💃🕺🎉
URL:https://swingdanceevents.ch/event/sunday-shagnshuffle-8/2025-12-07/
LOCATION:Tanzstudio DOWNTOWNSWING\, Hohlstrasse 86a\, Zürich\, ZH\, 8004\, Switzerland
CATEGORIES:DJ,Party,Socialdance
ATTACH;FMTTYPE=image/jpeg:https://swingdanceevents.ch/wp-content/uploads/2025/08/20250707-Sunday-ShagNSuffle-NEW.jpg
ORGANIZER;CN="Downtownswing":MAILTO:info@downtownswing.ch
END:VEVENT
END:VCALENDAR