BEGIN:VCALENDAR
VERSION:2.0
PRODID:-//Swing Dance Events Switzerland - ECPv6.15.20//NONSGML v1.0//EN
CALSCALE:GREGORIAN
METHOD:PUBLISH
X-ORIGINAL-URL:https://swingdanceevents.ch
X-WR-CALDESC:Veranstaltungen für Swing Dance Events Switzerland
REFRESH-INTERVAL;VALUE=DURATION:PT1H
X-Robots-Tag:noindex
X-PUBLISHED-TTL:PT1H
BEGIN:VTIMEZONE
TZID:Europe/Zurich
BEGIN:DAYLIGHT
TZOFFSETFROM:+0100
TZOFFSETTO:+0200
TZNAME:CEST
DTSTART:20240331T010000
END:DAYLIGHT
BEGIN:STANDARD
TZOFFSETFROM:+0200
TZOFFSETTO:+0100
TZNAME:CET
DTSTART:20241027T010000
END:STANDARD
BEGIN:DAYLIGHT
TZOFFSETFROM:+0100
TZOFFSETTO:+0200
TZNAME:CEST
DTSTART:20250330T010000
END:DAYLIGHT
BEGIN:STANDARD
TZOFFSETFROM:+0200
TZOFFSETTO:+0100
TZNAME:CET
DTSTART:20251026T010000
END:STANDARD
BEGIN:DAYLIGHT
TZOFFSETFROM:+0100
TZOFFSETTO:+0200
TZNAME:CEST
DTSTART:20260329T010000
END:DAYLIGHT
BEGIN:STANDARD
TZOFFSETFROM:+0200
TZOFFSETTO:+0100
TZNAME:CET
DTSTART:20261025T010000
END:STANDARD
END:VTIMEZONE
BEGIN:VEVENT
DTSTART;TZID=Europe/Zurich:20251209T190000
DTEND;TZID=Europe/Zurich:20251209T233000
DTSTAMP:20260422T025540
CREATED:20251204T151634Z
LAST-MODIFIED:20251204T151749Z
UID:10002526-1765306800-1765323000@swingdanceevents.ch
SUMMARY:El Boge Swing Social with DJ Battle & Classes (beginners welcome)
DESCRIPTION:Der Dienstag El Boge Swing Social. \n\n20.15 – 23:30 Socialdance mit DJ (Fr.10.-\, 5.- für Teilnehmer Klasse)\nLindy Hop Klassen \n\n19:00 – 19:30 free Lindy CrashCourse\n19:30 – 20:15 Lindy 1 walk in class Fr.20.- (just walk in\, kein Partner notwendig).\nTeachers: Julio\n\n\nSoloJazz / Jazzroots\n\n18:15-19:00 Beginners Basic Steps with Muetze\n\n\n\nAlle Klassen benötigen keine Anmeldung. Kommt einfach vorbei auf den Klassenstart.
URL:https://swingdanceevents.ch/event/el-boge-swing-social-classes-beginners-welcome-6-2-2-3-3-3-2-2-4-3-4-2-5-4-2-2-2-2-2-2-2-5-2-3-2-2-2-2-2-3-4-5/
LOCATION:El Social\, Viaduktstrasse 64\, Zürich\, ZH\, 8005\, Switzerland
CATEGORIES:Class,Crashcourse,DJ,Party,Socialdance
ATTACH;FMTTYPE=image/png:https://swingdanceevents.ch/wp-content/uploads/2025/11/FlyerBogen2025_Tuesday_20251209.png
END:VEVENT
BEGIN:VEVENT
DTSTART;TZID=Europe/Zurich:20251210T193000
DTEND;TZID=Europe/Zurich:20251210T230000
DTSTAMP:20260422T025540
CREATED:20250115T211644Z
LAST-MODIFIED:20250202T151424Z
UID:10002469-1765395000-1765407600@swingdanceevents.ch
SUMMARY:Chicago Swing Night
DESCRIPTION:Die Chicago Swing Night bietet einen Lindy Hop Crashkurs mit einem anschliessenden Live-Konzert ihrer äusserst eingespielten Haus-Band. \nDas ganze findet im wunderbaren Ambiente der Chicago Bar in Zug statt. Nur fünf Minuten vom Bahnhof entfernt. \n19:30 Uhr Doors\n19:45 Uhr Lindy Hop Crashkurs\n20:30 Uhr Live Musik Chicago Swing Band\n\nEintritt: 25.-/15.- Crashkurs: 10.-
URL:https://swingdanceevents.ch/event/chicago-swing-night-5/2025-12-10/
LOCATION:Chicago Bar Zug\, Baarerstrasse 63\, Zug\, Zug\, 6300\, Switzerland
CATEGORIES:LiveBand,Party,Teaster
ATTACH;FMTTYPE=image/jpeg:https://swingdanceevents.ch/wp-content/uploads/2025/01/01_ChicagSwingNight_b.jpg
ORGANIZER;CN="Chicago Swing Nights":MAILTO:chicagoswingnights@outlook.com
END:VEVENT
BEGIN:VEVENT
DTSTART;TZID=Europe/Zurich:20251210T201500
DTEND;TZID=Europe/Zurich:20251210T233000
DTSTAMP:20260422T025540
CREATED:20250706T163345Z
LAST-MODIFIED:20251125T153125Z
UID:10002700-1765397700-1765409400@swingdanceevents.ch
SUMMARY:Swing Cocktail
DESCRIPTION:Deine wöchentliche Portion Tanzglück \nAm Swing Cocktail verwöhnen wir Dich mit der besten Swing-Musik unserer grossartigen DJs\, laden regelmässig fabelhafte Bands ein und tanzen\, was das Zeug hält. Komm und swing mit uns\, probier neugelernte Moves aus\, plaudere mit Deinen Freund:innen und geniess die entspannte Atmosphäre – jeden Mittwoch in der schmucken Archbar direkt am Hauptbahnhof Winterthur. \nSocial Dance 20:15–23:30\nEintritt CHF 10.- / 5.- (Legi) // bei Liveband Hutkollekte (Empfehlung CHF 15-20.-) \nÜber DJs\, Bands und weitere Specials informieren wir Dich auf Instagram\, Facebook und WhatsApp.
URL:https://swingdanceevents.ch/event/swing-cocktail-21/2025-12-10/
LOCATION:Archbar\, Archstrasse 2\, Winterthur\, 8400\, Switzerland
CATEGORIES:DJ,Socialdance
ATTACH;FMTTYPE=image/jpeg:https://swingdanceevents.ch/wp-content/uploads/2025/07/SC_Quadrat_klein.jpg
ORGANIZER;CN="Swingscouts%2C Winterthur":MAILTO:info@swingscouts.ch
END:VEVENT
BEGIN:VEVENT
DTSTART;TZID=Europe/Zurich:20251212T203000
DTEND;TZID=Europe/Zurich:20251213T000000
DTSTAMP:20260422T025540
CREATED:20251021T133736Z
LAST-MODIFIED:20251021T133736Z
UID:10002942-1765571400-1765584000@swingdanceevents.ch
SUMMARY:Balboa im Sousol
DESCRIPTION:Der Tanzabend für unsere schnellen Füsse!\n20.30 – 24.00 mit DJ Swinging Sailor
URL:https://swingdanceevents.ch/event/balboa-im-sousol/
LOCATION:Sousol Luzern\, Baselstrasse 13\, Luzern\, Luzern\, 6003
CATEGORIES:Socialdance
ATTACH;FMTTYPE=image/jpeg:https://swingdanceevents.ch/wp-content/uploads/2025/10/IMG_1422-scaled.jpg
ORGANIZER;CN="Triplestep":MAILTO:kontakt@triplestep.ch
END:VEVENT
BEGIN:VEVENT
DTSTART;TZID=Europe/Zurich:20251213T104500
DTEND;TZID=Europe/Zurich:20251214T173000
DTSTAMP:20260422T025540
CREATED:20250822T163432Z
LAST-MODIFIED:20251124T083407Z
UID:10002876-1765622700-1765733400@swingdanceevents.ch
SUMMARY:Bluesli with Catherine Palmier
DESCRIPTION:See https://bluesli.ch/bluesli-december25/ \n*LOCATION UPDATE: UNITED DANCE STUDIO at Hohlstrasse 560\, 8048 Zürich* \nTwo days Blüesli workshop in Zürich on 13 and 14th of December with live music on Saturday night! \nWe are super excited to have Catherine Palmier (France/USA) back in Zürich! Don’t miss the chance to learn with her! \nAbout Catherine: \nCatherine Palmier assists individuals to unleash one’s own authentic movement offering guided explorations to refine one’s dance using grounded organic movement\, effortless power and fluid grace. \nWith over 10 years of professional dance experience\, academic dance training in Paris\, and knowledge of multiple styles of dance\, Catherine skillfully and with a keen movement sensibility helps dancers discover the origin and understanding of their own personal movement. She draws from performance concepts\, emotions\, visualizations\, memories\, body mechanics\, sensations and alignment to support a constantly flourishing understanding of dance for her students. \nCatherine hopes her students receive insight\, playfulness and enthusiasm from her work enabling them to develop their own signature style within their dance. \nBecause of Catherine’s ability to interpret various dance styles coupled with her proficiency in revealing the unlimited nature of African dance an body mechanics\, this makes her appealing to dancers of any genre or experience level.
URL:https://swingdanceevents.ch/event/bluesli-with-catherine-palmier/
LOCATION:United Dance Studio\, Hohlstrasse 560\, Zürich\, Zürich\, 8048\, Switzerland
ATTACH;FMTTYPE=image/jpeg:https://swingdanceevents.ch/wp-content/uploads/2025/08/pic-1-scaled.jpg
ORGANIZER;CN="Blues and more":MAILTO:registerbluesli@gmail.com
END:VEVENT
BEGIN:VEVENT
DTSTART;TZID=Europe/Zurich:20251213T193000
DTEND;TZID=Europe/Zurich:20251214T010000
DTSTAMP:20260422T025540
CREATED:20251120T211500Z
LAST-MODIFIED:20251120T211616Z
UID:10003027-1765654200-1765674000@swingdanceevents.ch
SUMMARY:Swing & Rock’n’Roll Night
DESCRIPTION:19.30 / Türöffnung\n20.00 / Lindy Hop Schnupperkurs\n21.00 / Tanzabend mit DJ JC (Lindy Hop\, Jive\, Rock’n’Roll\, Boogie Woogie) und mit ein paar Tanzeinlagen! \nDer Anlass wird organisiert von triplestep.ch und sixteen.ch\nhttps://www.facebook.com/rrcsixteen
URL:https://swingdanceevents.ch/event/swing-rocknroll-night-4/
LOCATION:Sousol Luzern\, Baselstrasse 13\, Luzern\, Luzern\, 6003
CATEGORIES:Crashcourse,DJ,Party,Socialdance
ATTACH;FMTTYPE=image/jpeg:https://swingdanceevents.ch/wp-content/uploads/2025/11/rocknrollplakat-dez25-A4-scaled.jpg
ORGANIZER;CN="Triplestep":MAILTO:kontakt@triplestep.ch
END:VEVENT
BEGIN:VEVENT
DTSTART;TZID=Europe/Zurich:20251213T200000
DTEND;TZID=Europe/Zurich:20251214T004000
DTSTAMP:20260422T025540
CREATED:20250612T040411Z
LAST-MODIFIED:20251114T134838Z
UID:10002683-1765656000-1765672800@swingdanceevents.ch
SUMMARY:SwingFLOOR X-MAS Bash
DESCRIPTION:SwingFLOOR Parties exist since 1995! \n20:00-21:00 CRASH COURSE: we will first give you an introduction class for total beginners in Lindy Hop\, so you will learn the absolute basics\, with which you will definitely have lot’s of fun at the party! Crash course is FREE of charge for you! \n21:00-4:00 SwingFLOOR Party with our DJ’s\, a bit slower at the beginning\, later maybe a bit faster. We will throw in some different type of music every now and then in order to spice up your night! You will maybe hear some Boogie Woogie\, Blues or Soul\, the later the night gets\, the wilder the music 🙂 \nCOSTS: 15 CHF per person (10 CHF with student ID). \nPlease dress up for the first dance – bring fresh T-Shirts\, towels or/and deodorant with you 😉 \nPlease respect our Code of conduct\, published on swing.ch \nLineup: Our house DJ’s are DJ Waldvogel\, DJ Dr. A. Lexander\, DJ Swing’n’Stuff\, and many more:-)
URL:https://swingdanceevents.ch/event/swingfloor-x-mas-bash-2/
LOCATION:SwingFLOOR Tanzstudio\, Röschibachstrasse 22\, Zürich\, Switzerland\, 8037\, Switzerland
CATEGORIES:Crashcourse,DJ,Party
ATTACH;FMTTYPE=image/png:https://swingdanceevents.ch/wp-content/uploads/2025/06/SwingFLoor-5.png
ORGANIZER;CN="Swing Productions":MAILTO:help@swing.ch
END:VEVENT
BEGIN:VEVENT
DTSTART;TZID=Europe/Zurich:20251213T203000
DTEND;TZID=Europe/Zurich:20251214T013000
DTSTAMP:20260422T025540
CREATED:20251128T133813Z
LAST-MODIFIED:20251128T133813Z
UID:10003034-1765657800-1765675800@swingdanceevents.ch
SUMMARY:Christmas Party
DESCRIPTION:Join us for this special event and celebrate the holiday season! \nGet ready for an evening with dancing\, socializing\, shows\, lots of fun and much more! \nLet’s dance to the amazing sounds of the CONIGLIO CONNECTION live supported by DJ LIL’ROQUETTE! \nEverything in the beautifully decorated venue at \nKirchgemeindehaus Aussersihl\, Stauffacherstrasse 8\, 8004 Zürich
URL:https://swingdanceevents.ch/event/christmas-party-3/
LOCATION:Kirchgemeindehaus Aussersihl\, Stauffacherstrasse 8\, 8004 Zürich\, Stauffacherstrasse 8\, Kirchgemeindehaus Aussershil\, Zürich\, 8004\, Switzerland
CATEGORIES:DJ,LiveBand,Party,Show
ATTACH;FMTTYPE=image/jpeg:https://swingdanceevents.ch/wp-content/uploads/2025/11/20251109-Poster-Date-Time-Band-DJ-scaled.jpg
ORGANIZER;CN="Downtownswing":MAILTO:info@downtownswing.ch
END:VEVENT
END:VCALENDAR