BEGIN:VCALENDAR
VERSION:2.0
PRODID:-//Swing Dance Events Switzerland - ECPv6.15.20//NONSGML v1.0//EN
CALSCALE:GREGORIAN
METHOD:PUBLISH
X-ORIGINAL-URL:https://swingdanceevents.ch
X-WR-CALDESC:Veranstaltungen für Swing Dance Events Switzerland
REFRESH-INTERVAL;VALUE=DURATION:PT1H
X-Robots-Tag:noindex
X-PUBLISHED-TTL:PT1H
BEGIN:VTIMEZONE
TZID:Europe/Zurich
BEGIN:DAYLIGHT
TZOFFSETFROM:+0100
TZOFFSETTO:+0200
TZNAME:CEST
DTSTART:20240331T010000
END:DAYLIGHT
BEGIN:STANDARD
TZOFFSETFROM:+0200
TZOFFSETTO:+0100
TZNAME:CET
DTSTART:20241027T010000
END:STANDARD
BEGIN:DAYLIGHT
TZOFFSETFROM:+0100
TZOFFSETTO:+0200
TZNAME:CEST
DTSTART:20250330T010000
END:DAYLIGHT
BEGIN:STANDARD
TZOFFSETFROM:+0200
TZOFFSETTO:+0100
TZNAME:CET
DTSTART:20251026T010000
END:STANDARD
BEGIN:DAYLIGHT
TZOFFSETFROM:+0100
TZOFFSETTO:+0200
TZNAME:CEST
DTSTART:20260329T010000
END:DAYLIGHT
BEGIN:STANDARD
TZOFFSETFROM:+0200
TZOFFSETTO:+0100
TZNAME:CET
DTSTART:20261025T010000
END:STANDARD
END:VTIMEZONE
BEGIN:VEVENT
DTSTART;TZID=Europe/Zurich:20251216T190000
DTEND;TZID=Europe/Zurich:20251216T233000
DTSTAMP:20260422T061344
CREATED:20251215T125020Z
LAST-MODIFIED:20251215T125447Z
UID:10002527-1765911600-1765927800@swingdanceevents.ch
SUMMARY:El Boge Swing Social & Classes (beginners welcome)
DESCRIPTION:Der Dienstag El Boge Swing Social. \n\n20.15 – 23:30 Socialdance mit DJ (Fr.10.-\, 5.- für Teilnehmer Klasse)\nLindy Hop Klassen \n\n18:15 – 19:00 Solo Jazz Basics (Beginners Welcome) mit Marco Muetze\n19:00 – 19:30 free Lindy CrashCourse\n19:30 – 20:15 Lindy 1 walk in class Fr.20.- (just walk in\, kein Partner notwendig). mit Marco Muetze\n\n\n\nAlle Klassen benötigen keine Anmeldung. Kommt einfach vorbei auf den Klassenstart.
URL:https://swingdanceevents.ch/event/el-boge-swing-social-classes-beginners-welcome-6-2-2-3-3-3-2-2-4-3-4-2-5-4-2-2-2-2-2-2-2-5-2-3-2-2-2-2-2-3-4-6/
LOCATION:El Social\, Viaduktstrasse 64\, Zürich\, ZH\, 8005\, Switzerland
CATEGORIES:Class,Crashcourse,DJ,Party,Socialdance
ATTACH;FMTTYPE=image/png:https://swingdanceevents.ch/wp-content/uploads/2025/11/FlyerBogen2025_Tuesday_20251216.png
END:VEVENT
BEGIN:VEVENT
DTSTART;TZID=Europe/Zurich:20251217T193000
DTEND;TZID=Europe/Zurich:20251217T230000
DTSTAMP:20260422T061344
CREATED:20251125T190912Z
LAST-MODIFIED:20251125T190912Z
UID:10003032-1765999800-1766012400@swingdanceevents.ch
SUMMARY:SPEAKEASY Lindy Hop Social mit Live Band
DESCRIPTION:The Monday Swing Live \nand DJ Road Jack
URL:https://swingdanceevents.ch/event/speakeasy-lindy-hop-social-mit-live-band/
LOCATION:Kweer Bar\, Spitalgasse 14\, Zürich\, ZH\, 8001\, Switzerland
ATTACH;FMTTYPE=image/jpeg:https://swingdanceevents.ch/wp-content/uploads/2025/11/IMG-20251029-WA0007.jpg
END:VEVENT
BEGIN:VEVENT
DTSTART;TZID=Europe/Zurich:20251217T201500
DTEND;TZID=Europe/Zurich:20251217T233000
DTSTAMP:20260422T061344
CREATED:20250706T163345Z
LAST-MODIFIED:20251125T153125Z
UID:10002701-1766002500-1766014200@swingdanceevents.ch
SUMMARY:Swing Cocktail
DESCRIPTION:Deine wöchentliche Portion Tanzglück \nAm Swing Cocktail verwöhnen wir Dich mit der besten Swing-Musik unserer grossartigen DJs\, laden regelmässig fabelhafte Bands ein und tanzen\, was das Zeug hält. Komm und swing mit uns\, probier neugelernte Moves aus\, plaudere mit Deinen Freund:innen und geniess die entspannte Atmosphäre – jeden Mittwoch in der schmucken Archbar direkt am Hauptbahnhof Winterthur. \nSocial Dance 20:15–23:30\nEintritt CHF 10.- / 5.- (Legi) // bei Liveband Hutkollekte (Empfehlung CHF 15-20.-) \nÜber DJs\, Bands und weitere Specials informieren wir Dich auf Instagram\, Facebook und WhatsApp.
URL:https://swingdanceevents.ch/event/swing-cocktail-21/2025-12-17/
LOCATION:Archbar\, Archstrasse 2\, Winterthur\, 8400\, Switzerland
CATEGORIES:DJ,Socialdance
ATTACH;FMTTYPE=image/jpeg:https://swingdanceevents.ch/wp-content/uploads/2025/07/SC_Quadrat_klein.jpg
ORGANIZER;CN="Swingscouts%2C Winterthur":MAILTO:info@swingscouts.ch
END:VEVENT
BEGIN:VEVENT
DTSTART;TZID=Europe/Zurich:20251219T190000
DTEND;TZID=Europe/Zurich:20251220T010000
DTSTAMP:20260422T061344
CREATED:20250307T231414Z
LAST-MODIFIED:20250314T150707Z
UID:10002609-1766170800-1766192400@swingdanceevents.ch
SUMMARY:de Bär tanzt – The Sheiks
DESCRIPTION:De Bär tanzt im Restaurant Bären in Hundwil\, AR. \ndirekte Busverbindung ab St.Gallen\n19h00 Lindy Hop Crashkurs\n20h15 Live-Musik mit “The Sheiks” \nÜbernachtungsmöglichkeit zB im “Gästehaus Erika” in Hundwil https://gaestehaus-erika.ch/
URL:https://swingdanceevents.ch/event/de-baer-tanzt-the-sheiks-3/
LOCATION:Restaurant Bären\, Dorf 34\, Hundwil\, 9064\, Switzerland
CATEGORIES:LiveBand,Socialdance
ATTACH;FMTTYPE=image/jpeg:https://swingdanceevents.ch/wp-content/uploads/2025/03/20251219_Baerentanz-2.jpg
END:VEVENT
BEGIN:VEVENT
DTSTART;TZID=Europe/Zurich:20251219T203000
DTEND;TZID=Europe/Zurich:20251220T000000
DTSTAMP:20260422T061344
CREATED:20251021T133112Z
LAST-MODIFIED:20251021T133258Z
UID:10002941-1766176200-1766188800@swingdanceevents.ch
SUMMARY:Swing im Sousol
DESCRIPTION:20.30 – 24.00 mit DJ JC \n  \n* * * Wir freuen uns auf TänzerInnen von nah und fern!! * * * \n  \nAnreise: \nZu Fuss: 10 min. vom Bahnhof Luzern \nMit dem Auto: Parkhaus Altstadt ist vis à vis vom Sousol \nMit ÖV: Bus 2\, 5\, 12 bis Kasernenplatz \n  \nSousol\, Baselstrasse 13\, Luzern \nEintritt: 7 Fr. (kostenlos für Teilnehmende der aktuellen Kursreihe) \n  \nwww.triplestep.ch
URL:https://swingdanceevents.ch/event/swing-im-sousol-28/
LOCATION:Sousol Luzern\, Baselstrasse 13\, Luzern\, Luzern\, 6003
CATEGORIES:Socialdance
ATTACH;FMTTYPE=image/jpeg:https://swingdanceevents.ch/wp-content/uploads/2025/10/sousol25okt2-4_5-5-scaled.jpg
ORGANIZER;CN="Triplestep":MAILTO:kontakt@triplestep.ch
END:VEVENT
BEGIN:VEVENT
DTSTART;TZID=Europe/Zurich:20251220T140000
DTEND;TZID=Europe/Zurich:20251220T163000
DTSTAMP:20260422T061344
CREATED:20250902T093953Z
LAST-MODIFIED:20250902T094514Z
UID:10002910-1766239200-1766248200@swingdanceevents.ch
SUMMARY:Solo Jazz Workshop – Body Movment & Grooves
DESCRIPTION:Date: 20.12.2025     Time: 14:00-16:30     Price: 70.-/45.- (reduced) \nIn this workshop we will focus on various body movements and how to integrate these movement qualities in a Solo Jazz sequence. This workshop is for everyone who wants to explore different ways to move their body to jazz music\, from bathroom dancers to experienced lindy hoppers. Join Fabi and Emma to groove\, learn about jazz culture and add some solo steps to your dance vocabulary!
URL:https://swingdanceevents.ch/event/solo-jazz-workshop-body-movment-grooves/
LOCATION:Ella’s Fellas\, Hohlstrasse 192\, Zürich\, 8004\, Switzerland
ATTACH;FMTTYPE=image/png:https://swingdanceevents.ch/wp-content/uploads/2025/09/7.png
ORGANIZER;CN="Ella's Fellas":MAILTO:info@ellasfellas.ch
END:VEVENT
BEGIN:VEVENT
DTSTART;TZID=Europe/Zurich:20251221T163000
DTEND;TZID=Europe/Zurich:20251221T190000
DTSTAMP:20260422T061344
CREATED:20251210T223022Z
LAST-MODIFIED:20251210T223022Z
UID:10003043-1766334600-1766343600@swingdanceevents.ch
SUMMARY:Christmas Party @ Crazy Shakers
DESCRIPTION:Die Christmas Party der Crazy Shakers / Boogie & Swing \nOrt: Club Silbando\, Förrlibuckstrasse 62\, 8005 Zürich\, Schweiz \nEintritt: 10 CHF
URL:https://swingdanceevents.ch/event/christmas-party-crazy-shakers/
LOCATION:Club Silbando\, Förrlibuckstrasse 62\, Zürich\, ZH\, 8005\, Switzerland
CATEGORIES:DJ,Party,Socialdance
ATTACH;FMTTYPE=image/jpeg:https://swingdanceevents.ch/wp-content/uploads/2025/12/WhatsApp-Image-2025-12-10-at-19.26.36.jpeg
END:VEVENT
BEGIN:VEVENT
DTSTART;TZID=Europe/Zurich:20251221T170000
DTEND;TZID=Europe/Zurich:20251221T210000
DTSTAMP:20260422T061344
CREATED:20251104T142210Z
LAST-MODIFIED:20251104T142210Z
UID:10002960-1766336400-1766350800@swingdanceevents.ch
SUMMARY:X-MAS EDITION Partyli @ Tanzwolke (Taster Class & Party)
DESCRIPTION:WEIHNACHTS SPEZIAL mit Guetzli und Vorfreude auf das Lichterfest\nDie Tanzparty in der Tanzwolke!\nGemütliches Beisammensein\, Tanzen zu guter Musik\, Ausprobieren\, was man gelernt hat.\nDazu Snacks\, nette Leute\, tolle Tänze und traditionell die selbstgebackenen Guetzli!\n\nWir freuen uns auf euch! \n\n17-18 Uhr: Lindy Hop Schnupperstunde\n18-21 Uhr: Party\nEintritt frei (Kollekte für Unkosten)\n\n\nX-MAS SPECIAL with cookies and the joy for the upcoming season\nThe dance party at Tanzwolke!\nCome together\, dance to good music\, try what you have learned. Meet nice people\, have some good chats\, enjoy great dances\, some snacks and our tradition: home-baked Christmas cookies.\nWe are looking forward to meeting you!\n17-18h: Taster Class Lindy Hop\n18-21h: Party with DJ music \nFree entry (collection pot for time and effort)
URL:https://swingdanceevents.ch/event/x-mas-edition-partyli-tanzwolke-taster-class-party-2/
LOCATION:Tanzwolke\, Hallwylstrasse 26\, Zürich\, ZH\, 8004\, Switzerland
CATEGORIES:Crashcourse,DJ,Party,Socialdance
ORGANIZER;CN="Tanzwolke":MAILTO:tanzwolke@gmail.com
END:VEVENT
END:VCALENDAR