BEGIN:VCALENDAR
VERSION:2.0
PRODID:-//Swing Dance Events Switzerland - ECPv6.15.20//NONSGML v1.0//EN
CALSCALE:GREGORIAN
METHOD:PUBLISH
X-ORIGINAL-URL:https://swingdanceevents.ch
X-WR-CALDESC:Veranstaltungen für Swing Dance Events Switzerland
REFRESH-INTERVAL;VALUE=DURATION:PT1H
X-Robots-Tag:noindex
X-PUBLISHED-TTL:PT1H
BEGIN:VTIMEZONE
TZID:Europe/Zurich
BEGIN:DAYLIGHT
TZOFFSETFROM:+0100
TZOFFSETTO:+0200
TZNAME:CEST
DTSTART:20240331T010000
END:DAYLIGHT
BEGIN:STANDARD
TZOFFSETFROM:+0200
TZOFFSETTO:+0100
TZNAME:CET
DTSTART:20241027T010000
END:STANDARD
BEGIN:DAYLIGHT
TZOFFSETFROM:+0100
TZOFFSETTO:+0200
TZNAME:CEST
DTSTART:20250330T010000
END:DAYLIGHT
BEGIN:STANDARD
TZOFFSETFROM:+0200
TZOFFSETTO:+0100
TZNAME:CET
DTSTART:20251026T010000
END:STANDARD
BEGIN:DAYLIGHT
TZOFFSETFROM:+0100
TZOFFSETTO:+0200
TZNAME:CEST
DTSTART:20260329T010000
END:DAYLIGHT
BEGIN:STANDARD
TZOFFSETFROM:+0200
TZOFFSETTO:+0100
TZNAME:CET
DTSTART:20261025T010000
END:STANDARD
BEGIN:DAYLIGHT
TZOFFSETFROM:+0100
TZOFFSETTO:+0200
TZNAME:CEST
DTSTART:20270328T010000
END:DAYLIGHT
BEGIN:STANDARD
TZOFFSETFROM:+0200
TZOFFSETTO:+0100
TZNAME:CET
DTSTART:20271031T010000
END:STANDARD
END:VTIMEZONE
BEGIN:VEVENT
DTSTART;TZID=Europe/Zurich:20251230T203000
DTEND;TZID=Europe/Zurich:20251231T020000
DTSTAMP:20260421T230603
CREATED:20251121T193532Z
LAST-MODIFIED:20251229T191223Z
UID:10003029-1767126600-1767146400@swingdanceevents.ch
SUMMARY:The Big Five – Live in Zürich
DESCRIPTION:Tickets for the concert are only available online in advance. Doors open at 8 pm. The concert starts at 9 pm. \nThey say things come to those who wait and on December 30th\, we’re thrilled to welcome The Big Five to the Dance Circus stage. \nThis powerhouse swing-era combo has been igniting big dance floors across more than 20 countries over the past six years — and now you get to experience their irresistible groove in the most intimate setting yet. \nInspired by the wild and sizzling sounds of Harlem\, Kansas City\, and Chicago jazz from the 1930s and ’40s\, The Big Five deliver a show that’s all pulse\, passion\, and pure swing joy. Expect a driving rhythm section\, a fiery horn-led frontline\, exquisite arrangements\, and a journey through the golden age of swing. \nWith their sharp vintage style\, explosive energy\, and a deep love for authentic swing-era jazz\, these cats turn any dance floor into a burst of smiles\, swing-outs\, and musical delight. \nThe breaks will be filled in by our most trusted local DJ Waldvogel\, keeping the feet on the ground and spirits high. \nSo kick your boots\, shine your shoes and join the circus — when The Big Five play\, standing still simply isn’t an option. \nGet your ticket here.
URL:https://swingdanceevents.ch/event/the-big-five-live-in-zuerich/
LOCATION:Kinderzirkus Robinson\, Hofwiesenstrasse 226\, 8057\, Hofwiesenstrasse 226\, Zürich\, Zürich\, 8057\, Switzerland
CATEGORIES:LiveBand
ATTACH;FMTTYPE=image/jpeg:https://swingdanceevents.ch/wp-content/uploads/2025/11/septett2-1.jpg
ORGANIZER;CN="Dance Circus":MAILTO:palm.milena@gmail.com
END:VEVENT
BEGIN:VEVENT
DTSTART;TZID=Europe/Zurich:20260103T103000
DTEND;TZID=Europe/Zurich:20260104T170000
DTSTAMP:20260421T230603
CREATED:20251121T135415Z
LAST-MODIFIED:20251121T135611Z
UID:10003028-1767436200-1767546000@swingdanceevents.ch
SUMMARY:Frosty Feet – Balboa Weekend with Nina & Anthony
DESCRIPTION:Welcome to the First Edition of the Frosty Feet Balboa Weekend!\nDefrost your feet from the dephts of winter by sliding into a very cozy workshop with two of the greatest\, young\, Balboa teachers Switzerland has to offer. Choose your level according to you perceived skill level\, but be aware that this workshop isn’t designed for beginners. To everyone who dabbled in Balboa before or is up for a real Balboa challenge: we welcome you at Kinderzirkus Robinson on the 3rd and 4th of January with a hot chocolate\, coffee or tea. \nSign up here! \nAbout the levels\nThe Explorer level is for you if you’ve been dancing Balboa for at least one year\, have been going to regular classes and some socials and feel quite comfortable on the dance floor. At this level you already started to follow the lead of the music and play with improvisation. \nThe Challenger level is for you if you’ve been on the Balboa dancefloor for quite a while now and feel connecting with your dance partner as well as with the music is easy and fun. You’re able to react and play in your respective dance role (or both?) and are looking for new concepts to explore and a critical look at your own technique. \nAbout the classes\nSaturday\nExplorer: 11.30-12.30 / 13.30-14.30\nChallenger: 14.45-15.45 / 16.00-17.00 \nSunday\nChallenger: 11.30-12.30 / 13.30-14.30\nExplorer: 14.45-15.45 / 16.00-17.00 \nAbout the social\nAfter your classes on Saturday and a short break\, you’re invited to share your newly acquired skills with each other at a lovely social\, with excellent music from local DJs. The gates open at 20:00 and close at 01:00\, so everyone gets enough rest for classes next day. \nAbout the teachers\nNina and Anthony have been sharing their passion and expertise with students around the world for nearly a decade. They are dedicated to creating a learning environment that emphasizes strong technique and in-depth historical knowledge in various dance styles making them excellent mentors and teachers. Their classes are thoughtfully structured to accommodate dancers of all levels\, from beginner to advanced. Join Nina and Anthony in their journey to elevate swing dance through quality education and a genuine love for the art form. \nNina\, a swing dance professional with over 25 years of dance experience\, began her dance journey with Jazz Dance at the age of 7. With a degree in Art Education\, she blends her artistic knowledge with her extensive dance experience to teach and inspire her students. Nina is an accomplished competitive dancer\, regularly making finals and placing at events across the continent. Her commitment to the art of swing dance\, combined with her educational background\, makes her a dynamic and influential presence in the dance community. \nAnthony hails from the US and has been teaching Lindy Hop\, Balboa\, Shag\, Charleston\, Vernacular Jazz and other American jazz era dances for over 15 years. He holds several first place titles from prominent competitions such as – Rock That Swing Festival\, Midwest Lindy Fest\, Fog City Stomp\, Lindy on the Rocks\, Nevermore Jazz Ball\, European Balboa Festival\, Bal Love\, The Snowball\, and Valencia Balboa Festival – to name a few and was a member and choreographer for the aerialist Denver dance troupe “23 Skidoo”. Anthony now teaches across Europe emphasizing a blend of old and new ideas. “Technique is not a cage that confines us\, but a tool we use to clarify our communication and expression.”
URL:https://swingdanceevents.ch/event/frosty-feet-balboa-weekend-with-nina-anthony/
LOCATION:Kinderzirkus Robinson\, Hofwiesenstrasse 226\, 8057\, Hofwiesenstrasse 226\, Zürich\, Zürich\, 8057\, Switzerland
CATEGORIES:Workshop
ATTACH;FMTTYPE=image/jpeg:https://swingdanceevents.ch/wp-content/uploads/2025/11/2023-1_Photo-by-Tamara-Pinco-scaled.jpg
ORGANIZER;CN="Dance Circus":MAILTO:palm.milena@gmail.com
END:VEVENT
BEGIN:VEVENT
DTSTART;TZID=Europe/Zurich:20260103T200000
DTEND;TZID=Europe/Zurich:20260104T010000
DTSTAMP:20260421T230603
CREATED:20251211T194550Z
LAST-MODIFIED:20251211T194550Z
UID:10003044-1767470400-1767488400@swingdanceevents.ch
SUMMARY:Frosty Feet - Balboa Party
DESCRIPTION:On Saturday of the Balboa Weekend with Nina and Anthony\, we’ll come together for a night of dancing! Feeling a bit frosty after the holiday break? Is your New Year’s resolution to dance more Balboa? Then don’t hesitate—join us for our cozy little social. DJane Balbulla and DJ Waldvogel will carry us through the night with fast and lively tunes. \nThe doors open at 20:00 and close at 01:00\, giving all Balboa Weekend participants plenty of time to rest before the next day’s classes. 🙂 \nWe’re looking forward to dancing with you! \nEntry: CHF 5.-
URL:https://swingdanceevents.ch/event/frosty-feet-balboa-party/
LOCATION:Kinderzirkus Robinson\, Hofwiesenstrasse 226\, 8057\, Hofwiesenstrasse 226\, Zürich\, Zürich\, 8057\, Switzerland
CATEGORIES:Socialdance
ATTACH;FMTTYPE=image/jpeg:https://swingdanceevents.ch/wp-content/uploads/2025/12/2023-1_Photo-by-Tamara-Pinco-scaled.jpg
ORGANIZER;CN="Dance Circus":MAILTO:palm.milena@gmail.com
END:VEVENT
BEGIN:VEVENT
DTSTART;TZID=Europe/Zurich:20260104T140000
DTEND;TZID=Europe/Zurich:20260104T180000
DTSTAMP:20260421T230603
CREATED:20260103T030816Z
LAST-MODIFIED:20260103T030816Z
UID:10003054-1767535200-1767549600@swingdanceevents.ch
SUMMARY:picnic Swing CANCLED
DESCRIPTION:I know life must go on and will. \nIn due of respect it just takes a syncopate. \n 
URL:https://swingdanceevents.ch/event/picnic-swing-cancled/
ATTACH;FMTTYPE=image/jpeg:https://swingdanceevents.ch/wp-content/uploads/2026/01/picnicswingCancled.jpg
END:VEVENT
END:VCALENDAR