BEGIN:VCALENDAR
VERSION:2.0
PRODID:-//Swing Dance Events Switzerland - ECPv6.15.20//NONSGML v1.0//EN
CALSCALE:GREGORIAN
METHOD:PUBLISH
X-WR-CALNAME:Swing Dance Events Switzerland
X-ORIGINAL-URL:https://swingdanceevents.ch
X-WR-CALDESC:Veranstaltungen für Swing Dance Events Switzerland
REFRESH-INTERVAL;VALUE=DURATION:PT1H
X-Robots-Tag:noindex
X-PUBLISHED-TTL:PT1H
BEGIN:VTIMEZONE
TZID:Europe/Zurich
BEGIN:DAYLIGHT
TZOFFSETFROM:+0100
TZOFFSETTO:+0200
TZNAME:CEST
DTSTART:20250330T010000
END:DAYLIGHT
BEGIN:STANDARD
TZOFFSETFROM:+0200
TZOFFSETTO:+0100
TZNAME:CET
DTSTART:20251026T010000
END:STANDARD
BEGIN:DAYLIGHT
TZOFFSETFROM:+0100
TZOFFSETTO:+0200
TZNAME:CEST
DTSTART:20260329T010000
END:DAYLIGHT
BEGIN:STANDARD
TZOFFSETFROM:+0200
TZOFFSETTO:+0100
TZNAME:CET
DTSTART:20261025T010000
END:STANDARD
BEGIN:DAYLIGHT
TZOFFSETFROM:+0100
TZOFFSETTO:+0200
TZNAME:CEST
DTSTART:20270328T010000
END:DAYLIGHT
BEGIN:STANDARD
TZOFFSETFROM:+0200
TZOFFSETTO:+0100
TZNAME:CET
DTSTART:20271031T010000
END:STANDARD
END:VTIMEZONE
BEGIN:VEVENT
DTSTART;TZID=Europe/Zurich:20260127T190000
DTEND;TZID=Europe/Zurich:20260127T233000
DTSTAMP:20260419T225045
CREATED:20260125T111539Z
LAST-MODIFIED:20260125T111540Z
UID:10002978-1769540400-1769556600@swingdanceevents.ch
SUMMARY:El Boge Swing Social & Classes (beginners welcome)
DESCRIPTION:Der Dienstag El Boge Swing Social. \nDJ Battle Miss Swingtone vs Muetze \nDon’t miss the premiere of Miss Swingtone! \n\n20.15 – 23:30 Socialdance mit DJ (Fr.10.-\, 5.- für Teilnehmer Klasse)\nLindy Hop Klassen \n\n19:00 – 19:30 free Lindy CrashCourse\n19:30 – 20:15 Lindy 1 walk in class Fr.20.- (just walk in\, kein Partner notwendig).\nTeachers: Marco & Alina\n\n\nSoloJazz / Jazzroots\n\non break\n\n\n\nAlle Klassen benötigen keine Anmeldung. Kommt einfach vorbei auf den Klassenstart.
URL:https://swingdanceevents.ch/event/el-boge-swing-social-classes-beginners-welcome-6-2-2-3-3-3-2-2-4-3-4-2-5-4-2-2-2-2-2-2-2-5-2-3-2-2-2-2-2-3-4-11/
LOCATION:El Social\, Viaduktstrasse 64\, Zürich\, ZH\, 8005\, Switzerland
CATEGORIES:Class,Crashcourse,DJ,Party,Socialdance
ATTACH;FMTTYPE=image/png:https://swingdanceevents.ch/wp-content/uploads/2025/11/FlyerBogen2025_Tuesday_20260127.png
END:VEVENT
BEGIN:VEVENT
DTSTART;TZID=Europe/Zurich:20260128T201500
DTEND;TZID=Europe/Zurich:20260128T233000
DTSTAMP:20260419T225045
CREATED:20250706T163345Z
LAST-MODIFIED:20251125T153125Z
UID:10002707-1769631300-1769643000@swingdanceevents.ch
SUMMARY:Swing Cocktail
DESCRIPTION:Deine wöchentliche Portion Tanzglück \nAm Swing Cocktail verwöhnen wir Dich mit der besten Swing-Musik unserer grossartigen DJs\, laden regelmässig fabelhafte Bands ein und tanzen\, was das Zeug hält. Komm und swing mit uns\, probier neugelernte Moves aus\, plaudere mit Deinen Freund:innen und geniess die entspannte Atmosphäre – jeden Mittwoch in der schmucken Archbar direkt am Hauptbahnhof Winterthur. \nSocial Dance 20:15–23:30\nEintritt CHF 10.- / 5.- (Legi) // bei Liveband Hutkollekte (Empfehlung CHF 15-20.-) \nÜber DJs\, Bands und weitere Specials informieren wir Dich auf Instagram\, Facebook und WhatsApp.
URL:https://swingdanceevents.ch/event/swing-cocktail-21/2026-01-28/
LOCATION:Archbar\, Archstrasse 2\, Winterthur\, 8400\, Switzerland
CATEGORIES:DJ,Socialdance
ATTACH;FMTTYPE=image/jpeg:https://swingdanceevents.ch/wp-content/uploads/2025/07/SC_Quadrat_klein.jpg
ORGANIZER;CN="Swingscouts%2C Winterthur":MAILTO:info@swingscouts.ch
END:VEVENT
BEGIN:VEVENT
DTSTART;TZID=Europe/Zurich:20260130T203000
DTEND;TZID=Europe/Zurich:20260130T223000
DTSTAMP:20260419T225045
CREATED:20260122T201934Z
LAST-MODIFIED:20260122T201934Z
UID:10003099-1769805000-1769812200@swingdanceevents.ch
SUMMARY:Open Training Lindy Hop
DESCRIPTION:Das Open Training ist offen für alle. Hier könnt ihr selbstständig üben und tanzen. Kommt mit TanzpartnerIn oder grad als Gruppe! Ihr könnt natürlich gerne auch alleine üben.\nIn der ersten Stunde gibt’s Support aus dem Triplestep-Team. \n20.30 – 22.30 Uhr\nSousol\, Baselstrasse 13\, Luzern\n5 Fr. pro Abend (Kässeli) / Kostenlos für Teilnehmende der aktuellen Kursreihe
URL:https://swingdanceevents.ch/event/open-training-lindy-hop-2/
LOCATION:Sousol Luzern\, Baselstrasse 13\, Luzern\, Luzern\, 6003
CATEGORIES:practica/opentraning
ATTACH;FMTTYPE=image/jpeg:https://swingdanceevents.ch/wp-content/uploads/2026/01/opentraining25-a-3_2-1.jpg
ORGANIZER;CN="Triplestep":MAILTO:kontakt@triplestep.ch
END:VEVENT
BEGIN:VEVENT
DTSTART;TZID=Europe/Zurich:20260131T104500
DTEND;TZID=Europe/Zurich:20260201T173000
DTSTAMP:20260419T225045
CREATED:20251216T102302Z
LAST-MODIFIED:20251216T102302Z
UID:10003047-1769856300-1769967000@swingdanceevents.ch
SUMMARY:Bluesli with Alex & Ioanna
DESCRIPTION:Join us for the first Bluesli of 2026! \nTwo days Blüesli workshop in Zürich 31st January and 1st of February with live music on Saturday night. \nWe are super excited to have Alex and Ioanna from Greece for an amazing weekend of blues dancing and classes! \nSaturday night party with live music! \nLocation: UNITED DANCE STUDIO\, Hohlstrasse 560\, 8048 Zürich \nDetails and registration: https://bluesli.ch/bluesli-january-26/
URL:https://swingdanceevents.ch/event/bluesli-with-alex-ioanna/
LOCATION:United Dance Studio\, Hohlstrasse 560\, Zürich\, Zürich\, 8048\, Switzerland
CATEGORIES:Party,Socialdance,Workshop
ATTACH;FMTTYPE=image/jpeg:https://swingdanceevents.ch/wp-content/uploads/2025/12/AlexAndIoanna.jpg
ORGANIZER;CN="Blues and more":MAILTO:registerbluesli@gmail.com
END:VEVENT
BEGIN:VEVENT
DTSTART;TZID=Europe/Zurich:20260131T160000
DTEND;TZID=Europe/Zurich:20260131T190000
DTSTAMP:20260419T225045
CREATED:20250914T204010Z
LAST-MODIFIED:20260125T120024Z
UID:10002918-1769875200-1769886000@swingdanceevents.ch
SUMMARY:Tea Time Swing
DESCRIPTION:Tea Time Swing mit auserlesenem Tee\, feinem Kuchen und Swing Musik zum Tanzen.\nNeu: an zwei Samstagen pro Monat\, von 16:00 bis 19:00 Uhr. \nMusik:\nDJ Dawid\nDJ lil’roquette \nEintritt:\nCHF 10.- \nKuchen backen:\nUnterstütze uns mit einem Kuchen und erhalte einen Eintritt\, dazu Tee & Kuchen. \nMitmachen:\nHilf uns beim Kuchen- und Teeverkauf oder an der Eintrittskasse und erhalte freien Eintritt. Melde dich unter:\nportal.helfereinsatz.ch/teatimeswing
URL:https://swingdanceevents.ch/event/tea-time-swing-16/
LOCATION:Bananenreiferei\, Pfingstweidstrasse 101\, Zürich\, 8005
CATEGORIES:DJ,Party
ATTACH;FMTTYPE=image/png:https://swingdanceevents.ch/wp-content/uploads/2025/09/2025_tts_web_high_1920_1080.png
END:VEVENT
BEGIN:VEVENT
DTSTART;TZID=Europe/Zurich:20260131T190000
DTEND;TZID=Europe/Zurich:20260131T193000
DTSTAMP:20260419T225045
CREATED:20251109T100306Z
LAST-MODIFIED:20260118T143215Z
UID:10002961-1769886000-1769887800@swingdanceevents.ch
SUMMARY:Let’s Swing Party – CANCELD
DESCRIPTION:Lindyhop Party powered by The Spotted Cat‘s \nTüröffnung KEINE – PARTY ABGESAGT
URL:https://swingdanceevents.ch/event/lets-swing-vol/
LOCATION:AULA KV Zürich\, Limmatstrasse 310\, Zürich\, Zürich\, 8005\, Switzerland
CATEGORIES:DJ
ATTACH;FMTTYPE=image/jpeg:https://swingdanceevents.ch/wp-content/uploads/2025/11/Flyer-Lets-Swing-2026.jpg
END:VEVENT
BEGIN:VEVENT
DTSTART;TZID=Europe/Zurich:20260201T150000
DTEND;TZID=Europe/Zurich:20260201T170000
DTSTAMP:20260419T225045
CREATED:20260122T142149Z
LAST-MODIFIED:20260122T142252Z
UID:10003081-1769958000-1769965200@swingdanceevents.ch
SUMMARY:Swing Practice Session
DESCRIPTION:Willkommen zur Swing Practice Session 🤩! \nDu getraust dich (noch 😅 ) nicht\, auf dem Social Dance Floor das Tanzbein zu schwingen – oder möchtest bereits erlernte Steps & Moves aus deinen Tanzlektionen trainieren? \n\nDann triff dich mit Tanzpartner*in und/oder Tanzgspänli und festige deine Swing- und Social-Dancing Skills an unseren Swing Practice Sessions: \n🔥 Pack deine Trainingskleider ein\n🔥 Socialise mit anderen Kursteilnehmer*innen\n🔥 Bring deine Tanzskills aufs nächste Level \nDies ist kein geführter Kurs. \nWir bieten Tanzfläche\, Musik und Geselligkeit\, mit dem Ziel\, sich zwischen den Kurs-Lektionen auf dem Parkett zu treffen und sich gegenseitig beim Üben zu unterstützen. \nDie Sessions finden hier statt: \nDowntownswing Studio\, Hohlstrasse 86a\, 8004 Zürich \n• Keine verbindliche Anmeldung erforderlich\n• idealerweise mit Tanzpartner*in oder in einer kleinen Gruppe\n• Unkostenbeitrag für den Raum: CHF 5.00 pro Person \nHier findest du alle weiteren Daten. \nViel Spass beim Üben und Socializing 💃🕺!
URL:https://swingdanceevents.ch/event/swing-practice-session-6/2026-02-01/
LOCATION:Tanzstudio DOWNTOWNSWING\, Hohlstrasse 86a\, Zürich\, ZH\, 8004\, Switzerland
CATEGORIES:practica/opentraning
ATTACH;FMTTYPE=image/jpeg:https://swingdanceevents.ch/wp-content/uploads/2026/01/swing-practice-session-.jpg
ORGANIZER;CN="Downtownswing":MAILTO:info@downtownswing.ch
END:VEVENT
END:VCALENDAR