BEGIN:VCALENDAR
VERSION:2.0
PRODID:-//Swing Dance Events Switzerland - ECPv6.15.20//NONSGML v1.0//EN
CALSCALE:GREGORIAN
METHOD:PUBLISH
X-ORIGINAL-URL:https://swingdanceevents.ch
X-WR-CALDESC:Veranstaltungen für Swing Dance Events Switzerland
REFRESH-INTERVAL;VALUE=DURATION:PT1H
X-Robots-Tag:noindex
X-PUBLISHED-TTL:PT1H
BEGIN:VTIMEZONE
TZID:Europe/Zurich
BEGIN:DAYLIGHT
TZOFFSETFROM:+0100
TZOFFSETTO:+0200
TZNAME:CEST
DTSTART:20250330T010000
END:DAYLIGHT
BEGIN:STANDARD
TZOFFSETFROM:+0200
TZOFFSETTO:+0100
TZNAME:CET
DTSTART:20251026T010000
END:STANDARD
BEGIN:DAYLIGHT
TZOFFSETFROM:+0100
TZOFFSETTO:+0200
TZNAME:CEST
DTSTART:20260329T010000
END:DAYLIGHT
BEGIN:STANDARD
TZOFFSETFROM:+0200
TZOFFSETTO:+0100
TZNAME:CET
DTSTART:20261025T010000
END:STANDARD
BEGIN:DAYLIGHT
TZOFFSETFROM:+0100
TZOFFSETTO:+0200
TZNAME:CEST
DTSTART:20270328T010000
END:DAYLIGHT
BEGIN:STANDARD
TZOFFSETFROM:+0200
TZOFFSETTO:+0100
TZNAME:CET
DTSTART:20271031T010000
END:STANDARD
END:VTIMEZONE
BEGIN:VEVENT
DTSTART;TZID=Europe/Zurich:20260203T190000
DTEND;TZID=Europe/Zurich:20260203T233000
DTSTAMP:20260422T034219
CREATED:20260201T222640Z
LAST-MODIFIED:20260203T161613Z
UID:10002979-1770145200-1770161400@swingdanceevents.ch
SUMMARY:El Boge Swing Social & Classes (beginners welcome)
DESCRIPTION:Der Dienstag El Boge Swing Social. \n\n20.15 – 23:30 Socialdance mit DJ Waldvogel (Fr.10.-\, 5.- für Teilnehmer Klasse)\nLindy Hop Klassen \n\n19:00 – 19:30 free Lindy CrashCourse\n19:30 – 20:15 Lindy 1 walk in class Fr.20.- (just walk in\, kein Partner notwendig).\nTeachers: Marco Muetze\n\n\nSoloJazz / Jazzroots\n\non break\, starts 10. Feb. 18:15\n\n\n\nAlle Klassen benötigen keine Anmeldung. Kommt einfach vorbei auf den Klassenstart.
URL:https://swingdanceevents.ch/event/el-boge-swing-social-classes-beginners-welcome-6-2-2-3-3-3-2-2-4-3-4-2-5-4-2-2-2-2-2-2-2-5-2-3-2-2-2-2-2-3-4-12/
LOCATION:El Social\, Viaduktstrasse 64\, Zürich\, ZH\, 8005\, Switzerland
CATEGORIES:Class,Crashcourse,DJ,Party,Socialdance
ATTACH;FMTTYPE=image/png:https://swingdanceevents.ch/wp-content/uploads/2025/11/FlyerBogen2025_Tuesday_20260203.png
END:VEVENT
BEGIN:VEVENT
DTSTART;TZID=Europe/Zurich:20260204T201500
DTEND;TZID=Europe/Zurich:20260204T233000
DTSTAMP:20260422T034219
CREATED:20250706T163345Z
LAST-MODIFIED:20251125T153125Z
UID:10002708-1770236100-1770247800@swingdanceevents.ch
SUMMARY:Swing Cocktail
DESCRIPTION:Deine wöchentliche Portion Tanzglück \nAm Swing Cocktail verwöhnen wir Dich mit der besten Swing-Musik unserer grossartigen DJs\, laden regelmässig fabelhafte Bands ein und tanzen\, was das Zeug hält. Komm und swing mit uns\, probier neugelernte Moves aus\, plaudere mit Deinen Freund:innen und geniess die entspannte Atmosphäre – jeden Mittwoch in der schmucken Archbar direkt am Hauptbahnhof Winterthur. \nSocial Dance 20:15–23:30\nEintritt CHF 10.- / 5.- (Legi) // bei Liveband Hutkollekte (Empfehlung CHF 15-20.-) \nÜber DJs\, Bands und weitere Specials informieren wir Dich auf Instagram\, Facebook und WhatsApp.
URL:https://swingdanceevents.ch/event/swing-cocktail-21/2026-02-04/
LOCATION:Archbar\, Archstrasse 2\, Winterthur\, 8400\, Switzerland
CATEGORIES:DJ,Socialdance
ATTACH;FMTTYPE=image/jpeg:https://swingdanceevents.ch/wp-content/uploads/2025/07/SC_Quadrat_klein.jpg
ORGANIZER;CN="Swingscouts%2C Winterthur":MAILTO:info@swingscouts.ch
END:VEVENT
BEGIN:VEVENT
DTSTART;TZID=Europe/Zurich:20260206T201500
DTEND;TZID=Europe/Zurich:20260207T010000
DTSTAMP:20260422T034219
CREATED:20260128T145034Z
LAST-MODIFIED:20260128T145034Z
UID:10003113-1770408900-1770426000@swingdanceevents.ch
SUMMARY:FRIDAY NIGHT @ BAL-INSPIRATION 2026
DESCRIPTION:Social dancing for all fast feet enthusiasts!\n\n\nJoin us for the kick-off of this year’s Bal-Inspiration edition – already the 4th in this series! \nDancing & Socializing \n20:15 – 21:00 \nSLOW BALBOA Taster \nIncluded in the evening ticket / party pass \nSimply show up and participate \nlive music by \nTHE HOT GRAVEL EIGHT! \nsupported by \nDJ RIJA BALL \n\nPARTY PASS & EVENING TICKETS \nhttps://www.bal-inspiration.downtownswing.ch/parties \nVarious passes via Pre-sale  available. \nUnlimited Social dancing at the parties on Friday\, Saturday and Sunday! \nPre-Sale till Feb 5\, 2026 – 12:00 \nWant to support the event? Woohoo – more details here for helpers
URL:https://swingdanceevents.ch/event/friday-night-bal-inspiration-2026/
LOCATION:Club Silbando\, Förrlibuckstrasse 62\, Zürich\, ZH\, 8005\, Switzerland
CATEGORIES:Crashcourse,DJ,LiveBand,Party,Show,Socialdance,Teaster,Workshop
ATTACH;FMTTYPE=image/jpeg:https://swingdanceevents.ch/wp-content/uploads/2026/01/1.jpg
ORGANIZER;CN="Downtownswing":MAILTO:info@downtownswing.ch
END:VEVENT
BEGIN:VEVENT
DTSTART;TZID=Europe/Zurich:20260206T204500
DTEND;TZID=Europe/Zurich:20260207T000000
DTSTAMP:20260422T034219
CREATED:20260113T095501Z
LAST-MODIFIED:20260113T095647Z
UID:10003070-1770410700-1770422400@swingdanceevents.ch
SUMMARY:Social Dance at Ella’s Fellas
DESCRIPTION:Whether you’ve been dancing for a month or have never tried Lindy Hop before\, everyone is welcome! Social dance is a place where you can try new things\, meet people\, dance comfortably or wildly\, watch\, listen\, or just spend time with your friends. We are happy to have you! 📅 Dates: \n⁠Sat 24.01.26 – With Band/ Sat 07.03.26/ ⁠Sat 30.05.26 – With Band\n⁠Fri 06.02.26/ ⁠Fri 20.02.26 – With Band/ ⁠Fri 27.03.26 – With Band/ Fri 17.04.26 – With Band/ Fri 15.05.26/ Fri 12.06.26 – With Band \nFree Crash Course: Saturday: 14:30 – 15:00\, Friday 20:15 – 20:45 \nDoor Opening: Saturday: 15:00\, Friday: 20:45 \nEntrance: with Band: 20.-/ 10.- CHF\, with DJ: 10.-/ 5.- \n  \nImportant: \nBefore attending our event\, please check our homepage to ensure you have the latest information. \nIf you are with us for the first time\, you have to register as an association member (one-time\, free of charge and without obligations) \nTo make sure that everyone feels comfortable\, we have the following Code of Conduct (view).
URL:https://swingdanceevents.ch/event/social-dance-at-ellas-fellas/2026-02-06/
LOCATION:Ella’s Fellas NEU\, Hohlstrasse 192\, Zürich\, 8004\, Switzerland
ATTACH;FMTTYPE=image/png:https://swingdanceevents.ch/wp-content/uploads/2026/01/Teachers.png
ORGANIZER;CN="Ella's Fellas":MAILTO:info@ellasfellas.ch
END:VEVENT
BEGIN:VEVENT
DTSTART;TZID=Europe/Zurich:20260207T110000
DTEND;TZID=Europe/Zurich:20260207T133000
DTSTAMP:20260422T034219
CREATED:20260113T084332Z
LAST-MODIFIED:20260113T084429Z
UID:10003068-1770462000-1770471000@swingdanceevents.ch
SUMMARY:Aerial Workshop
DESCRIPTION:Time: 11:00-13:30     Price: 70.-/45.- CHF (reduced) \n\nJoin us for our next aerial workshop with Fabienne and Luciano! In this session\, you’ll learn three different airsteps. We will build up each figure step by step and show you how to safely spot each other. No prior aerial experience is necessary\, but you should be familiar with the basic steps of Lindy Hop. You’ll need to sign up with a fixed partner as we won’t be rotating partners during this class. Please wear comfortable clothing and shoes that allow you to move freely\, flip\, and get down on the ground.\n\nRegistration: https://ellasfellas.ch/en/weekend-workshops/
URL:https://swingdanceevents.ch/event/aerial-workshop/2026-02-07/
LOCATION:Ella’s Fellas NEU\, Hohlstrasse 192\, Zürich\, 8004\, Switzerland
ATTACH;FMTTYPE=image/png:https://swingdanceevents.ch/wp-content/uploads/2026/01/Kurse-Workshops-2.png
ORGANIZER;CN="Ella's Fellas":MAILTO:info@ellasfellas.ch
END:VEVENT
BEGIN:VEVENT
DTSTART;TZID=Europe/Zurich:20260207T201500
DTEND;TZID=Europe/Zurich:20260208T010000
DTSTAMP:20260422T034219
CREATED:20260128T144745Z
LAST-MODIFIED:20260128T144745Z
UID:10003112-1770495300-1770512400@swingdanceevents.ch
SUMMARY:SATURDAY NIGHT @ BAL-INSPIRATION 2026
DESCRIPTION:Social dancing for all fast feet enthusiasts! \nJoin us for night N°2 of this year’s Bal-Inspiration edition \nDancing & Socializing \n20:15 – 21:00 \nCollegiate Taster \nIncluded in the evening ticket / party pass \nSimply show up and participate \nlive music by \nTHE HOT GRAVEL EIGHT! \nsupported by \nDJ RIJA BALL \n\nPARTY PASS & EVENING TICKETS \nhttps://www.bal-inspiration.downtownswing.ch/parties \nVarious passes via Pre-sale  available. \nUnlimited Social dancing at the parties on Friday\, Saturday and Sunday! \nPre-Sale till Feb 5\, 2026 – 12:00 \nWant to support the event? Woohoo – more details here for helpers
URL:https://swingdanceevents.ch/event/saturday-night-bal-inspiration-2026/
LOCATION:Club Silbando\, Förrlibuckstrasse 62\, Zürich\, ZH\, 8005\, Switzerland
CATEGORIES:Competition,Crashcourse,DJ,Festival
ATTACH;FMTTYPE=image/jpeg:https://swingdanceevents.ch/wp-content/uploads/2026/01/20250206-All-Social-Dancing-Tasters-@-Bal-inspiration-Story.jpg
ORGANIZER;CN="Downtownswing":MAILTO:info@downtownswing.ch
END:VEVENT
BEGIN:VEVENT
DTSTART;TZID=Europe/Zurich:20260207T203000
DTEND;TZID=Europe/Zurich:20260207T223000
DTSTAMP:20260422T034219
CREATED:20260122T202107Z
LAST-MODIFIED:20260122T202107Z
UID:10003100-1770496200-1770503400@swingdanceevents.ch
SUMMARY:Open Training Lindy Hop
DESCRIPTION:Das Open Training ist offen für alle. Hier könnt ihr selbstständig üben und tanzen. Kommt mit TanzpartnerIn oder grad als Gruppe! Ihr könnt natürlich gerne auch alleine üben.\nIn der ersten Stunde gibt’s Support aus dem Triplestep-Team. \n20.30 – 22.30 Uhr\nSousol\, Baselstrasse 13\, Luzern\n5 Fr. pro Abend (Kässeli) / Kostenlos für Teilnehmende der aktuellen Kursreihe
URL:https://swingdanceevents.ch/event/open-training-lindy-hop-3/
LOCATION:Sousol Luzern\, Baselstrasse 13\, Luzern\, Luzern\, 6003
CATEGORIES:practica/opentraning
ATTACH;FMTTYPE=image/jpeg:https://swingdanceevents.ch/wp-content/uploads/2026/01/opentraining25-a-3_2-2.jpg
ORGANIZER;CN="Triplestep":MAILTO:kontakt@triplestep.ch
END:VEVENT
BEGIN:VEVENT
DTSTART;TZID=Europe/Zurich:20260208T163000
DTEND;TZID=Europe/Zurich:20260208T200000
DTSTAMP:20260422T034219
CREATED:20260128T144507Z
LAST-MODIFIED:20260128T144806Z
UID:10003111-1770568200-1770580800@swingdanceevents.ch
SUMMARY:SUNDAY EVENING @ BAL-INSPIRATION 2026
DESCRIPTION:Social dancing for all fast feet enthusiasts! \n\nJoin us for the final evening of this year’s Bal-Inspiration edition \nDancing & Socializing starting at 16:30. \nlive music by \nNEW HOT CLUB OF ZURICH! \nsupported by \nDJ RIJA BALL \n\nPARTY PASS & EVENING TICKETS \nhttps://www.bal-inspiration.downtownswing.ch/parties \nVarious passes via Pre-sale  available. \nUnlimited Social dancing at the parties on Friday\, Saturday and Sunday! \nPre-Sale till Feb 5\, 2026 – 12:00 \nWant to support the event? Woohoo – more details here for helpers \n\n 
URL:https://swingdanceevents.ch/event/sunday-evening-bal-inspiration-2026/
LOCATION:Club Silbando\, Förrlibuckstrasse 62\, Zürich\, ZH\, 8005\, Switzerland
CATEGORIES:DJ,Festival,LiveBand,Party,Socialdance,Workshop
ATTACH;FMTTYPE=image/jpeg:https://swingdanceevents.ch/wp-content/uploads/2026/01/8.jpg
ORGANIZER;CN="Downtownswing":MAILTO:info@downtownswing.ch
END:VEVENT
END:VCALENDAR