BEGIN:VCALENDAR
VERSION:2.0
PRODID:-//Swing Dance Events Switzerland - ECPv6.15.20//NONSGML v1.0//EN
CALSCALE:GREGORIAN
METHOD:PUBLISH
X-ORIGINAL-URL:https://swingdanceevents.ch
X-WR-CALDESC:Veranstaltungen für Swing Dance Events Switzerland
REFRESH-INTERVAL;VALUE=DURATION:PT1H
X-Robots-Tag:noindex
X-PUBLISHED-TTL:PT1H
BEGIN:VTIMEZONE
TZID:Europe/Zurich
BEGIN:DAYLIGHT
TZOFFSETFROM:+0100
TZOFFSETTO:+0200
TZNAME:CEST
DTSTART:20250330T010000
END:DAYLIGHT
BEGIN:STANDARD
TZOFFSETFROM:+0200
TZOFFSETTO:+0100
TZNAME:CET
DTSTART:20251026T010000
END:STANDARD
BEGIN:DAYLIGHT
TZOFFSETFROM:+0100
TZOFFSETTO:+0200
TZNAME:CEST
DTSTART:20260329T010000
END:DAYLIGHT
BEGIN:STANDARD
TZOFFSETFROM:+0200
TZOFFSETTO:+0100
TZNAME:CET
DTSTART:20261025T010000
END:STANDARD
BEGIN:DAYLIGHT
TZOFFSETFROM:+0100
TZOFFSETTO:+0200
TZNAME:CEST
DTSTART:20270328T010000
END:DAYLIGHT
BEGIN:STANDARD
TZOFFSETFROM:+0200
TZOFFSETTO:+0100
TZNAME:CET
DTSTART:20271031T010000
END:STANDARD
END:VTIMEZONE
BEGIN:VEVENT
DTSTART;TZID=Europe/Zurich:20260210T190000
DTEND;TZID=Europe/Zurich:20260210T233000
DTSTAMP:20260421T174954
CREATED:20251117T062347Z
LAST-MODIFIED:20260201T222909Z
UID:10002980-1770750000-1770766200@swingdanceevents.ch
SUMMARY:El Boge Swing Social & Classes (beginners welcome)
DESCRIPTION:Der Dienstag El Boge Swing Social. \n\n20.15 – 23:30 Socialdance mit DJ Rahel (Fr.10.-\, 5.- für Teilnehmer Klasse)\nLindy Hop Klassen \n\n19:00 – 19:30 free Lindy CrashCourse\n19:30 – 20:15 Lindy 1 walk in class Fr.20.- (just walk in\, kein Partner notwendig).\nTeachers: Matej\n\n\nSoloJazz / Jazzroots\n\n18:15 – 19:00 Beg-Int with Marco Muetze\n\n\n\nAlle Klassen benötigen keine Anmeldung. Kommt einfach vorbei auf den Klassenstart.
URL:https://swingdanceevents.ch/event/el-boge-swing-social-classes-beginners-welcome-6-2-2-3-3-3-2-2-4-3-4-2-5-4-2-2-2-2-2-2-2-5-2-3-2-2-2-2-2-3-4/
LOCATION:El Social\, Viaduktstrasse 64\, Zürich\, ZH\, 8005\, Switzerland
CATEGORIES:Class,Crashcourse,DJ,Party,Socialdance
ATTACH;FMTTYPE=image/png:https://swingdanceevents.ch/wp-content/uploads/2025/11/FlyerBogen2025_Tuesday_20260210.png
END:VEVENT
BEGIN:VEVENT
DTSTART;TZID=Europe/Zurich:20260211T193000
DTEND;TZID=Europe/Zurich:20260211T223000
DTSTAMP:20260421T174954
CREATED:20260123T123506Z
LAST-MODIFIED:20260123T123933Z
UID:10003109-1770838200-1770849000@swingdanceevents.ch
SUMMARY:Speakeasy – Lindy Hop Social
DESCRIPTION:A unique venue with that special vintage vibe we all love\, the kind that makes you feel like you’ve just stepped back into the golden age of swing music. \nThe KweerBar is kindly opening their hidden speakeasy for us again on Wednesday\, February 11\, 2026\, starting at 7:30 PM. \nLive music by the amazing The Monday Swing \nFree entry!
URL:https://swingdanceevents.ch/event/speakeasy-lindy-hop-social/
LOCATION:Kweer Bar\, Spitalgasse 14\, Zürich\, ZH\, 8001\, Switzerland
CATEGORIES:LiveBand
ATTACH;FMTTYPE=image/png:https://swingdanceevents.ch/wp-content/uploads/2026/01/IMG_4543.png
END:VEVENT
BEGIN:VEVENT
DTSTART;TZID=Europe/Zurich:20260211T201500
DTEND;TZID=Europe/Zurich:20260211T233000
DTSTAMP:20260421T174954
CREATED:20250706T163345Z
LAST-MODIFIED:20251125T153125Z
UID:10002709-1770840900-1770852600@swingdanceevents.ch
SUMMARY:Swing Cocktail
DESCRIPTION:Deine wöchentliche Portion Tanzglück \nAm Swing Cocktail verwöhnen wir Dich mit der besten Swing-Musik unserer grossartigen DJs\, laden regelmässig fabelhafte Bands ein und tanzen\, was das Zeug hält. Komm und swing mit uns\, probier neugelernte Moves aus\, plaudere mit Deinen Freund:innen und geniess die entspannte Atmosphäre – jeden Mittwoch in der schmucken Archbar direkt am Hauptbahnhof Winterthur. \nSocial Dance 20:15–23:30\nEintritt CHF 10.- / 5.- (Legi) // bei Liveband Hutkollekte (Empfehlung CHF 15-20.-) \nÜber DJs\, Bands und weitere Specials informieren wir Dich auf Instagram\, Facebook und WhatsApp.
URL:https://swingdanceevents.ch/event/swing-cocktail-21/2026-02-11/
LOCATION:Archbar\, Archstrasse 2\, Winterthur\, 8400\, Switzerland
CATEGORIES:DJ,Socialdance
ATTACH;FMTTYPE=image/jpeg:https://swingdanceevents.ch/wp-content/uploads/2025/07/SC_Quadrat_klein.jpg
ORGANIZER;CN="Swingscouts%2C Winterthur":MAILTO:info@swingscouts.ch
END:VEVENT
BEGIN:VEVENT
DTSTART;TZID=Europe/Zurich:20260214T100000
DTEND;TZID=Europe/Zurich:20260214T173000
DTSTAMP:20260421T174954
CREATED:20250523T151515Z
LAST-MODIFIED:20250523T151515Z
UID:10002661-1771063200-1771090200@swingdanceevents.ch
SUMMARY:Move Into the Blues
DESCRIPTION:Durch verschiedene Zugänge möchten wir dir die Möglichkeit geben\, zu einem unvergesslichen Tanzerlebnis zu gelangen. Diesmal bringt uns Taketina zu unserem natürlichen Rhythmus zurück\, weg vom Kopf zurück in den Körper wo wir in ein Gefühl des Seins gelangen und den Planungsgeist ziehen lassen können. Alles wird unseren Horizont erweitern und das individuelle Blues Tanz Gefühl bereichern. \nUnterricht: 2h Contact Improvisation & 3h Blues Dance (1h davon mit live Musik)
URL:https://swingdanceevents.ch/event/move-into-the-blues-5/
LOCATION:The Rhythm Rebels Studio\, Aarbergergasse 40\,\, Bern\, Bern\, 3011\, Switzerland
CATEGORIES:Workshop
ATTACH;FMTTYPE=image/png:https://swingdanceevents.ch/wp-content/uploads/2025/05/Move-Into-the-Blues-2526-1.png
ORGANIZER;CN="Blues Dance Bern":MAILTO:info@be-bluesed.ch
END:VEVENT
BEGIN:VEVENT
DTSTART;TZID=Europe/Zurich:20260214T160000
DTEND;TZID=Europe/Zurich:20260214T190000
DTSTAMP:20260421T174954
CREATED:20250914T205523Z
LAST-MODIFIED:20260125T120727Z
UID:10002925-1771084800-1771095600@swingdanceevents.ch
SUMMARY:Tea Time Swing (Live)
DESCRIPTION:Tea Time Swing mit auserlesenem Tee\, feinem Kuchen und Swing Musik zum Tanzen.\nNeu: an zwei Samstagen pro Monat\, von 16:00 bis 19:00 Uhr. \nMusik:\nChicago Swing Collective (live)\nDJ Waldvogel \nEintritt:\nCHF 20.- (Legi/Kulturlegi: 15.-) \nKuchen backen:\nUnterstütze uns mit einem Kuchen und erhalte einen Eintritt\, dazu Tee & Kuchen. \nMitmachen:\nHilf uns beim Kuchen- und Teeverkauf oder an der Eintrittskasse und erhalte freien Eintritt. Melde dich unter:\nportal.helfereinsatz.ch/teatimeswing
URL:https://swingdanceevents.ch/event/tea-time-swing-live-11/
LOCATION:Bananenreiferei\, Pfingstweidstrasse 101\, Zürich\, 8005
CATEGORIES:DJ,LiveBand,Party
ATTACH;FMTTYPE=image/png:https://swingdanceevents.ch/wp-content/uploads/2025/09/2025_tts_web_high_1920_1080-4.png
END:VEVENT
BEGIN:VEVENT
DTSTART;TZID=Europe/Zurich:20260214T200000
DTEND;TZID=Europe/Zurich:20260215T003000
DTSTAMP:20260421T174954
CREATED:20250603T113952Z
LAST-MODIFIED:20251125T152925Z
UID:10002677-1771099200-1771115400@swingdanceevents.ch
SUMMARY:Fast Feet Floor
DESCRIPTION:Ab 200 bpm fängt der Spass erst richtig an! Am Fast Feet Floor musst Du nie mehr am Rand der Tanzfläche stehen\, wenn das Tempo anzieht. Denn an DER Tanzparty für flinke Füsse tanzen alle Shag\, Balboa\, Fast Lindy und Charleston – Du wirst schwitzen\, ja\, aber Du wirst Dich so gut fühlen! \nDas schmucke Kellertheater in der Altstadt Winterthurs ist 5 Minuten zu Fuss vom Bahnhof entfernt\, sodass Du nach Partyende entspannt jede Nachtverbindung nach Zürich oder St. Gallen erreichst. \n20:00–20:45 Taster (kostenlos)\n20:45–00:30 Party mit DJ\nEintritt CHF 16.- / 14.- (Legi)
URL:https://swingdanceevents.ch/event/fast-feet-floor-9/
LOCATION:Kellertheater Winterthur\, Marktgasse 53\, Winterthur\, ZH\, 8400\, Switzerland
CATEGORIES:DJ,Party,Socialdance
ATTACH;FMTTYPE=image/jpeg:https://swingdanceevents.ch/wp-content/uploads/2025/06/FFF_Banner-2-scaled.jpg
ORGANIZER;CN="Swingscouts%2C Winterthur":MAILTO:info@swingscouts.ch
END:VEVENT
BEGIN:VEVENT
DTSTART;TZID=Europe/Zurich:20260215T143000
DTEND;TZID=Europe/Zurich:20260215T173000
DTSTAMP:20260421T174954
CREATED:20260201T102154Z
LAST-MODIFIED:20260201T102154Z
UID:10003115-1771165800-1771176600@swingdanceevents.ch
SUMMARY:Swing und Kuchen
DESCRIPTION:Swing tanzen\, Kuchen essen und dazu den besten Kaffee der Stadt trinken! Während der Wintersaison laden wir jeweils am dritten Sonntag im Monat zu gemütlicher Kaffeerunde\, Kuchen und Tanzen ein.
URL:https://swingdanceevents.ch/event/swing-und-kuchen/
LOCATION:Kaffeehaus St.Gallen\, Linsenbühlstrasse 77\, 9000 St.Gallen\, Switzerland
CATEGORIES:DJ,Socialdance
ATTACH;FMTTYPE=image/jpeg:https://swingdanceevents.ch/wp-content/uploads/2026/02/kaffeehaus_2024web1080x1080.jpg
END:VEVENT
BEGIN:VEVENT
DTSTART;TZID=Europe/Zurich:20260215T150000
DTEND;TZID=Europe/Zurich:20260215T170000
DTSTAMP:20260421T174954
CREATED:20260122T142149Z
LAST-MODIFIED:20260122T142252Z
UID:10003082-1771167600-1771174800@swingdanceevents.ch
SUMMARY:Swing Practice Session
DESCRIPTION:Willkommen zur Swing Practice Session 🤩! \nDu getraust dich (noch 😅 ) nicht\, auf dem Social Dance Floor das Tanzbein zu schwingen – oder möchtest bereits erlernte Steps & Moves aus deinen Tanzlektionen trainieren? \n\nDann triff dich mit Tanzpartner*in und/oder Tanzgspänli und festige deine Swing- und Social-Dancing Skills an unseren Swing Practice Sessions: \n🔥 Pack deine Trainingskleider ein\n🔥 Socialise mit anderen Kursteilnehmer*innen\n🔥 Bring deine Tanzskills aufs nächste Level \nDies ist kein geführter Kurs. \nWir bieten Tanzfläche\, Musik und Geselligkeit\, mit dem Ziel\, sich zwischen den Kurs-Lektionen auf dem Parkett zu treffen und sich gegenseitig beim Üben zu unterstützen. \nDie Sessions finden hier statt: \nDowntownswing Studio\, Hohlstrasse 86a\, 8004 Zürich \n• Keine verbindliche Anmeldung erforderlich\n• idealerweise mit Tanzpartner*in oder in einer kleinen Gruppe\n• Unkostenbeitrag für den Raum: CHF 5.00 pro Person \nHier findest du alle weiteren Daten. \nViel Spass beim Üben und Socializing 💃🕺!
URL:https://swingdanceevents.ch/event/swing-practice-session-6/2026-02-15/
LOCATION:Tanzstudio DOWNTOWNSWING\, Hohlstrasse 86a\, Zürich\, ZH\, 8004\, Switzerland
CATEGORIES:practica/opentraning
ATTACH;FMTTYPE=image/jpeg:https://swingdanceevents.ch/wp-content/uploads/2026/01/swing-practice-session-.jpg
ORGANIZER;CN="Downtownswing":MAILTO:info@downtownswing.ch
END:VEVENT
END:VCALENDAR