BEGIN:VCALENDAR
VERSION:2.0
PRODID:-//Swing Dance Events Switzerland - ECPv6.15.20//NONSGML v1.0//EN
CALSCALE:GREGORIAN
METHOD:PUBLISH
X-WR-CALNAME:Swing Dance Events Switzerland
X-ORIGINAL-URL:https://swingdanceevents.ch
X-WR-CALDESC:Veranstaltungen für Swing Dance Events Switzerland
REFRESH-INTERVAL;VALUE=DURATION:PT1H
X-Robots-Tag:noindex
X-PUBLISHED-TTL:PT1H
BEGIN:VTIMEZONE
TZID:Europe/Zurich
BEGIN:DAYLIGHT
TZOFFSETFROM:+0100
TZOFFSETTO:+0200
TZNAME:CEST
DTSTART:20250330T010000
END:DAYLIGHT
BEGIN:STANDARD
TZOFFSETFROM:+0200
TZOFFSETTO:+0100
TZNAME:CET
DTSTART:20251026T010000
END:STANDARD
BEGIN:DAYLIGHT
TZOFFSETFROM:+0100
TZOFFSETTO:+0200
TZNAME:CEST
DTSTART:20260329T010000
END:DAYLIGHT
BEGIN:STANDARD
TZOFFSETFROM:+0200
TZOFFSETTO:+0100
TZNAME:CET
DTSTART:20261025T010000
END:STANDARD
BEGIN:DAYLIGHT
TZOFFSETFROM:+0100
TZOFFSETTO:+0200
TZNAME:CEST
DTSTART:20270328T010000
END:DAYLIGHT
BEGIN:STANDARD
TZOFFSETFROM:+0200
TZOFFSETTO:+0100
TZNAME:CET
DTSTART:20271031T010000
END:STANDARD
END:VTIMEZONE
BEGIN:VEVENT
DTSTART;TZID=Europe/Zurich:20260316T200000
DTEND;TZID=Europe/Zurich:20260316T233000
DTSTAMP:20260419T225039
CREATED:20260212T064900Z
LAST-MODIFIED:20260212T065018Z
UID:10003135-1773691200-1773703800@swingdanceevents.ch
SUMMARY:Fast Feet Hop LIVE with The Monday Swing
DESCRIPTION:Fast feet hop is back with a special edition 🌻: The Monday Swing (as a sextett🔥) from Zürich will play for us – on a monday😍 \nDoors: 8 PM \nshow: 9 PM \nEnjoy and support our great local musicians ♡ \nLine up: \nNeal Sugarman\, Tenor Sax \nValerio Lepori\, Trombone \nFulvio Granata\, Piano \nCorsin Battaglia\, Guitar \nMichel Münch\, Bass\,Vocals \nUeli Spoerri\, Drums \nFast Feet Hop ist zurück mit einer Sonderedition 🌻: The Monday Swing (als Sextett🔥) aus Zürich werden für uns spielen – an einem Montag 😍 \nBeginn: 20 Uhr \nShow: 21 Uhr \nUnterstützt unsere grossartigen Musiker ♡
URL:https://swingdanceevents.ch/event/fast-feet-hop-live-with-the-monday-swing-2/
LOCATION:zeughausstrasse 56\, 8004 Zürich\, Zeughausstrasse 56\, Zürich\, 8004\, Switzerland
ATTACH;FMTTYPE=image/jpeg:https://swingdanceevents.ch/wp-content/uploads/2026/02/38122-1.jpg
END:VEVENT
BEGIN:VEVENT
DTSTART;TZID=Europe/Zurich:20260317T190000
DTEND;TZID=Europe/Zurich:20260317T233000
DTSTAMP:20260419T225039
CREATED:20260201T223127Z
LAST-MODIFIED:20260201T223128Z
UID:10002985-1773774000-1773790200@swingdanceevents.ch
SUMMARY:El Boge Swing Social & Classes (beginners welcome)
DESCRIPTION:Der Dienstag El Boge Swing Social. \n\n20.15 – 23:30 Socialdance mit DJ (Fr.10.-\, 5.- für Teilnehmer Klasse)\nLindy Hop Klassen \n\n19:00 – 19:30 free Lindy CrashCourse\n19:30 – 20:15 Lindy 1 walk in class Fr.20.- (just walk in\, kein Partner notwendig).\nTeachers: Marco “Muetze” & Alina\, Julio\, Matej\, Eike\n\n\nSoloJazz / Jazzroots\n\n18:15 – 19:00 Beg-Int with Marco Muetze\n\n\n\nAlle Klassen benötigen keine Anmeldung. Kommt einfach vorbei auf den Klassenstart.
URL:https://swingdanceevents.ch/event/el-boge-swing-social-classes-beginners-welcome-6-2-2-3-3-3-2-2-4-3-4-2-5-4-2-2-2-2-2-2-2-5-2-3-2-2-2-2-2-3-4-13/2026-03-17/
LOCATION:El Social\, Viaduktstrasse 64\, Zürich\, ZH\, 8005\, Switzerland
CATEGORIES:Class,Crashcourse,DJ,Party,Socialdance
ATTACH;FMTTYPE=image/png:https://swingdanceevents.ch/wp-content/uploads/2025/10/FlyerBogen2025_Tuesday_standard.png
END:VEVENT
BEGIN:VEVENT
DTSTART;TZID=Europe/Zurich:20260318T201500
DTEND;TZID=Europe/Zurich:20260318T233000
DTSTAMP:20260419T225039
CREATED:20250706T163345Z
LAST-MODIFIED:20251125T153125Z
UID:10002714-1773864900-1773876600@swingdanceevents.ch
SUMMARY:Swing Cocktail
DESCRIPTION:Deine wöchentliche Portion Tanzglück \nAm Swing Cocktail verwöhnen wir Dich mit der besten Swing-Musik unserer grossartigen DJs\, laden regelmässig fabelhafte Bands ein und tanzen\, was das Zeug hält. Komm und swing mit uns\, probier neugelernte Moves aus\, plaudere mit Deinen Freund:innen und geniess die entspannte Atmosphäre – jeden Mittwoch in der schmucken Archbar direkt am Hauptbahnhof Winterthur. \nSocial Dance 20:15–23:30\nEintritt CHF 10.- / 5.- (Legi) // bei Liveband Hutkollekte (Empfehlung CHF 15-20.-) \nÜber DJs\, Bands und weitere Specials informieren wir Dich auf Instagram\, Facebook und WhatsApp.
URL:https://swingdanceevents.ch/event/swing-cocktail-21/2026-03-18/
LOCATION:Archbar\, Archstrasse 2\, Winterthur\, 8400\, Switzerland
CATEGORIES:DJ,Socialdance
ATTACH;FMTTYPE=image/jpeg:https://swingdanceevents.ch/wp-content/uploads/2025/07/SC_Quadrat_klein.jpg
ORGANIZER;CN="Swingscouts%2C Winterthur":MAILTO:info@swingscouts.ch
END:VEVENT
BEGIN:VEVENT
DTSTART;TZID=Europe/Zurich:20260320T193000
DTEND;TZID=Europe/Zurich:20260321T020000
DTSTAMP:20260419T225039
CREATED:20250106T200707Z
LAST-MODIFIED:20260313T095116Z
UID:10002433-1774035000-1774058400@swingdanceevents.ch
SUMMARY:Altstadt Swing
DESCRIPTION:Die nächste Party in Winterthur: Freitag 20. März 2026\nAltstadt Swing in der @altekasernekulturzentrum\nmit The Pavilion Dance Orchestra und DJ Crossover \n19:45 Crashkurs\n21:00 Live-Konzert mit The Pavilion Dance Orchestra und Musik aus der Dose vom DJ \nDas «Pavilion Dance Orchestra» aus Zürich liebt es einfach\, für Swing-Tänzer:innen zu spielen! Das beweisen sie immer wieder an den zahlreichen und regelmässigen Konzerten. Sie musizieren mit absoluter Leidenschaft und entführen ihre Zuhörer:innen in die entscheidenden Momente der Swing-Ära\, indem sie in die elektrisierende Musik von Benny Goodman\, Charlie Christian und Billie Holiday eintauchen. Sie sind nicht nur ein Ohrenschmaus – sondern es macht auch Spass sich visuell von der Live-Swing-Musik mitreissen und verzaubern zu lassen.
URL:https://swingdanceevents.ch/event/altstadt-swing-12/
LOCATION:Alte Kaserne Winterthur\, Technikumstrasse 8\, Winterthur\, Switzerland
CATEGORIES:Crashcourse,DJ,LiveBand,Party
ATTACH;FMTTYPE=image/png:https://swingdanceevents.ch/wp-content/uploads/2025/01/260320_AltstadtSwing_1080x1350px-scaled.png
ORGANIZER;CN="Swingscouts%2C Winterthur":MAILTO:info@swingscouts.ch
END:VEVENT
BEGIN:VEVENT
DTSTART;TZID=Europe/Zurich:20260320T203000
DTEND;TZID=Europe/Zurich:20260321T000000
DTSTAMP:20260419T225039
CREATED:20260122T203539Z
LAST-MODIFIED:20260122T203539Z
UID:10003108-1774038600-1774051200@swingdanceevents.ch
SUMMARY:Balboa im Sousol
DESCRIPTION:Der Tanzabend für unsere schnellen Füsse! \n20.30 – 24.00 mit DJ \n* * * Wir freuen uns auf TänzerInnen von nah und fern!! * * * \nAnreise:\nZu Fuss: 10 min. vom Bahnhof Luzern\nMit dem Auto: Parkhaus Altstadt ist vis à vis vom Sousol\nMit ÖV: Bus 2\, 5\, 12 bis Kasernenplatz \nSousol\, Baselstrasse 13\, Luzern\nEintritt: 10 Fr.
URL:https://swingdanceevents.ch/event/balboa-im-sousol-2/
LOCATION:Sousol Luzern\, Baselstrasse 13\, Luzern\, Luzern\, 6003
CATEGORIES:DJ,Party,Socialdance
ATTACH;FMTTYPE=image/jpeg:https://swingdanceevents.ch/wp-content/uploads/2026/01/IMG_1420-scaled.jpg
ORGANIZER;CN="Triplestep":MAILTO:kontakt@triplestep.ch
END:VEVENT
BEGIN:VEVENT
DTSTART;TZID=Europe/Zurich:20260321T130000
DTEND;TZID=Europe/Zurich:20260321T163000
DTSTAMP:20260419T225039
CREATED:20251206T100919Z
LAST-MODIFIED:20251206T100919Z
UID:10003035-1774098000-1774110600@swingdanceevents.ch
SUMMARY:Lindy Hop beginners Weekend
DESCRIPTION:Im Lindy Hop beginner’s Workshop lernst Du in sieben Lektionen die Basics des Lindy Hop. Das Teacherpaar Andrea & Nina vermittelt dabei nicht nur die Grundtechnik sondern auch die mitreisende Lebensfreude dieses Tanzes. In diesem Workshop liegt der Fokus auf dem Swing out\, Side by Side Charleston und den Six counts. \nErlebe die Freude am Lindy Hop und all die wunderbaren Menschen mit ihren lachenden Gesichtern! \nErfahrung:\nKeine Notwendig \nKursinhalt\nLerne alle Grundlagen des Lindy Hop wie den Swing Out und den Charleston.\nDurchführung:\nAb 10 Buchungen wird der Kurs durchgeführt.\nSamstag:\n13:00 Uhr bis 16.00 Uhr\nSonntag:\n13:00 Uhr bis 16.00 Uhr
URL:https://swingdanceevents.ch/event/lindy-hop-beginners-weekend/2026-03-21/
LOCATION:SwingFLOOR Tanzstudio\, Röschibachstrasse 22\, Zürich\, Switzerland\, 8037\, Switzerland
ATTACH;FMTTYPE=image/jpeg:https://swingdanceevents.ch/wp-content/uploads/2025/12/20251108_LindyHop-37-scaled.jpg
ORGANIZER;CN="Swing Productions":MAILTO:help@swing.ch
END:VEVENT
BEGIN:VEVENT
DTSTART;TZID=Europe/Zurich:20260321T160000
DTEND;TZID=Europe/Zurich:20260321T190000
DTSTAMP:20260419T225039
CREATED:20250914T205708Z
LAST-MODIFIED:20260125T121957Z
UID:10002926-1774108800-1774119600@swingdanceevents.ch
SUMMARY:Tea Time Swing (Live)
DESCRIPTION:Tea Time Swing mit auserlesenem Tee\, feinem Kuchen und Swing Musik zum Tanzen.\nNeu: an zwei Samstagen pro Monat\, von 16:00 bis 19:00 Uhr. \nMusik:\nThe Killin’ Jivers (live)\nDJ Bändlimeier \nEintritt:\nCHF 20.- (Legi/Kulturlegi: 15.-) \nKuchen backen:\nUnterstütze uns mit einem Kuchen und erhalte einen Eintritt\, dazu Tee & Kuchen. \nMitmachen:\nHilf uns beim Kuchen- und Teeverkauf oder an der Eintrittskasse und erhalte freien Eintritt. Melde dich unter:\nportal.helfereinsatz.ch/teatimeswing
URL:https://swingdanceevents.ch/event/tea-time-swing-live-12/
LOCATION:Bananenreiferei\, Pfingstweidstrasse 101\, Zürich\, 8005
CATEGORIES:DJ,LiveBand,Party
ATTACH;FMTTYPE=image/png:https://swingdanceevents.ch/wp-content/uploads/2025/09/2025_tts_web_high_1920_1080-5.png
END:VEVENT
BEGIN:VEVENT
DTSTART;TZID=Europe/Zurich:20260321T193000
DTEND;TZID=Europe/Zurich:20260322T003000
DTSTAMP:20260419T225039
CREATED:20260122T142011Z
LAST-MODIFIED:20260122T142011Z
UID:10003078-1774121400-1774139400@swingdanceevents.ch
SUMMARY:de Bär goht ab! - Willy & The Sheiks
DESCRIPTION:De Bär goht ab im Restaurant Bären in Hundwil\, AR. \ndirekte Busverbindung ab St.Gallen \n19:30 – 23:00 DJ Musik \n23:00 – 00:15 Live-Konzert von “Willy & The Sheiks” \nPremiere des neuen Sets von “Willy & The Sheiks”! Zum inelose https://www.thesheiks.ch/willyandthesheiks
URL:https://swingdanceevents.ch/event/de-baer-goht-ab-willy-the-sheiks/
LOCATION:Restaurant Bären\, Dorf 34\, Hundwil\, 9064\, Switzerland
CATEGORIES:DJ,LiveBand,Party
ATTACH;FMTTYPE=image/jpeg:https://swingdanceevents.ch/wp-content/uploads/2026/01/DeBaerTanzt_neutral.jpg
END:VEVENT
BEGIN:VEVENT
DTSTART;TZID=Europe/Zurich:20260321T193000
DTEND;TZID=Europe/Zurich:20260322T010000
DTSTAMP:20260419T225039
CREATED:20260220T165117Z
LAST-MODIFIED:20260220T165117Z
UID:10003147-1774121400-1774141200@swingdanceevents.ch
SUMMARY:Spring Hop
DESCRIPTION:Swing & Rock’n’Roll Night \n19.30: Collegiate Shag Schnupperkurs\n20.30: Tanzabend mit DJ JC (Lindy Hop\, Jive\, Rock’n’Roll\, Boogie Woogie)\nmit hoffentlich ein paar Tanzeinlagen! \nDer Anlass wird organisiert von triplestep.ch und sixteen.ch
URL:https://swingdanceevents.ch/event/spring-hop/
LOCATION:Sousol Luzern\, Baselstrasse 13\, Luzern\, Luzern\, 6003
CATEGORIES:DJ,Party,Teaster
ATTACH;FMTTYPE=image/jpeg:https://swingdanceevents.ch/wp-content/uploads/2026/02/rocknroll-A4-scaled.jpg
ORGANIZER;CN="Triplestep":MAILTO:kontakt@triplestep.ch
END:VEVENT
BEGIN:VEVENT
DTSTART;TZID=Europe/Zurich:20260322T130000
DTEND;TZID=Europe/Zurich:20260322T163000
DTSTAMP:20260419T225039
CREATED:20251206T100919Z
LAST-MODIFIED:20251206T100919Z
UID:10003036-1774184400-1774197000@swingdanceevents.ch
SUMMARY:Lindy Hop beginners Weekend
DESCRIPTION:Im Lindy Hop beginner’s Workshop lernst Du in sieben Lektionen die Basics des Lindy Hop. Das Teacherpaar Andrea & Nina vermittelt dabei nicht nur die Grundtechnik sondern auch die mitreisende Lebensfreude dieses Tanzes. In diesem Workshop liegt der Fokus auf dem Swing out\, Side by Side Charleston und den Six counts. \nErlebe die Freude am Lindy Hop und all die wunderbaren Menschen mit ihren lachenden Gesichtern! \nErfahrung:\nKeine Notwendig \nKursinhalt\nLerne alle Grundlagen des Lindy Hop wie den Swing Out und den Charleston.\nDurchführung:\nAb 10 Buchungen wird der Kurs durchgeführt.\nSamstag:\n13:00 Uhr bis 16.00 Uhr\nSonntag:\n13:00 Uhr bis 16.00 Uhr
URL:https://swingdanceevents.ch/event/lindy-hop-beginners-weekend/2026-03-22/
LOCATION:SwingFLOOR Tanzstudio\, Röschibachstrasse 22\, Zürich\, Switzerland\, 8037\, Switzerland
ATTACH;FMTTYPE=image/jpeg:https://swingdanceevents.ch/wp-content/uploads/2025/12/20251108_LindyHop-37-scaled.jpg
ORGANIZER;CN="Swing Productions":MAILTO:help@swing.ch
END:VEVENT
BEGIN:VEVENT
DTSTART;TZID=Europe/Zurich:20260322T150000
DTEND;TZID=Europe/Zurich:20260322T170000
DTSTAMP:20260419T225039
CREATED:20260122T142149Z
LAST-MODIFIED:20260122T142252Z
UID:10003086-1774191600-1774198800@swingdanceevents.ch
SUMMARY:Swing Practice Session
DESCRIPTION:Willkommen zur Swing Practice Session 🤩! \nDu getraust dich (noch 😅 ) nicht\, auf dem Social Dance Floor das Tanzbein zu schwingen – oder möchtest bereits erlernte Steps & Moves aus deinen Tanzlektionen trainieren? \n\nDann triff dich mit Tanzpartner*in und/oder Tanzgspänli und festige deine Swing- und Social-Dancing Skills an unseren Swing Practice Sessions: \n🔥 Pack deine Trainingskleider ein\n🔥 Socialise mit anderen Kursteilnehmer*innen\n🔥 Bring deine Tanzskills aufs nächste Level \nDies ist kein geführter Kurs. \nWir bieten Tanzfläche\, Musik und Geselligkeit\, mit dem Ziel\, sich zwischen den Kurs-Lektionen auf dem Parkett zu treffen und sich gegenseitig beim Üben zu unterstützen. \nDie Sessions finden hier statt: \nDowntownswing Studio\, Hohlstrasse 86a\, 8004 Zürich \n• Keine verbindliche Anmeldung erforderlich\n• idealerweise mit Tanzpartner*in oder in einer kleinen Gruppe\n• Unkostenbeitrag für den Raum: CHF 5.00 pro Person \nHier findest du alle weiteren Daten. \nViel Spass beim Üben und Socializing 💃🕺!
URL:https://swingdanceevents.ch/event/swing-practice-session-6/2026-03-22/
LOCATION:Tanzstudio DOWNTOWNSWING\, Hohlstrasse 86a\, Zürich\, ZH\, 8004\, Switzerland
CATEGORIES:practica/opentraning
ATTACH;FMTTYPE=image/jpeg:https://swingdanceevents.ch/wp-content/uploads/2026/01/swing-practice-session-.jpg
ORGANIZER;CN="Downtownswing":MAILTO:info@downtownswing.ch
END:VEVENT
BEGIN:VEVENT
DTSTART;TZID=Europe/Zurich:20260322T190000
DTEND;TZID=Europe/Zurich:20260322T220000
DTSTAMP:20260419T225039
CREATED:20240424T120331Z
LAST-MODIFIED:20250218T085423Z
UID:10002569-1774206000-1774216800@swingdanceevents.ch
SUMMARY:Swingin’around@Bourbaki
DESCRIPTION:Swing-Party im Bourbaki in Luzern.
URL:https://swingdanceevents.ch/event/swinginaroundbourbaki/2026-03-22/
LOCATION:Bourbaki Luzern\, Löwenplatz 1\, Luzern\, Luzern\, 6004\, Switzerland
CATEGORIES:DJ,Party,Socialdance
ATTACH;FMTTYPE=image/jpeg:https://swingdanceevents.ch/wp-content/uploads/2024/04/Bourbaki.jpg
ORGANIZER;CN="Footwork":MAILTO:info@footwork.ch
END:VEVENT
END:VCALENDAR