BEGIN:VCALENDAR
VERSION:2.0
PRODID:-//Swing Dance Events Switzerland - ECPv6.15.20//NONSGML v1.0//EN
CALSCALE:GREGORIAN
METHOD:PUBLISH
X-WR-CALNAME:Swing Dance Events Switzerland
X-ORIGINAL-URL:https://swingdanceevents.ch
X-WR-CALDESC:Veranstaltungen für Swing Dance Events Switzerland
REFRESH-INTERVAL;VALUE=DURATION:PT1H
X-Robots-Tag:noindex
X-PUBLISHED-TTL:PT1H
BEGIN:VTIMEZONE
TZID:Europe/Zurich
BEGIN:DAYLIGHT
TZOFFSETFROM:+0100
TZOFFSETTO:+0200
TZNAME:CEST
DTSTART:20250330T010000
END:DAYLIGHT
BEGIN:STANDARD
TZOFFSETFROM:+0200
TZOFFSETTO:+0100
TZNAME:CET
DTSTART:20251026T010000
END:STANDARD
BEGIN:DAYLIGHT
TZOFFSETFROM:+0100
TZOFFSETTO:+0200
TZNAME:CEST
DTSTART:20260329T010000
END:DAYLIGHT
BEGIN:STANDARD
TZOFFSETFROM:+0200
TZOFFSETTO:+0100
TZNAME:CET
DTSTART:20261025T010000
END:STANDARD
BEGIN:DAYLIGHT
TZOFFSETFROM:+0100
TZOFFSETTO:+0200
TZNAME:CEST
DTSTART:20270328T010000
END:DAYLIGHT
BEGIN:STANDARD
TZOFFSETFROM:+0200
TZOFFSETTO:+0100
TZNAME:CET
DTSTART:20271031T010000
END:STANDARD
END:VTIMEZONE
BEGIN:VEVENT
DTSTART;TZID=Europe/Zurich:20260331T190000
DTEND;TZID=Europe/Zurich:20260331T223000
DTSTAMP:20260419T191516
CREATED:20260201T103234Z
LAST-MODIFIED:20260201T103234Z
UID:10003120-1774983600-1774996200@swingdanceevents.ch
SUMMARY:Lindy Circle
DESCRIPTION:Am letzten Dienstag im Monat treffen wir uns im Keller vom Kaffe und Club Øya. Lindy Hop Crashkurs von 19:00 – 20:00 Uhr (Unkostenbeitrag 10.-) anschliessend Open Dance Floor (Kollekte).
URL:https://swingdanceevents.ch/event/lindy-circle-2/
LOCATION:ØYA BAR\, Schwertgasse 27\, St.Gallen\, SG\, 9000\, Switzerland
CATEGORIES:Crashcourse,DJ
ATTACH;FMTTYPE=image/jpeg:https://swingdanceevents.ch/wp-content/uploads/2026/02/20230131_lindy-circle_oya_01_A6-2.jpg
END:VEVENT
BEGIN:VEVENT
DTSTART;TZID=Europe/Zurich:20260331T190000
DTEND;TZID=Europe/Zurich:20260331T233000
DTSTAMP:20260419T191516
CREATED:20260327T154148Z
LAST-MODIFIED:20260330T230246Z
UID:10002987-1774983600-1774999800@swingdanceevents.ch
SUMMARY:El Boge Swing with Chester Whitmore and The Monday Swing! Swing It Out!
DESCRIPTION:Swing It Out! class & social CHF 50.- / legi 40.- \n\n19:00 Chester Lindy Hop class “The Swing out”. This is the class gives you all you need to know about the SwingOut. Get a new and deep understanding of this signature Lindy Hop move. All Levels\, class will have two rotation (lower and higher level). As a beginner you get it right from the beginning of you dance journey. As a advanced dancer you get a understanding of the move and his roots and insights! Chester is parred for Teaching with his Masterstudent and int. Teacher Beatrice Neagu (B)\n20:15 social with Live Band The Monday Swing & surprises The last Tuesday night with Chester and the Monday Swing in 2025 was just legendary! So we did it again. You wan’t miss this!\nTickets for class only (CHF 25.-/20.-) or Social only (CHF 25.-/20.-) be available at the door.\n\nChester Whitmore spring 2026 Zürich classes & events be presented by Muetze Swings and Chester Whitmore \n  \nAlle Klassen benötigen keine Anmeldung. Es gibt noch Plätze\, kommt einfach vorbei auf den Klassenstart. Wir haben ein Maximum von 38 Teilnehmern für die Klasse mit Chester und 80 Gäste für die Party. FIRST COME\, FIRST SERVED! \nVoranmeldung nur für Klasse und Party zusammen unter https://muetzeswings.ch/en/home/chesters-corner/ \n 
URL:https://swingdanceevents.ch/event/el-boge-swing-social-classes-beginners-welcome-6-2-2-3-3-3-2-2-4-3-4-2-5-4-2-2-2-2-2-2-2-5-2-3-2-2-2-2-2-3-4-13-6/
LOCATION:El Social\, Viaduktstrasse 64\, Zürich\, ZH\, 8005\, Switzerland
CATEGORIES:Class,DJ,LiveBand,Party,Socialdance
ATTACH;FMTTYPE=image/png:https://swingdanceevents.ch/wp-content/uploads/2026/03/flyer260331Chester2026.png
END:VEVENT
BEGIN:VEVENT
DTSTART;TZID=Europe/Zurich:20260401T201500
DTEND;TZID=Europe/Zurich:20260401T233000
DTSTAMP:20260419T191516
CREATED:20250706T163345Z
LAST-MODIFIED:20251125T153125Z
UID:10002716-1775074500-1775086200@swingdanceevents.ch
SUMMARY:Swing Cocktail
DESCRIPTION:Deine wöchentliche Portion Tanzglück \nAm Swing Cocktail verwöhnen wir Dich mit der besten Swing-Musik unserer grossartigen DJs\, laden regelmässig fabelhafte Bands ein und tanzen\, was das Zeug hält. Komm und swing mit uns\, probier neugelernte Moves aus\, plaudere mit Deinen Freund:innen und geniess die entspannte Atmosphäre – jeden Mittwoch in der schmucken Archbar direkt am Hauptbahnhof Winterthur. \nSocial Dance 20:15–23:30\nEintritt CHF 10.- / 5.- (Legi) // bei Liveband Hutkollekte (Empfehlung CHF 15-20.-) \nÜber DJs\, Bands und weitere Specials informieren wir Dich auf Instagram\, Facebook und WhatsApp.
URL:https://swingdanceevents.ch/event/swing-cocktail-21/2026-04-01/
LOCATION:Archbar\, Archstrasse 2\, Winterthur\, 8400\, Switzerland
CATEGORIES:DJ,Socialdance
ATTACH;FMTTYPE=image/jpeg:https://swingdanceevents.ch/wp-content/uploads/2025/07/SC_Quadrat_klein.jpg
ORGANIZER;CN="Swingscouts%2C Winterthur":MAILTO:info@swingscouts.ch
END:VEVENT
BEGIN:VEVENT
DTSTART;VALUE=DATE:20260403
DTEND;VALUE=DATE:20260408
DTSTAMP:20260419T191516
CREATED:20240319T205304Z
LAST-MODIFIED:20260122T105051Z
UID:10001856-1775192400-1775537999@swingdanceevents.ch
SUMMARY:IsThereHop? | 2026
DESCRIPTION:Komm zu uns zum aufregenden IsThereHop Festival in Zürich\, einer mitreißenden Feier des Lindy Hop\, Charleston und Solo Jazz. \nUnser Line Up  2026:\nTeachers: Patrik & Lizette | Tatiana & Daniel | Fredrik & Frida | Elice & Sakarias\nBands: Palace Avenue Swing | London\, UK\nNatty Congeroo & the Flames of Rhythm | London\, UK\nHornsgatan Ramblers | Stockholm\, SE\nDJs: Stephan Wuthe | DJ Waldvogel \nTickets erhältlich auf: www.istherehop.ch/tickets
URL:https://swingdanceevents.ch/event/istherehop-2024/
LOCATION:Volkshaus Zürich\, Stauffacherstrasse 60\,\, Zürich\, 8004\, Switzerland
CATEGORIES:Festival
ATTACH;FMTTYPE=image/jpeg:https://swingdanceevents.ch/wp-content/uploads/2024/03/EO-Anzeige-RTSF.jpg
ORGANIZER;CN="Swing Productions":MAILTO:help@swing.ch
END:VEVENT
END:VCALENDAR