BEGIN:VCALENDAR
VERSION:2.0
PRODID:-//Swing Dance Events Switzerland - ECPv6.15.20//NONSGML v1.0//EN
CALSCALE:GREGORIAN
METHOD:PUBLISH
X-WR-CALNAME:Swing Dance Events Switzerland
X-ORIGINAL-URL:https://swingdanceevents.ch
X-WR-CALDESC:Veranstaltungen für Swing Dance Events Switzerland
REFRESH-INTERVAL;VALUE=DURATION:PT1H
X-Robots-Tag:noindex
X-PUBLISHED-TTL:PT1H
BEGIN:VTIMEZONE
TZID:Europe/Zurich
BEGIN:DAYLIGHT
TZOFFSETFROM:+0100
TZOFFSETTO:+0200
TZNAME:CEST
DTSTART:20250330T010000
END:DAYLIGHT
BEGIN:STANDARD
TZOFFSETFROM:+0200
TZOFFSETTO:+0100
TZNAME:CET
DTSTART:20251026T010000
END:STANDARD
BEGIN:DAYLIGHT
TZOFFSETFROM:+0100
TZOFFSETTO:+0200
TZNAME:CEST
DTSTART:20260329T010000
END:DAYLIGHT
BEGIN:STANDARD
TZOFFSETFROM:+0200
TZOFFSETTO:+0100
TZNAME:CET
DTSTART:20261025T010000
END:STANDARD
BEGIN:DAYLIGHT
TZOFFSETFROM:+0100
TZOFFSETTO:+0200
TZNAME:CEST
DTSTART:20270328T010000
END:DAYLIGHT
BEGIN:STANDARD
TZOFFSETFROM:+0200
TZOFFSETTO:+0100
TZNAME:CET
DTSTART:20271031T010000
END:STANDARD
END:VTIMEZONE
BEGIN:VEVENT
DTSTART;TZID=Europe/Zurich:20260522T200000
DTEND;TZID=Europe/Zurich:20260525T180000
DTSTAMP:20260421T145935
CREATED:20260109T100428Z
LAST-MODIFIED:20260109T100538Z
UID:10003064-1779480000-1779732000@swingdanceevents.ch
SUMMARY:Swing ohne Senf
DESCRIPTION:An Pfingsten wird wieder Swing getanzt und gelernt – drei Tage Workshop und drei rauschende Parties mit live Musik erwarten Euch!\n\n\n\nOrt Parties: Aula GBS St. Gallen\, Riethüsli\nOrt Workshops: Schönenwegen/Schönau Schulhaus St. Gallen\nmehr informationen auf der Webseite: https://swingohnesenf.ch/ \nFacebook: https://www.facebook.com/swingohnesenf/\nInstagram: https://www.instagram.com/swingohnesenf/
URL:https://swingdanceevents.ch/event/swing-ohne-senf-4/
LOCATION:GBS St. Gallen\, Demutstrasse 115\, St. Gallen\, St. Gallen\, 9012\, Switzerland
CATEGORIES:Festival,LiveBand,Party
ATTACH;FMTTYPE=image/jpeg:https://swingdanceevents.ch/wp-content/uploads/2026/01/SoS_Flyer_A5_V2_26_DD.jpg
ORGANIZER;CN="Swing ohne Senf":MAILTO:info@swingohnesenf.ch
END:VEVENT
BEGIN:VEVENT
DTSTART;TZID=Europe/Zurich:20260525T200000
DTEND;TZID=Europe/Zurich:20260525T220000
DTSTAMP:20260421T145935
CREATED:20260412T201700Z
LAST-MODIFIED:20260412T201700Z
UID:10003178-1779739200-1779746400@swingdanceevents.ch
SUMMARY:Montags-Social
DESCRIPTION:Wir tanzen im neuen Vereinsheim (Kulturetage). Im Sommer auch mal draußen in der Konzertmuschel. \nKein Eintritt\, das Event wird durch eure Spenden finanziert.
URL:https://swingdanceevents.ch/event/montags-social/2026-05-25/
LOCATION:Konzertmuschel\, Stadtgarten\, Konstanz
CATEGORIES:DJ,Socialdance
ATTACH;FMTTYPE=image/png:https://swingdanceevents.ch/wp-content/uploads/2026/04/cropped-Logo-rund-blau-1024x964-1-768x723-3.png
END:VEVENT
BEGIN:VEVENT
DTSTART;TZID=Europe/Zurich:20260526T190000
DTEND;TZID=Europe/Zurich:20260526T233000
DTSTAMP:20260421T145935
CREATED:20260402T103342Z
LAST-MODIFIED:20260402T103342Z
UID:10002995-1779822000-1779838200@swingdanceevents.ch
SUMMARY:El Boge Swing Social & Classes (beginners welcome)
DESCRIPTION:Der Dienstag El Boge Swing Social. \n\n20.15 – 23:30 Socialdance mit DJ (Fr.10.-\, 5.- für Teilnehmer Klasse)\nLindy Hop Klassen \n\n19:00 – 19:30 free Lindy CrashCourse\n19:30 – 20:15 Lindy 1 walk in class Fr.20.- (just walk in\, kein Partner notwendig).\nTeachers: Marco “Muetze” & Alina\, Julio\, Matej\, Eike\n\n\nSoloJazz / Jazzroots\n\non a break\n\n\n\nAlle Klassen benötigen keine Anmeldung. Kommt einfach vorbei auf den Klassenstart.
URL:https://swingdanceevents.ch/event/el-boge-swing-social-classes-beginners-welcome-6-2-2-3-3-3-2-2-4-3-4-2-5-4-2-2-2-2-2-2-2-5-2-3-2-2-2-2-2-3-4-13-7/2026-05-26/
LOCATION:El Social\, Viaduktstrasse 64\, Zürich\, ZH\, 8005\, Switzerland
CATEGORIES:Class,Crashcourse,DJ,Party,Socialdance
ATTACH;FMTTYPE=image/png:https://swingdanceevents.ch/wp-content/uploads/2025/10/FlyerBogen2025_Tuesday_standard.png
END:VEVENT
BEGIN:VEVENT
DTSTART;TZID=Europe/Zurich:20260528T200000
DTEND;TZID=Europe/Zurich:20260528T233000
DTSTAMP:20260421T145935
CREATED:20260419T182447Z
LAST-MODIFIED:20260419T182858Z
UID:10003338-1779998400-1780011000@swingdanceevents.ch
SUMMARY:Bürkli-Hop
DESCRIPTION:Don’t miss Zürich’s outdoor Socialdance for LindyHop & SoloJazz etc. more info & community: https://www.facebook.com/groups/buerklihop Free\, it’s a noncomercial szene-meeting run by szene members.
URL:https://swingdanceevents.ch/event/buerkli-hop/2026-05-28/
LOCATION:Bürkliplatz Musikpavillon\, Musikpavillon\, Tram Bürkliplatz\, Zürich\, ZH\, 8001\, Switzerland
CATEGORIES:DJ,Party,Socialdance
ATTACH;FMTTYPE=image/jpeg:https://swingdanceevents.ch/wp-content/uploads/2023/03/Season2023.jpg
ORGANIZER;CN="The B%C3%BCrkliHop Syndicat by Z%C3%BCrich's Lindy Szene":MAILTO:buerklihop@google.com
END:VEVENT
BEGIN:VEVENT
DTSTART;TZID=Europe/Zurich:20260529T193000
DTEND;TZID=Europe/Zurich:20260529T220000
DTSTAMP:20260421T145935
CREATED:20240424T114945Z
LAST-MODIFIED:20260208T102358Z
UID:10003125-1780083000-1780092000@swingdanceevents.ch
SUMMARY:Kieselsteinswing
DESCRIPTION:Kieselsteinswing auf dem Helvetiaplatz in Luzern mit Swing-DJ (bei\nSchlechtwetter ab 20.30 Uhr im Sousol\, Baselstrasse).
URL:https://swingdanceevents.ch/event/kieselsteinswing/2026-05-29/
LOCATION:Helvetiaplatz Luzern\, Waldstätterstrasse 9\, Luzern\, Luzern\, 6005\, Switzerland
CATEGORIES:DJ,Party,Socialdance
ATTACH;FMTTYPE=image/jpeg:https://swingdanceevents.ch/wp-content/uploads/2024/04/Bild_Kieselstein-scaled.jpg
ORGANIZER;CN="Footwork":MAILTO:info@footwork.ch
END:VEVENT
BEGIN:VEVENT
DTSTART;TZID=Europe/Zurich:20260529T193000
DTEND;TZID=Europe/Zurich:20260530T020000
DTSTAMP:20260421T145935
CREATED:20250106T200836Z
LAST-MODIFIED:20260408T124355Z
UID:10002434-1780083000-1780106400@swingdanceevents.ch
SUMMARY:Altstadt Swing
DESCRIPTION:Die nächste Party in Winterthur: Freitag 29. Mai 2026\nAltstadt Swing in der @altekasernekulturzentrum\nmit Coniglio Connection und DJ Karl \n19:45 Crashkurs\n21:00 Live-Konzert mit Coniglio Connection und Musik aus der Dose von DJ Karl \nSeit 2017 begeistert Coniglio Connection mit mitreissender Swing-Musik aus den 20er- und 30er-Jahren Tänzer:innen und Musikliebhaber:innen – diese Band bringt jeden Saal zum Grooven.\nWenn Bass und Piano zu schwingen beginnen und Trompete\, Posaune und Klarinette einsetzen\, ist klar: Jetzt bleiben die Füsse nicht mehr still. Mit Eigenkompositionen sowie Songs von Louis Armstrong\, Duke Ellington\, Mani Matter u.v.m. nimmt dich Coniglio Connection mit auf eine abwechslungsreiche\, einmalige Reise durch die Welt des Swing.
URL:https://swingdanceevents.ch/event/altstadt-swing-13/
LOCATION:Alte Kaserne Winterthur\, Technikumstrasse 8\, Winterthur\, Switzerland
CATEGORIES:Crashcourse,DJ,LiveBand,Party
ATTACH;FMTTYPE=image/jpeg:https://swingdanceevents.ch/wp-content/uploads/2025/01/260320_AltstadtSwing_1080x1350px-scaled.jpg
ORGANIZER;CN="Swingscouts%2C Winterthur":MAILTO:info@swingscouts.ch
END:VEVENT
BEGIN:VEVENT
DTSTART;TZID=Europe/Zurich:20260530T100000
DTEND;TZID=Europe/Zurich:20260530T173000
DTSTAMP:20260421T145935
CREATED:20250523T151812Z
LAST-MODIFIED:20250523T151812Z
UID:10002662-1780135200-1780162200@swingdanceevents.ch
SUMMARY:Move Into the Blues
DESCRIPTION:Durch verschiedene Zugänge möchten wir dir die Möglichkeit geben\, zu einem unvergesslichen Tanzerlebnis zu gelangen. Diesmal bringt uns Taketina zu unserem natürlichen Rhythmus zurück\, weg vom Kopf zurück in den Körper wo wir in ein Gefühl des Seins gelangen und den Planungsgeist ziehen lassen können. Alles wird unseren Horizont erweitern und das individuelle Blues Tanz Gefühl bereichern. \nUnterricht: 2h African Dance mit live percussion & 3h Blues Dance (1h davon mit live Musik)
URL:https://swingdanceevents.ch/event/move-into-the-blues-6/
LOCATION:The Rhythm Rebels Studio\, Aarbergergasse 40\,\, Bern\, Bern\, 3011\, Switzerland
CATEGORIES:Workshop
ATTACH;FMTTYPE=image/png:https://swingdanceevents.ch/wp-content/uploads/2025/05/Move-Into-the-Blues-2526-2.png
ORGANIZER;CN="Blues Dance Bern":MAILTO:info@be-bluesed.ch
END:VEVENT
BEGIN:VEVENT
DTSTART;TZID=Europe/Zurich:20260530T103000
DTEND;TZID=Europe/Zurich:20260530T143000
DTSTAMP:20260421T145935
CREATED:20260402T111204Z
LAST-MODIFIED:20260402T111204Z
UID:10003167-1780137000-1780151400@swingdanceevents.ch
SUMMARY:Workshop with Trisha Sewell
DESCRIPTION:Date: 30.05.26   Time: 10:30 – 14:30   Price: 90.-/55.- CHF (reduced) Registration: https://ellasfellas.ch/en/weekend-workshops/ \nPart 1: Where the Groove Lies \nThis part of the workshop invites you to experience groove as something you live within rather than just something you dance to. We will focus on how rhythm is held\, expressed\, and sustained through the body\, enhancing your sense of pulse\, flow\, and musical presence. Through exploration\, you will develop a more grounded\, adaptable connection to rhythm\, allowing the groove to naturally influence both your solo movement and your partner dancing. This session aims to lay the foundation for greater clarity\, ease\, and expressiveness in your dancing. \nPart 2: Hear It\, Feel It\, then Move It \nBuilding on the foundation of groove\, this class places music at the centre of your movement choices. Instead of shaping the dance first with sequences and patterns\, we explore how rhythm\, phrasing\, and dynamics naturally guide the body’s movement. With a focus on openness\, curiosity\, and embodied listening\, you will aim to develop a more intuitive relationship with the music. This encourages greater musicality\, responsiveness\, and freedom of expression\, enabling you to move with intention and authenticity. \nLearn more about Trisha Sewell: https://www.trishasewell.com/bio.html
URL:https://swingdanceevents.ch/event/workshop-with-trisha-sewell/
LOCATION:Ella’s Fellas\, Hohlstrasse 192\, Zürich\, 8004\, Switzerland
ATTACH;FMTTYPE=image/jpeg:https://swingdanceevents.ch/wp-content/uploads/2026/04/Kurse-Workshops.jpg
ORGANIZER;CN="Ella's Fellas":MAILTO:info@ellasfellas.ch
END:VEVENT
BEGIN:VEVENT
DTSTART;TZID=Europe/Zurich:20260530T150000
DTEND;TZID=Europe/Zurich:20260530T190000
DTSTAMP:20260421T145935
CREATED:20260113T095501Z
LAST-MODIFIED:20260113T095647Z
UID:10003076-1780153200-1780167600@swingdanceevents.ch
SUMMARY:Social Dance at Ella’s Fellas
DESCRIPTION:Whether you’ve been dancing for a month or have never tried Lindy Hop before\, everyone is welcome! Social dance is a place where you can try new things\, meet people\, dance comfortably or wildly\, watch\, listen\, or just spend time with your friends. We are happy to have you! 📅 Dates: \n⁠Sat 24.01.26 – With Band/ Sat 07.03.26/ ⁠Sat 30.05.26 – With Band\n⁠Fri 06.02.26/ ⁠Fri 20.02.26 – With Band/ ⁠Fri 27.03.26 – With Band/ Fri 17.04.26 – With Band/ Fri 15.05.26/ Fri 12.06.26 – With Band \nFree Crash Course: Saturday: 14:30 – 15:00\, Friday 20:15 – 20:45 \nDoor Opening: Saturday: 15:00\, Friday: 20:45 \nEntrance: with Band: 20.-/ 10.- CHF\, with DJ: 10.-/ 5.- \n  \nImportant: \nBefore attending our event\, please check our homepage to ensure you have the latest information. \nIf you are with us for the first time\, you have to register as an association member (one-time\, free of charge and without obligations) \nTo make sure that everyone feels comfortable\, we have the following Code of Conduct (view).
URL:https://swingdanceevents.ch/event/social-dance-at-ellas-fellas/2026-05-30/
LOCATION:Ella’s Fellas NEU\, Hohlstrasse 192\, Zürich\, 8004\, Switzerland
ATTACH;FMTTYPE=image/png:https://swingdanceevents.ch/wp-content/uploads/2026/01/Teachers.png
ORGANIZER;CN="Ella's Fellas":MAILTO:info@ellasfellas.ch
END:VEVENT
BEGIN:VEVENT
DTSTART;TZID=Europe/Zurich:20260530T200000
DTEND;TZID=Europe/Zurich:20260531T003000
DTSTAMP:20260421T145935
CREATED:20250603T114713Z
LAST-MODIFIED:20260421T121117Z
UID:10002678-1780171200-1780187400@swingdanceevents.ch
SUMMARY:Fast Feet Floor
DESCRIPTION:Ab 180 bpm fängt der Spass erst richtig an! Bei herrlich flotter Musik kannst Du Deiner Vorliebe für flinke Füsse frönen und den ganzen Abend ausgelassen Balboa\, Shag\, Fast Lindy und Charleston tanzen. Schweissperlen und Glücksgefühle sind garantiert! \nDas schmucke Kellertheater in der Altstadt Winterthurs ist 5 Minuten zu Fuss vom Bahnhof entfernt\, sodass Du nach Partyende entspannt jede Nachtverbindung nach Zürich oder St. Gallen erreichst. \n20:00–20:45 Taster (kostenlos)\n20:45–00:30 Party mit DJ\nEintritt CHF 20.- / 15.- (Legi)
URL:https://swingdanceevents.ch/event/fast-feet-floor-10/2026-05-30/
LOCATION:Kellertheater Winterthur\, Marktgasse 53\, Winterthur\, ZH\, 8400\, Switzerland
CATEGORIES:DJ,Party,Socialdance
ATTACH;FMTTYPE=image/jpeg:https://swingdanceevents.ch/wp-content/uploads/2025/06/FFF_Banner-3-scaled.jpg
ORGANIZER;CN="Swingscouts%2C Winterthur":MAILTO:info@swingscouts.ch
END:VEVENT
END:VCALENDAR