BEGIN:VCALENDAR
VERSION:2.0
PRODID:-//Swing Dance Events Switzerland - ECPv6.15.20//NONSGML v1.0//EN
CALSCALE:GREGORIAN
METHOD:PUBLISH
X-WR-CALNAME:Swing Dance Events Switzerland
X-ORIGINAL-URL:https://swingdanceevents.ch
X-WR-CALDESC:Veranstaltungen für Swing Dance Events Switzerland
REFRESH-INTERVAL;VALUE=DURATION:PT1H
X-Robots-Tag:noindex
X-PUBLISHED-TTL:PT1H
BEGIN:VTIMEZONE
TZID:Europe/Zurich
BEGIN:DAYLIGHT
TZOFFSETFROM:+0100
TZOFFSETTO:+0200
TZNAME:CEST
DTSTART:20250330T010000
END:DAYLIGHT
BEGIN:STANDARD
TZOFFSETFROM:+0200
TZOFFSETTO:+0100
TZNAME:CET
DTSTART:20251026T010000
END:STANDARD
BEGIN:DAYLIGHT
TZOFFSETFROM:+0100
TZOFFSETTO:+0200
TZNAME:CEST
DTSTART:20260329T010000
END:DAYLIGHT
BEGIN:STANDARD
TZOFFSETFROM:+0200
TZOFFSETTO:+0100
TZNAME:CET
DTSTART:20261025T010000
END:STANDARD
BEGIN:DAYLIGHT
TZOFFSETFROM:+0100
TZOFFSETTO:+0200
TZNAME:CEST
DTSTART:20270328T010000
END:DAYLIGHT
BEGIN:STANDARD
TZOFFSETFROM:+0200
TZOFFSETTO:+0100
TZNAME:CET
DTSTART:20271031T010000
END:STANDARD
END:VTIMEZONE
BEGIN:VEVENT
DTSTART;TZID=Europe/Zurich:20260601T200000
DTEND;TZID=Europe/Zurich:20260601T220000
DTSTAMP:20260422T003133
CREATED:20260412T201700Z
LAST-MODIFIED:20260412T201700Z
UID:10003179-1780344000-1780351200@swingdanceevents.ch
SUMMARY:Montags-Social
DESCRIPTION:Wir tanzen im neuen Vereinsheim (Kulturetage). Im Sommer auch mal draußen in der Konzertmuschel. \nKein Eintritt\, das Event wird durch eure Spenden finanziert.
URL:https://swingdanceevents.ch/event/montags-social/2026-06-01/
LOCATION:Konzertmuschel\, Stadtgarten\, Konstanz
CATEGORIES:DJ,Socialdance
ATTACH;FMTTYPE=image/png:https://swingdanceevents.ch/wp-content/uploads/2026/04/cropped-Logo-rund-blau-1024x964-1-768x723-3.png
END:VEVENT
BEGIN:VEVENT
DTSTART;TZID=Europe/Zurich:20260602T190000
DTEND;TZID=Europe/Zurich:20260602T233000
DTSTAMP:20260422T003133
CREATED:20260402T103342Z
LAST-MODIFIED:20260402T103342Z
UID:10002996-1780426800-1780443000@swingdanceevents.ch
SUMMARY:El Boge Swing Social & Classes (beginners welcome)
DESCRIPTION:Der Dienstag El Boge Swing Social. \n\n20.15 – 23:30 Socialdance mit DJ (Fr.10.-\, 5.- für Teilnehmer Klasse)\nLindy Hop Klassen \n\n19:00 – 19:30 free Lindy CrashCourse\n19:30 – 20:15 Lindy 1 walk in class Fr.20.- (just walk in\, kein Partner notwendig).\nTeachers: Marco “Muetze” & Alina\, Julio\, Matej\, Eike\n\n\nSoloJazz / Jazzroots\n\non a break\n\n\n\nAlle Klassen benötigen keine Anmeldung. Kommt einfach vorbei auf den Klassenstart.
URL:https://swingdanceevents.ch/event/el-boge-swing-social-classes-beginners-welcome-6-2-2-3-3-3-2-2-4-3-4-2-5-4-2-2-2-2-2-2-2-5-2-3-2-2-2-2-2-3-4-13-7/2026-06-02/
LOCATION:El Social\, Viaduktstrasse 64\, Zürich\, ZH\, 8005\, Switzerland
CATEGORIES:Class,Crashcourse,DJ,Party,Socialdance
ATTACH;FMTTYPE=image/png:https://swingdanceevents.ch/wp-content/uploads/2025/10/FlyerBogen2025_Tuesday_standard.png
END:VEVENT
BEGIN:VEVENT
DTSTART;VALUE=DATE:20260604
DTEND;VALUE=DATE:20260609
DTSTAMP:20260422T003133
CREATED:20260412T201056Z
LAST-MODIFIED:20260412T201056Z
UID:10003171-1780549200-1780894799@swingdanceevents.ch
SUMMARY:Lake Dance
DESCRIPTION:Unser Exchange am schönen Bodensee geht in die 2. Runde – 4 Tage (und Nächte) Segel / Schwimmen / Sonnenschein / Swing-Musik. \nZum ersten Mal steht uns die Konzertmuschel direkt am See exklusiv für alle vier Tage zur Verfügung. Das bedeutet Musik den ganzen Tag lang. Das ist nicht nur ein Festival – es ist ein Tanzmarathon am See. Du kannst eine Pause einlegen\, um segeln zu gehen\, an einem Workshop teilzunehmen oder einfach nur den See zu genießen – aber wenn du lieber nonstop tanzen möchtest\, kannst du das natürlich auch. \nAls Bands kommen dieses Jahr: \n\nThe Shirt Tail Stompers (London)\nThe Killin Jivers (Freiburg)\nJivers (Argentinen)\nSwing Kids (Schweiz)\nTim Schnicker (Freiburg)\n\nVollständige Liste und Zeitplan unter https://www.swing-ex-konstanz.de/
URL:https://swingdanceevents.ch/event/lake-dance/
LOCATION:Madame Moustache\, Obere Laube 55\, Konstanz
CATEGORIES:DJ,Festival,LiveBand
ATTACH;FMTTYPE=image/png:https://swingdanceevents.ch/wp-content/uploads/2026/04/cropped-Logo-rund-blau-1024x964-1-768x723-2.png
END:VEVENT
BEGIN:VEVENT
DTSTART;TZID=Europe/Zurich:20260604T200000
DTEND;TZID=Europe/Zurich:20260604T233000
DTSTAMP:20260422T003133
CREATED:20260419T182447Z
LAST-MODIFIED:20260419T182858Z
UID:10003339-1780603200-1780615800@swingdanceevents.ch
SUMMARY:Bürkli-Hop
DESCRIPTION:Don’t miss Zürich’s outdoor Socialdance for LindyHop & SoloJazz etc. more info & community: https://www.facebook.com/groups/buerklihop Free\, it’s a noncomercial szene-meeting run by szene members.
URL:https://swingdanceevents.ch/event/buerkli-hop/2026-06-04/
LOCATION:Bürkliplatz Musikpavillon\, Musikpavillon\, Tram Bürkliplatz\, Zürich\, ZH\, 8001\, Switzerland
CATEGORIES:DJ,Party,Socialdance
ATTACH;FMTTYPE=image/jpeg:https://swingdanceevents.ch/wp-content/uploads/2023/03/Season2023.jpg
ORGANIZER;CN="The B%C3%BCrkliHop Syndicat by Z%C3%BCrich's Lindy Szene":MAILTO:buerklihop@google.com
END:VEVENT
BEGIN:VEVENT
DTSTART;TZID=Europe/Zurich:20260605T190000
DTEND;TZID=Europe/Zurich:20260605T234500
DTSTAMP:20260422T003133
CREATED:20260414T181718Z
LAST-MODIFIED:20260414T181718Z
UID:10003252-1780686000-1780703100@swingdanceevents.ch
SUMMARY:MOTTA SWING
DESCRIPTION:MOTTA SWING \nSwinging on Limmatquai 💃🕺 \nJoin us to start swinging into the weekend with this cozy social dance in an amazing location! \nGran Café Motta ☕ \nLimmatquai 66 \n8001 Zürich \nShow up in style and blend into the nostalgic charm elegantly combined with modern design elements 😍 \n19:00 Türöffnung \n19:30 gratis Crash Kurs \n20:15 Social Dancing \nMotta Swing Combo \n20:30 • 21:30 • 22:30 \nFree entry? Support us with a 1h helper shift at the entrance and get free entry! \n(more details and link to signup for helper shifts to come soon)
URL:https://swingdanceevents.ch/event/motta-swing/2026-06-05/
LOCATION:Motta Gran Cafe\, Limmatquai 66\, Zürich\, 8001\, Switzerland
CATEGORIES:Crashcourse,DJ,LiveBand,Party,Socialdance,Teaster
ATTACH;FMTTYPE=image/jpeg:https://swingdanceevents.ch/wp-content/uploads/2026/04/sd_composite_motta-hoch-stern_poster-no-pricing.jpg
ORGANIZER;CN="Downtownswing":MAILTO:info@downtownswing.ch
END:VEVENT
BEGIN:VEVENT
DTSTART;TZID=Europe/Zurich:20260607T150000
DTEND;TZID=Europe/Zurich:20260607T180000
DTSTAMP:20260422T003133
CREATED:20260419T181318Z
LAST-MODIFIED:20260419T181318Z
UID:10003256-1780844400-1780855200@swingdanceevents.ch
SUMMARY:Cream Tea
DESCRIPTION:Es gibt schöne Swingmusik von unseren grandiosen DJs\, Kuchen (von der Kutmühle)\, Kaffee\, Kaltgetränke und Platz zum Tanzen und Sitzen drinnen und draußen. Ein wunderschönes Sonntagnachmittag Programm. Kein Eintritt\, die Raummiete wird durch eure Spenden finanziert.
URL:https://swingdanceevents.ch/event/cream-tea/2026-06-07/
LOCATION:Madame Moustache\, Obere Laube 55\, Konstanz
CATEGORIES:DJ,Socialdance
ATTACH;FMTTYPE=image/jpeg:https://swingdanceevents.ch/wp-content/uploads/2026/04/CreamTea.jpeg
END:VEVENT
END:VCALENDAR