BEGIN:VCALENDAR
VERSION:2.0
PRODID:-//Swing Dance Events Switzerland - ECPv6.15.20//NONSGML v1.0//EN
CALSCALE:GREGORIAN
METHOD:PUBLISH
X-ORIGINAL-URL:https://swingdanceevents.ch
X-WR-CALDESC:Veranstaltungen für Swing Dance Events Switzerland
REFRESH-INTERVAL;VALUE=DURATION:PT1H
X-Robots-Tag:noindex
X-PUBLISHED-TTL:PT1H
BEGIN:VTIMEZONE
TZID:Europe/Zurich
BEGIN:DAYLIGHT
TZOFFSETFROM:+0100
TZOFFSETTO:+0200
TZNAME:CEST
DTSTART:20250330T010000
END:DAYLIGHT
BEGIN:STANDARD
TZOFFSETFROM:+0200
TZOFFSETTO:+0100
TZNAME:CET
DTSTART:20251026T010000
END:STANDARD
BEGIN:DAYLIGHT
TZOFFSETFROM:+0100
TZOFFSETTO:+0200
TZNAME:CEST
DTSTART:20260329T010000
END:DAYLIGHT
BEGIN:STANDARD
TZOFFSETFROM:+0200
TZOFFSETTO:+0100
TZNAME:CET
DTSTART:20261025T010000
END:STANDARD
BEGIN:DAYLIGHT
TZOFFSETFROM:+0100
TZOFFSETTO:+0200
TZNAME:CEST
DTSTART:20270328T010000
END:DAYLIGHT
BEGIN:STANDARD
TZOFFSETFROM:+0200
TZOFFSETTO:+0100
TZNAME:CET
DTSTART:20271031T010000
END:STANDARD
END:VTIMEZONE
BEGIN:VEVENT
DTSTART;VALUE=DATE:20260604
DTEND;VALUE=DATE:20260609
DTSTAMP:20260421T164046
CREATED:20260412T201056Z
LAST-MODIFIED:20260412T201056Z
UID:10003171-1780549200-1780894799@swingdanceevents.ch
SUMMARY:Lake Dance
DESCRIPTION:Unser Exchange am schönen Bodensee geht in die 2. Runde – 4 Tage (und Nächte) Segel / Schwimmen / Sonnenschein / Swing-Musik. \nZum ersten Mal steht uns die Konzertmuschel direkt am See exklusiv für alle vier Tage zur Verfügung. Das bedeutet Musik den ganzen Tag lang. Das ist nicht nur ein Festival – es ist ein Tanzmarathon am See. Du kannst eine Pause einlegen\, um segeln zu gehen\, an einem Workshop teilzunehmen oder einfach nur den See zu genießen – aber wenn du lieber nonstop tanzen möchtest\, kannst du das natürlich auch. \nAls Bands kommen dieses Jahr: \n\nThe Shirt Tail Stompers (London)\nThe Killin Jivers (Freiburg)\nJivers (Argentinen)\nSwing Kids (Schweiz)\nTim Schnicker (Freiburg)\n\nVollständige Liste und Zeitplan unter https://www.swing-ex-konstanz.de/
URL:https://swingdanceevents.ch/event/lake-dance/
LOCATION:Madame Moustache\, Obere Laube 55\, Konstanz
CATEGORIES:DJ,Festival,LiveBand
ATTACH;FMTTYPE=image/png:https://swingdanceevents.ch/wp-content/uploads/2026/04/cropped-Logo-rund-blau-1024x964-1-768x723-2.png
END:VEVENT
BEGIN:VEVENT
DTSTART;TZID=Europe/Zurich:20260609T190000
DTEND;TZID=Europe/Zurich:20260609T233000
DTSTAMP:20260421T164046
CREATED:20260402T103342Z
LAST-MODIFIED:20260402T103342Z
UID:10002997-1781031600-1781047800@swingdanceevents.ch
SUMMARY:El Boge Swing Social & Classes (beginners welcome)
DESCRIPTION:Der Dienstag El Boge Swing Social. \n\n20.15 – 23:30 Socialdance mit DJ (Fr.10.-\, 5.- für Teilnehmer Klasse)\nLindy Hop Klassen \n\n19:00 – 19:30 free Lindy CrashCourse\n19:30 – 20:15 Lindy 1 walk in class Fr.20.- (just walk in\, kein Partner notwendig).\nTeachers: Marco “Muetze” & Alina\, Julio\, Matej\, Eike\n\n\nSoloJazz / Jazzroots\n\non a break\n\n\n\nAlle Klassen benötigen keine Anmeldung. Kommt einfach vorbei auf den Klassenstart.
URL:https://swingdanceevents.ch/event/el-boge-swing-social-classes-beginners-welcome-6-2-2-3-3-3-2-2-4-3-4-2-5-4-2-2-2-2-2-2-2-5-2-3-2-2-2-2-2-3-4-13-7/2026-06-09/
LOCATION:El Social\, Viaduktstrasse 64\, Zürich\, ZH\, 8005\, Switzerland
CATEGORIES:Class,Crashcourse,DJ,Party,Socialdance
ATTACH;FMTTYPE=image/png:https://swingdanceevents.ch/wp-content/uploads/2025/10/FlyerBogen2025_Tuesday_standard.png
END:VEVENT
BEGIN:VEVENT
DTSTART;TZID=Europe/Zurich:20260611T200000
DTEND;TZID=Europe/Zurich:20260611T233000
DTSTAMP:20260421T164046
CREATED:20260419T182447Z
LAST-MODIFIED:20260419T182858Z
UID:10003340-1781208000-1781220600@swingdanceevents.ch
SUMMARY:Bürkli-Hop
DESCRIPTION:Don’t miss Zürich’s outdoor Socialdance for LindyHop & SoloJazz etc. more info & community: https://www.facebook.com/groups/buerklihop Free\, it’s a noncomercial szene-meeting run by szene members.
URL:https://swingdanceevents.ch/event/buerkli-hop/2026-06-11/
LOCATION:Bürkliplatz Musikpavillon\, Musikpavillon\, Tram Bürkliplatz\, Zürich\, ZH\, 8001\, Switzerland
CATEGORIES:DJ,Party,Socialdance
ATTACH;FMTTYPE=image/jpeg:https://swingdanceevents.ch/wp-content/uploads/2023/03/Season2023.jpg
ORGANIZER;CN="The B%C3%BCrkliHop Syndicat by Z%C3%BCrich's Lindy Szene":MAILTO:buerklihop@google.com
END:VEVENT
BEGIN:VEVENT
DTSTART;TZID=Europe/Zurich:20260612T193000
DTEND;TZID=Europe/Zurich:20260612T220000
DTSTAMP:20260421T164046
CREATED:20240424T114945Z
LAST-MODIFIED:20260208T102358Z
UID:10003126-1781292600-1781301600@swingdanceevents.ch
SUMMARY:Kieselsteinswing
DESCRIPTION:Kieselsteinswing auf dem Helvetiaplatz in Luzern mit Swing-DJ (bei\nSchlechtwetter ab 20.30 Uhr im Sousol\, Baselstrasse).
URL:https://swingdanceevents.ch/event/kieselsteinswing/2026-06-12/
LOCATION:Helvetiaplatz Luzern\, Waldstätterstrasse 9\, Luzern\, Luzern\, 6005\, Switzerland
CATEGORIES:DJ,Party,Socialdance
ATTACH;FMTTYPE=image/jpeg:https://swingdanceevents.ch/wp-content/uploads/2024/04/Bild_Kieselstein-scaled.jpg
ORGANIZER;CN="Footwork":MAILTO:info@footwork.ch
END:VEVENT
BEGIN:VEVENT
DTSTART;TZID=Europe/Zurich:20260612T204500
DTEND;TZID=Europe/Zurich:20260613T000000
DTSTAMP:20260421T164046
CREATED:20260113T095501Z
LAST-MODIFIED:20260113T095647Z
UID:10003077-1781297100-1781308800@swingdanceevents.ch
SUMMARY:Social Dance at Ella’s Fellas
DESCRIPTION:Whether you’ve been dancing for a month or have never tried Lindy Hop before\, everyone is welcome! Social dance is a place where you can try new things\, meet people\, dance comfortably or wildly\, watch\, listen\, or just spend time with your friends. We are happy to have you! 📅 Dates: \n⁠Sat 24.01.26 – With Band/ Sat 07.03.26/ ⁠Sat 30.05.26 – With Band\n⁠Fri 06.02.26/ ⁠Fri 20.02.26 – With Band/ ⁠Fri 27.03.26 – With Band/ Fri 17.04.26 – With Band/ Fri 15.05.26/ Fri 12.06.26 – With Band \nFree Crash Course: Saturday: 14:30 – 15:00\, Friday 20:15 – 20:45 \nDoor Opening: Saturday: 15:00\, Friday: 20:45 \nEntrance: with Band: 20.-/ 10.- CHF\, with DJ: 10.-/ 5.- \n  \nImportant: \nBefore attending our event\, please check our homepage to ensure you have the latest information. \nIf you are with us for the first time\, you have to register as an association member (one-time\, free of charge and without obligations) \nTo make sure that everyone feels comfortable\, we have the following Code of Conduct (view).
URL:https://swingdanceevents.ch/event/social-dance-at-ellas-fellas/2026-06-12/
LOCATION:Ella’s Fellas NEU\, Hohlstrasse 192\, Zürich\, 8004\, Switzerland
ATTACH;FMTTYPE=image/png:https://swingdanceevents.ch/wp-content/uploads/2026/01/Teachers.png
ORGANIZER;CN="Ella's Fellas":MAILTO:info@ellasfellas.ch
END:VEVENT
BEGIN:VEVENT
DTSTART;TZID=Europe/Zurich:20260613T080000
DTEND;TZID=Europe/Zurich:20260613T170000
DTSTAMP:20260421T164046
CREATED:20250523T153611Z
LAST-MODIFIED:20250523T153808Z
UID:10002667-1781337600-1781370000@swingdanceevents.ch
SUMMARY:Kickthebasics für Blues Dance
DESCRIPTION:An einen Samstag Nachmittag hast du die Möglichkeit\, in den unendlich grossen Reichtum des Blues Dances reinzuschauen. Du lernst ein paar Basics und hast die Möglichkeit\, mit den neuen Erfahrungen an Parties zu tanzen und auszuprobieren. \nKeine Vorkenntnisse nötig.
URL:https://swingdanceevents.ch/event/kickthebasics-fuer-blues-dance-2/2026-06-13/
LOCATION:The Rhythm Rebels Studio\, Aarbergergasse 40\,\, Bern\, Bern\, 3011\, Switzerland
CATEGORIES:Workshop
ATTACH;FMTTYPE=image/jpeg:https://swingdanceevents.ch/wp-content/uploads/2025/05/Fotos-Michael-und-Biggi-by-Frederike-Asael-75.jpg
ORGANIZER;CN="Blues Dance Bern":MAILTO:info@be-bluesed.ch
END:VEVENT
END:VCALENDAR