BEGIN:VCALENDAR
VERSION:2.0
PRODID:-//Swing Dance Events Switzerland - ECPv6.15.20//NONSGML v1.0//EN
CALSCALE:GREGORIAN
METHOD:PUBLISH
X-ORIGINAL-URL:https://swingdanceevents.ch
X-WR-CALDESC:Veranstaltungen für Swing Dance Events Switzerland
REFRESH-INTERVAL;VALUE=DURATION:PT1H
X-Robots-Tag:noindex
X-PUBLISHED-TTL:PT1H
BEGIN:VTIMEZONE
TZID:Europe/Zurich
BEGIN:DAYLIGHT
TZOFFSETFROM:+0100
TZOFFSETTO:+0200
TZNAME:CEST
DTSTART:20250330T010000
END:DAYLIGHT
BEGIN:STANDARD
TZOFFSETFROM:+0200
TZOFFSETTO:+0100
TZNAME:CET
DTSTART:20251026T010000
END:STANDARD
BEGIN:DAYLIGHT
TZOFFSETFROM:+0100
TZOFFSETTO:+0200
TZNAME:CEST
DTSTART:20260329T010000
END:DAYLIGHT
BEGIN:STANDARD
TZOFFSETFROM:+0200
TZOFFSETTO:+0100
TZNAME:CET
DTSTART:20261025T010000
END:STANDARD
BEGIN:DAYLIGHT
TZOFFSETFROM:+0100
TZOFFSETTO:+0200
TZNAME:CEST
DTSTART:20270328T010000
END:DAYLIGHT
BEGIN:STANDARD
TZOFFSETFROM:+0200
TZOFFSETTO:+0100
TZNAME:CET
DTSTART:20271031T010000
END:STANDARD
END:VTIMEZONE
BEGIN:VEVENT
DTSTART;TZID=Europe/Zurich:20260509T183000
DTEND;TZID=Europe/Zurich:20260509T220000
DTSTAMP:20260419T172359
CREATED:20260414T184706Z
LAST-MODIFIED:20260414T184706Z
UID:10003253-1778351400-1778364000@swingdanceevents.ch
SUMMARY:Tap Jam and Lindy Social
DESCRIPTION:Am 9. Mai verwandelt sich das Kraftfeld Winterthur in einen pulsierenden Treffpunkt für Tanzbegeisterte. Ob Du den Boden mit schnellen Steppschritten erobern oder Dich zu mitreissendem Swing auf der Tanzfläche bewegen willst – dieser Event vereint Stepptanz und Lindy Hop! \nWarum Stepptanz und Lindy Hop?\nBeide Tanzformen sind tief in der Geschichte des Jazz verwurzelt und erlebten ihren Höhepunkt in den 1920er- und 30er-Jahren. Lindy Hop und Stepptanz\, geprägt durch die afroamerikanische Kultur\, teilen die gleiche rhythmische Grundlage und eine spontane\, kreative Ausdruckskraft. \nDas Besondere an diesem Abend?\nStepptanz und Lindy Hop wechseln sich ab! Mal gehört die Bühne dem Stepptanz: In einer kurzen Absprache werden Jazz-Standards\, Tempo und Struktur des Musikstücks festgelegt\, dann improvisieren die Tänzer:innen solistisch\, zu zweit oder in kleinen Gruppen.\nMal übernehmen die Lindy-Hop-Tänzer:innen die Fläche\, um zu Swing-Rhythmen ihre besten Moves aufs Parkett zu bringen. \nFür Profis\, Neulinge und begeisterte Zuschauer:innen – komm vorbei\, geniess die Livemusik\, tanz mit oder klatsch im Rhythmus dazu!
URL:https://swingdanceevents.ch/event/tap-jam-and-lindy-social/
LOCATION:Kraftfeld\, Lagerplatz 18\, Winterthur\, 8400\, Switzerland
CATEGORIES:DJ,LiveBand
ATTACH;FMTTYPE=image/jpeg:https://swingdanceevents.ch/wp-content/uploads/2026/04/WhatsApp-Image-2026-04-13-at-09.22.42.jpeg
ORGANIZER;CN="Swingscouts%2C Winterthur":MAILTO:info@swingscouts.ch
END:VEVENT
END:VCALENDAR