BEGIN:VCALENDAR
VERSION:2.0
PRODID:-//Swing Dance Events Switzerland - ECPv6.15.20//NONSGML v1.0//EN
CALSCALE:GREGORIAN
METHOD:PUBLISH
X-WR-CALNAME:Swing Dance Events Switzerland
X-ORIGINAL-URL:https://swingdanceevents.ch
X-WR-CALDESC:Veranstaltungen für Swing Dance Events Switzerland
REFRESH-INTERVAL;VALUE=DURATION:PT1H
X-Robots-Tag:noindex
X-PUBLISHED-TTL:PT1H
BEGIN:VTIMEZONE
TZID:Europe/Zurich
BEGIN:DAYLIGHT
TZOFFSETFROM:+0100
TZOFFSETTO:+0200
TZNAME:CEST
DTSTART:20220327T010000
END:DAYLIGHT
BEGIN:STANDARD
TZOFFSETFROM:+0200
TZOFFSETTO:+0100
TZNAME:CET
DTSTART:20221030T010000
END:STANDARD
BEGIN:DAYLIGHT
TZOFFSETFROM:+0100
TZOFFSETTO:+0200
TZNAME:CEST
DTSTART:20230326T010000
END:DAYLIGHT
BEGIN:STANDARD
TZOFFSETFROM:+0200
TZOFFSETTO:+0100
TZNAME:CET
DTSTART:20231029T010000
END:STANDARD
BEGIN:DAYLIGHT
TZOFFSETFROM:+0100
TZOFFSETTO:+0200
TZNAME:CEST
DTSTART:20240331T010000
END:DAYLIGHT
BEGIN:STANDARD
TZOFFSETFROM:+0200
TZOFFSETTO:+0100
TZNAME:CET
DTSTART:20241027T010000
END:STANDARD
END:VTIMEZONE
BEGIN:VEVENT
DTSTART;TZID=Europe/Zurich:20230621T200000
DTEND;TZID=Europe/Zurich:20230621T230000
DTSTAMP:20260422T073829
CREATED:20230531T125843Z
LAST-MODIFIED:20230531T125843Z
UID:10001318-1687377600-1687388400@swingdanceevents.ch
SUMMARY:Frog & Henry (USA) live @ Hotelbar
DESCRIPTION:Die Gewinner des “2022 JAZZ ASCONA AET MY CHOICE AUDIENCE AWARD” sind wieder in Zürich! Frog & Henry ist ein in New Orleans gegründetes Kollektiv\, welches junge Musiker aus verschiedenen street performing bands vereint und Tanz- wie Jazzmusik aus den frühen 1900er Jahren anbietet. \nDie achtköpfige Band hüllt die Hotelbar einmal mehr in Klänge aus den 20er Jahren aus dem tiefsten Süden der USA. Mit traditionellem Jazz\, Swing\, Ragtime und Blues lassen sie den Tag ausklingen und läuten die Nacht ein. Das Sommer-Feierabendbier draussen von Bläsern und Gitarrensaiten untermalt – hört sich gut an. Und wer das Tanzbein schwingen will\, nur zu! \nEs gibt eine Kollekte für die Band. Wir empfehlen einen Beitrag ab 15.– pro Person. Bei Regen findet das Konzert drinnen statt. \nBar: 16.00 Uhr\nKonzertbeginn: 20.00 Uhr \nwww.frogandhenry.com
URL:https://swingdanceevents.ch/event/frog-henry-usa-live-hotelbar/
LOCATION:Hotel Bar\, Feldstrasse 144\, Zürich\, ZH\, 8004\, Switzerland
CATEGORIES:LiveBand
ATTACH;FMTTYPE=image/jpeg:https://swingdanceevents.ch/wp-content/uploads/2023/05/FrogHenry_Hotelbar_Flyer_A6_01.jpg
ORGANIZER;CN="Hotel Bar":MAILTO:info@hotel-bar.ch
END:VEVENT
END:VCALENDAR