BEGIN:VCALENDAR
VERSION:2.0
PRODID:-//Swing Dance Events Switzerland - ECPv6.15.20//NONSGML v1.0//EN
CALSCALE:GREGORIAN
METHOD:PUBLISH
X-ORIGINAL-URL:https://swingdanceevents.ch
X-WR-CALDESC:Veranstaltungen für Swing Dance Events Switzerland
REFRESH-INTERVAL;VALUE=DURATION:PT1H
X-Robots-Tag:noindex
X-PUBLISHED-TTL:PT1H
BEGIN:VTIMEZONE
TZID:Europe/Zurich
BEGIN:DAYLIGHT
TZOFFSETFROM:+0100
TZOFFSETTO:+0200
TZNAME:CEST
DTSTART:20240331T010000
END:DAYLIGHT
BEGIN:STANDARD
TZOFFSETFROM:+0200
TZOFFSETTO:+0100
TZNAME:CET
DTSTART:20241027T010000
END:STANDARD
BEGIN:DAYLIGHT
TZOFFSETFROM:+0100
TZOFFSETTO:+0200
TZNAME:CEST
DTSTART:20250330T010000
END:DAYLIGHT
BEGIN:STANDARD
TZOFFSETFROM:+0200
TZOFFSETTO:+0100
TZNAME:CET
DTSTART:20251026T010000
END:STANDARD
BEGIN:DAYLIGHT
TZOFFSETFROM:+0100
TZOFFSETTO:+0200
TZNAME:CEST
DTSTART:20260329T010000
END:DAYLIGHT
BEGIN:STANDARD
TZOFFSETFROM:+0200
TZOFFSETTO:+0100
TZNAME:CET
DTSTART:20261025T010000
END:STANDARD
END:VTIMEZONE
BEGIN:VEVENT
DTSTART;TZID=Europe/Zurich:20251130T173000
DTEND;TZID=Europe/Zurich:20251130T220000
DTSTAMP:20260419T163508
CREATED:20251127T140650Z
LAST-MODIFIED:20251127T140745Z
UID:10003033-1764523800-1764540000@swingdanceevents.ch
SUMMARY:Swinqt – The Fries Seven Live!
DESCRIPTION:The fantastic Fried Seven from Amsterdam will be playing for you at the wonderful Quartiertreff Hirslanden. \nDoors: 17:30 \n18:00-20:00 Wood oven pizza (25.- each) \n20:00-22:00 Band \nhttps://www.synkopengesellschaft.ch/
URL:https://swingdanceevents.ch/event/swinqt-the-fries-seven-live/
LOCATION:Quartiertreff Hirslanden\, Forchstrasse 248\, Zürich\, 8032\, Switzerland
ATTACH;FMTTYPE=image/jpeg:https://swingdanceevents.ch/wp-content/uploads/2025/11/2025-11-30-FriedSeven.jpg
ORGANIZER;CN="Synkopengesellschaft":MAILTO:synkopengesellschaft@gmail.com
END:VEVENT
END:VCALENDAR