BEGIN:VCALENDAR
VERSION:2.0
PRODID:-//Swing Dance Events Switzerland - ECPv6.15.20//NONSGML v1.0//EN
CALSCALE:GREGORIAN
METHOD:PUBLISH
X-WR-CALNAME:Swing Dance Events Switzerland
X-ORIGINAL-URL:https://swingdanceevents.ch
X-WR-CALDESC:Veranstaltungen für Swing Dance Events Switzerland
REFRESH-INTERVAL;VALUE=DURATION:PT1H
X-Robots-Tag:noindex
X-PUBLISHED-TTL:PT1H
BEGIN:VTIMEZONE
TZID:Europe/Zurich
BEGIN:DAYLIGHT
TZOFFSETFROM:+0100
TZOFFSETTO:+0200
TZNAME:CEST
DTSTART:20220327T010000
END:DAYLIGHT
BEGIN:STANDARD
TZOFFSETFROM:+0200
TZOFFSETTO:+0100
TZNAME:CET
DTSTART:20221030T010000
END:STANDARD
BEGIN:DAYLIGHT
TZOFFSETFROM:+0100
TZOFFSETTO:+0200
TZNAME:CEST
DTSTART:20230326T010000
END:DAYLIGHT
BEGIN:STANDARD
TZOFFSETFROM:+0200
TZOFFSETTO:+0100
TZNAME:CET
DTSTART:20231029T010000
END:STANDARD
BEGIN:DAYLIGHT
TZOFFSETFROM:+0100
TZOFFSETTO:+0200
TZNAME:CEST
DTSTART:20240331T010000
END:DAYLIGHT
BEGIN:STANDARD
TZOFFSETFROM:+0200
TZOFFSETTO:+0100
TZNAME:CET
DTSTART:20241027T010000
END:STANDARD
END:VTIMEZONE
BEGIN:VEVENT
DTSTART;TZID=Europe/Zurich:20230706T200000
DTEND;TZID=Europe/Zurich:20230706T233000
DTSTAMP:20260424T185558
CREATED:20230630T052054Z
LAST-MODIFIED:20230630T052302Z
UID:10001157-1688673600-1688686200@swingdanceevents.ch
SUMMARY:Cancled for this Week! Bürkli-Hop (in reason of Zürifest)
DESCRIPTION:non Bürklihop at this week. Zürifest will run and rules the city this weekend. We be back on 13. July.
URL:https://swingdanceevents.ch/event/buerkli-hop-10/
LOCATION:Bürkliplatz Musikpavillon\, Musikpavillon\, Tram Bürkliplatz\, Zürich\, ZH\, 8001\, Switzerland
CATEGORIES:DJ,Party,Socialdance
ORGANIZER;CN="The B%C3%BCrkliHop Syndicat by Z%C3%BCrich's Lindy Szene":MAILTO:buerklihop@google.com
END:VEVENT
BEGIN:VEVENT
DTSTART;TZID=Europe/Zurich:20230629T200000
DTEND;TZID=Europe/Zurich:20230629T233000
DTSTAMP:20260424T185558
CREATED:20230628T063304Z
LAST-MODIFIED:20230628T063305Z
UID:10001156-1688068800-1688081400@swingdanceevents.ch
SUMMARY:Bürkli-Hop & Shim Sham Class in Front
DESCRIPTION:Don’t miss Zürich’s outdoor Socialdance for LindyHop Balboa Shag SoloJazz etc. more info & community: https://www.facebook.com/groups/buerklihop Free\, it’s a noncomercial szene-meeting run by szene members. \n\n\nThursday 29. June Bürklihop!!!!\nThis week special: SHIMsHAM CRASH COURSE in front\n19:15-20:00 ShimSham Crash Course by Marco Muetze\n20:00-23:30 Social dance\nMusic: Marco Muetze Swing Dancer and DJ & Surprise\nBürkliplatz\, Zürich\nDon’t miss zürich’s weekly puplic meetup for swing dance!!!\nmore Info www.swingdanceevents.ch
URL:https://swingdanceevents.ch/event/buerkli-hop-6-2/
LOCATION:Bürkliplatz Musikpavillon\, Musikpavillon\, Tram Bürkliplatz\, Zürich\, ZH\, 8001\, Switzerland
CATEGORIES:DJ,Party,Socialdance
ATTACH;FMTTYPE=image/jpeg:https://swingdanceevents.ch/wp-content/uploads/2023/03/buerklihop20230629ShimShamClassMuetze.jpg
ORGANIZER;CN="The B%C3%BCrkliHop Syndicat by Z%C3%BCrich's Lindy Szene":MAILTO:buerklihop@google.com
END:VEVENT
BEGIN:VEVENT
DTSTART;TZID=Europe/Zurich:20230622T200000
DTEND;TZID=Europe/Zurich:20230622T233000
DTSTAMP:20260424T185558
CREATED:20230617T143116Z
LAST-MODIFIED:20230622T150746Z
UID:10001155-1687464000-1687476600@swingdanceevents.ch
SUMMARY:Bürkli-Hop (SHAG CLASS CANCELED!!)
DESCRIPTION:Don’t miss Zürich’s outdoor Socialdance for LindyHop Balboa Shag SoloJazz etc. more info & community: https://www.facebook.com/groups/buerklihop Free\, it’s a noncomercial szene-meeting run by szene members. \n\n\n\n\n\nUPDATE:\nTHE SHAG COURSE TODAY MUST UNFORTUNATELY BE CANCELED. PAVILION IS ONLY AVAILABLE FROM 8PM TODAY.\n\n\nDER SHAG KURS HEUTE MUSS LEIDER GECANCELT WERDEN. PAVILION IST GENAU HEUTE ERST AB 20UHR VERFÜGBAR\n\nSPECIAL ACTIVITY THIS THURSDAY 22.06. IS CANCELED (SHAG CLASS 19:15-20:00) \, we start 20:00 with socialdance
URL:https://swingdanceevents.ch/event/buerkli-hop-9/
LOCATION:Bürkliplatz Musikpavillon\, Musikpavillon\, Tram Bürkliplatz\, Zürich\, ZH\, 8001\, Switzerland
CATEGORIES:Class,DJ,Party,Socialdance,Teaster
ATTACH;FMTTYPE=image/jpeg:https://swingdanceevents.ch/wp-content/uploads/2023/06/buerklihop20230622ShagClassBeaNico-1.jpg
ORGANIZER;CN="The B%C3%BCrkliHop Syndicat by Z%C3%BCrich's Lindy Szene":MAILTO:buerklihop@google.com
END:VEVENT
BEGIN:VEVENT
DTSTART;TZID=Europe/Zurich:20230615T200000
DTEND;TZID=Europe/Zurich:20230615T233000
DTSTAMP:20260424T185558
CREATED:20230331T101634Z
LAST-MODIFIED:20230331T103541Z
UID:10001154-1686859200-1686871800@swingdanceevents.ch
SUMMARY:Bürkli-Hop
DESCRIPTION:Don’t miss Zürich’s outdoor Socialdance for LindyHop Balboa Shag SoloJazz etc. more info & community: https://www.facebook.com/groups/buerklihop Free\, it’s a noncomercial szene-meeting run by szene members.
URL:https://swingdanceevents.ch/event/buerkli-hop-6/2023-06-15/
LOCATION:Bürkliplatz Musikpavillon\, Musikpavillon\, Tram Bürkliplatz\, Zürich\, ZH\, 8001\, Switzerland
CATEGORIES:DJ,Party,Socialdance
ATTACH;FMTTYPE=image/jpeg:https://swingdanceevents.ch/wp-content/uploads/2023/03/Season2023.jpg
ORGANIZER;CN="The B%C3%BCrkliHop Syndicat by Z%C3%BCrich's Lindy Szene":MAILTO:buerklihop@google.com
END:VEVENT
BEGIN:VEVENT
DTSTART;TZID=Europe/Zurich:20230608T200000
DTEND;TZID=Europe/Zurich:20230608T233000
DTSTAMP:20260424T185558
CREATED:20230604T175144Z
LAST-MODIFIED:20230604T175323Z
UID:10001153-1686254400-1686267000@swingdanceevents.ch
SUMMARY:Bürkli-Hop Live The Pavilion Dance Orchestra
DESCRIPTION:Live at Bürki-Hop THE PAVILION DANCE ORCHESTRA.\nNamed by the Bürkli Pavilion\, playing for Bürkli-Hop\, is this some kind of House-Band for us. We looking forward to a amazing evening with live played tunes from the swing area for all of you dancers!\nDon’t miss Zürich’s outdoor Socialdance for LindyHop Balboa Shag SoloJazz etc.\nmore info & community: https://www.facebook.com/groups/buerklihop\nFree\, it’s a noncomercial szene-meeting run by szene members. There is a hat for the band\, don’t forget the cash;)
URL:https://swingdanceevents.ch/event/buerkli-hop-8/
LOCATION:Bürkliplatz Musikpavillon\, Musikpavillon\, Tram Bürkliplatz\, Zürich\, ZH\, 8001\, Switzerland
CATEGORIES:LiveBand,Party,Socialdance
ATTACH;FMTTYPE=image/jpeg:https://swingdanceevents.ch/wp-content/uploads/2023/06/PavilionDanceOrchestra_20230608.jpg
ORGANIZER;CN="The B%C3%BCrkliHop Syndicat by Z%C3%BCrich's Lindy Szene":MAILTO:buerklihop@google.com
END:VEVENT
BEGIN:VEVENT
DTSTART;TZID=Europe/Zurich:20230601T200000
DTEND;TZID=Europe/Zurich:20230601T233000
DTSTAMP:20260424T185558
CREATED:20230331T101634Z
LAST-MODIFIED:20230331T103541Z
UID:10001152-1685649600-1685662200@swingdanceevents.ch
SUMMARY:Bürkli-Hop
DESCRIPTION:Don’t miss Zürich’s outdoor Socialdance for LindyHop Balboa Shag SoloJazz etc. more info & community: https://www.facebook.com/groups/buerklihop Free\, it’s a noncomercial szene-meeting run by szene members.
URL:https://swingdanceevents.ch/event/buerkli-hop-6/2023-06-01/
LOCATION:Bürkliplatz Musikpavillon\, Musikpavillon\, Tram Bürkliplatz\, Zürich\, ZH\, 8001\, Switzerland
CATEGORIES:DJ,Party,Socialdance
ATTACH;FMTTYPE=image/jpeg:https://swingdanceevents.ch/wp-content/uploads/2023/03/Season2023.jpg
ORGANIZER;CN="The B%C3%BCrkliHop Syndicat by Z%C3%BCrich's Lindy Szene":MAILTO:buerklihop@google.com
END:VEVENT
BEGIN:VEVENT
DTSTART;TZID=Europe/Zurich:20230525T200000
DTEND;TZID=Europe/Zurich:20230525T233000
DTSTAMP:20260424T185558
CREATED:20230331T101634Z
LAST-MODIFIED:20230331T103541Z
UID:10001151-1685044800-1685057400@swingdanceevents.ch
SUMMARY:Bürkli-Hop
DESCRIPTION:Don’t miss Zürich’s outdoor Socialdance for LindyHop Balboa Shag SoloJazz etc. more info & community: https://www.facebook.com/groups/buerklihop Free\, it’s a noncomercial szene-meeting run by szene members.
URL:https://swingdanceevents.ch/event/buerkli-hop-6/2023-05-25/
LOCATION:Bürkliplatz Musikpavillon\, Musikpavillon\, Tram Bürkliplatz\, Zürich\, ZH\, 8001\, Switzerland
CATEGORIES:DJ,Party,Socialdance
ATTACH;FMTTYPE=image/jpeg:https://swingdanceevents.ch/wp-content/uploads/2023/03/Season2023.jpg
ORGANIZER;CN="The B%C3%BCrkliHop Syndicat by Z%C3%BCrich's Lindy Szene":MAILTO:buerklihop@google.com
END:VEVENT
BEGIN:VEVENT
DTSTART;TZID=Europe/Zurich:20230518T200000
DTEND;TZID=Europe/Zurich:20230518T233000
DTSTAMP:20260424T185558
CREATED:20230331T101634Z
LAST-MODIFIED:20230331T103541Z
UID:10001150-1684440000-1684452600@swingdanceevents.ch
SUMMARY:Bürkli-Hop
DESCRIPTION:Don’t miss Zürich’s outdoor Socialdance for LindyHop Balboa Shag SoloJazz etc. more info & community: https://www.facebook.com/groups/buerklihop Free\, it’s a noncomercial szene-meeting run by szene members.
URL:https://swingdanceevents.ch/event/buerkli-hop-6/2023-05-18/
LOCATION:Bürkliplatz Musikpavillon\, Musikpavillon\, Tram Bürkliplatz\, Zürich\, ZH\, 8001\, Switzerland
CATEGORIES:DJ,Party,Socialdance
ATTACH;FMTTYPE=image/jpeg:https://swingdanceevents.ch/wp-content/uploads/2023/03/Season2023.jpg
ORGANIZER;CN="The B%C3%BCrkliHop Syndicat by Z%C3%BCrich's Lindy Szene":MAILTO:buerklihop@google.com
END:VEVENT
BEGIN:VEVENT
DTSTART;TZID=Europe/Zurich:20230511T200000
DTEND;TZID=Europe/Zurich:20230511T233000
DTSTAMP:20260424T185558
CREATED:20230331T101634Z
LAST-MODIFIED:20230331T103541Z
UID:10001149-1683835200-1683847800@swingdanceevents.ch
SUMMARY:Bürkli-Hop
DESCRIPTION:Don’t miss Zürich’s outdoor Socialdance for LindyHop Balboa Shag SoloJazz etc. more info & community: https://www.facebook.com/groups/buerklihop Free\, it’s a noncomercial szene-meeting run by szene members.
URL:https://swingdanceevents.ch/event/buerkli-hop-6/2023-05-11/
LOCATION:Bürkliplatz Musikpavillon\, Musikpavillon\, Tram Bürkliplatz\, Zürich\, ZH\, 8001\, Switzerland
CATEGORIES:DJ,Party,Socialdance
ATTACH;FMTTYPE=image/jpeg:https://swingdanceevents.ch/wp-content/uploads/2023/03/Season2023.jpg
ORGANIZER;CN="The B%C3%BCrkliHop Syndicat by Z%C3%BCrich's Lindy Szene":MAILTO:buerklihop@google.com
END:VEVENT
BEGIN:VEVENT
DTSTART;TZID=Europe/Zurich:20230504T200000
DTEND;TZID=Europe/Zurich:20230504T233000
DTSTAMP:20260424T185558
CREATED:20230331T101634Z
LAST-MODIFIED:20230331T103541Z
UID:10001148-1683230400-1683243000@swingdanceevents.ch
SUMMARY:Bürkli-Hop
DESCRIPTION:Don’t miss Zürich’s outdoor Socialdance for LindyHop Balboa Shag SoloJazz etc. more info & community: https://www.facebook.com/groups/buerklihop Free\, it’s a noncomercial szene-meeting run by szene members.
URL:https://swingdanceevents.ch/event/buerkli-hop-6/2023-05-04/
LOCATION:Bürkliplatz Musikpavillon\, Musikpavillon\, Tram Bürkliplatz\, Zürich\, ZH\, 8001\, Switzerland
CATEGORIES:DJ,Party,Socialdance
ATTACH;FMTTYPE=image/jpeg:https://swingdanceevents.ch/wp-content/uploads/2023/03/Season2023.jpg
ORGANIZER;CN="The B%C3%BCrkliHop Syndicat by Z%C3%BCrich's Lindy Szene":MAILTO:buerklihop@google.com
END:VEVENT
BEGIN:VEVENT
DTSTART;TZID=Europe/Zurich:20230427T200000
DTEND;TZID=Europe/Zurich:20230427T233000
DTSTAMP:20260424T185558
CREATED:20230331T101634Z
LAST-MODIFIED:20230331T103541Z
UID:10001147-1682625600-1682638200@swingdanceevents.ch
SUMMARY:Bürkli-Hop
DESCRIPTION:Don’t miss Zürich’s outdoor Socialdance for LindyHop Balboa Shag SoloJazz etc. more info & community: https://www.facebook.com/groups/buerklihop Free\, it’s a noncomercial szene-meeting run by szene members.
URL:https://swingdanceevents.ch/event/buerkli-hop-6/2023-04-27/
LOCATION:Bürkliplatz Musikpavillon\, Musikpavillon\, Tram Bürkliplatz\, Zürich\, ZH\, 8001\, Switzerland
CATEGORIES:DJ,Party,Socialdance
ATTACH;FMTTYPE=image/jpeg:https://swingdanceevents.ch/wp-content/uploads/2023/03/Season2023.jpg
ORGANIZER;CN="The B%C3%BCrkliHop Syndicat by Z%C3%BCrich's Lindy Szene":MAILTO:buerklihop@google.com
END:VEVENT
END:VCALENDAR