BEGIN:VCALENDAR
VERSION:2.0
PRODID:-//Swing Dance Events Switzerland - ECPv6.15.20//NONSGML v1.0//EN
CALSCALE:GREGORIAN
METHOD:PUBLISH
X-WR-CALNAME:Swing Dance Events Switzerland
X-ORIGINAL-URL:https://swingdanceevents.ch
X-WR-CALDESC:Veranstaltungen für Swing Dance Events Switzerland
REFRESH-INTERVAL;VALUE=DURATION:PT1H
X-Robots-Tag:noindex
X-PUBLISHED-TTL:PT1H
BEGIN:VTIMEZONE
TZID:Europe/Zurich
BEGIN:DAYLIGHT
TZOFFSETFROM:+0100
TZOFFSETTO:+0200
TZNAME:CEST
DTSTART:20230326T010000
END:DAYLIGHT
BEGIN:STANDARD
TZOFFSETFROM:+0200
TZOFFSETTO:+0100
TZNAME:CET
DTSTART:20231029T010000
END:STANDARD
BEGIN:DAYLIGHT
TZOFFSETFROM:+0100
TZOFFSETTO:+0200
TZNAME:CEST
DTSTART:20240331T010000
END:DAYLIGHT
BEGIN:STANDARD
TZOFFSETFROM:+0200
TZOFFSETTO:+0100
TZNAME:CET
DTSTART:20241027T010000
END:STANDARD
BEGIN:DAYLIGHT
TZOFFSETFROM:+0100
TZOFFSETTO:+0200
TZNAME:CEST
DTSTART:20250330T010000
END:DAYLIGHT
BEGIN:STANDARD
TZOFFSETFROM:+0200
TZOFFSETTO:+0100
TZNAME:CET
DTSTART:20251026T010000
END:STANDARD
END:VTIMEZONE
BEGIN:VEVENT
DTSTART;TZID=Europe/Zurich:20240717T200000
DTEND;TZID=Europe/Zurich:20240717T230000
DTSTAMP:20260419T151135
CREATED:20240609T080300Z
LAST-MODIFIED:20240624T202816Z
UID:10002009-1721246400-1721257200@swingdanceevents.ch
SUMMARY:Swing Cocktail (Summer Special) mit »The Jungle Jazz Band«
DESCRIPTION:Die Jungle Jazz Band und die Schweiz\, das war Liebe auf den ersten Blick – deshalb kommen die Berliner im Juli direkt noch mal zu uns. Das ruft nach einem ausserordentlichen Swing Cocktail! 🌻 \nDie Sommerversion geht so: \n\nlauschiger Sommerabend\nTanz unter freiem Himmel\neine der mitreissendsten Livebands der Saison\nDJ Fräulein Minnie\nDachterrasse zum Wiedehopf in Winterthur\nLebensfreude pur\n\n20:00–23:00 Party unterm Sternenhimmel\, ab 21:45 im Saal\nEintritt: Hutkollekte für die Band (wir empfehlen CHF 15-20.-) \nSo spielt die Jungle Jazz Band – und jetzt lasst uns in den Sommer tanzen! 💃🏻 \nUpdates folgen auch auf Instagram\, Facebook und in der SC-WhatsApp-Gruppe.
URL:https://swingdanceevents.ch/event/swing-cocktail-summer-special-mit-the-jungle-jazz-band/
LOCATION:Dachterrasse Zum Wiedenhopf\, Haldenstrasse 69\, 8400 Winterthur\, Zürich\, 8400\, Switzerland
CATEGORIES:DJ,LiveBand,Party,Socialdance
ATTACH;FMTTYPE=image/png:https://swingdanceevents.ch/wp-content/uploads/2024/06/Swing-Cocktail-Summer-Special-1.png
ORGANIZER;CN="Swingscouts%2C Winterthur":MAILTO:info@swingscouts.ch
END:VEVENT
END:VCALENDAR