BEGIN:VCALENDAR
VERSION:2.0
PRODID:-//Swing Dance Events Switzerland - ECPv6.15.20//NONSGML v1.0//EN
CALSCALE:GREGORIAN
METHOD:PUBLISH
X-WR-CALNAME:Swing Dance Events Switzerland
X-ORIGINAL-URL:https://swingdanceevents.ch
X-WR-CALDESC:Veranstaltungen für Swing Dance Events Switzerland
REFRESH-INTERVAL;VALUE=DURATION:PT1H
X-Robots-Tag:noindex
X-PUBLISHED-TTL:PT1H
BEGIN:VTIMEZONE
TZID:Europe/Zurich
BEGIN:DAYLIGHT
TZOFFSETFROM:+0100
TZOFFSETTO:+0200
TZNAME:CEST
DTSTART:20250330T010000
END:DAYLIGHT
BEGIN:STANDARD
TZOFFSETFROM:+0200
TZOFFSETTO:+0100
TZNAME:CET
DTSTART:20251026T010000
END:STANDARD
BEGIN:DAYLIGHT
TZOFFSETFROM:+0100
TZOFFSETTO:+0200
TZNAME:CEST
DTSTART:20260329T010000
END:DAYLIGHT
BEGIN:STANDARD
TZOFFSETFROM:+0200
TZOFFSETTO:+0100
TZNAME:CET
DTSTART:20261025T010000
END:STANDARD
BEGIN:DAYLIGHT
TZOFFSETFROM:+0100
TZOFFSETTO:+0200
TZNAME:CEST
DTSTART:20270328T010000
END:DAYLIGHT
BEGIN:STANDARD
TZOFFSETFROM:+0200
TZOFFSETTO:+0100
TZNAME:CET
DTSTART:20271031T010000
END:STANDARD
END:VTIMEZONE
BEGIN:VEVENT
DTSTART;TZID=Europe/Zurich:20261013T190000
DTEND;TZID=Europe/Zurich:20261013T233000
DTSTAMP:20260421T083616
CREATED:20260402T103342Z
LAST-MODIFIED:20260402T103342Z
UID:10003015-1791918000-1791934200@swingdanceevents.ch
SUMMARY:El Boge Swing Social & Classes (beginners welcome)
DESCRIPTION:Der Dienstag El Boge Swing Social. \n\n20.15 – 23:30 Socialdance mit DJ (Fr.10.-\, 5.- für Teilnehmer Klasse)\nLindy Hop Klassen \n\n19:00 – 19:30 free Lindy CrashCourse\n19:30 – 20:15 Lindy 1 walk in class Fr.20.- (just walk in\, kein Partner notwendig).\nTeachers: Marco “Muetze” & Alina\, Julio\, Matej\, Eike\n\n\nSoloJazz / Jazzroots\n\non a break\n\n\n\nAlle Klassen benötigen keine Anmeldung. Kommt einfach vorbei auf den Klassenstart.
URL:https://swingdanceevents.ch/event/el-boge-swing-social-classes-beginners-welcome-6-2-2-3-3-3-2-2-4-3-4-2-5-4-2-2-2-2-2-2-2-5-2-3-2-2-2-2-2-3-4-13-7/2026-10-13/
LOCATION:El Social\, Viaduktstrasse 64\, Zürich\, ZH\, 8005\, Switzerland
CATEGORIES:Class,Crashcourse,DJ,Party,Socialdance
ATTACH;FMTTYPE=image/png:https://swingdanceevents.ch/wp-content/uploads/2025/10/FlyerBogen2025_Tuesday_standard.png
END:VEVENT
BEGIN:VEVENT
DTSTART;TZID=Europe/Zurich:20261020T190000
DTEND;TZID=Europe/Zurich:20261020T233000
DTSTAMP:20260421T083616
CREATED:20260402T103342Z
LAST-MODIFIED:20260402T103342Z
UID:10003016-1792522800-1792539000@swingdanceevents.ch
SUMMARY:El Boge Swing Social & Classes (beginners welcome)
DESCRIPTION:Der Dienstag El Boge Swing Social. \n\n20.15 – 23:30 Socialdance mit DJ (Fr.10.-\, 5.- für Teilnehmer Klasse)\nLindy Hop Klassen \n\n19:00 – 19:30 free Lindy CrashCourse\n19:30 – 20:15 Lindy 1 walk in class Fr.20.- (just walk in\, kein Partner notwendig).\nTeachers: Marco “Muetze” & Alina\, Julio\, Matej\, Eike\n\n\nSoloJazz / Jazzroots\n\non a break\n\n\n\nAlle Klassen benötigen keine Anmeldung. Kommt einfach vorbei auf den Klassenstart.
URL:https://swingdanceevents.ch/event/el-boge-swing-social-classes-beginners-welcome-6-2-2-3-3-3-2-2-4-3-4-2-5-4-2-2-2-2-2-2-2-5-2-3-2-2-2-2-2-3-4-13-7/2026-10-20/
LOCATION:El Social\, Viaduktstrasse 64\, Zürich\, ZH\, 8005\, Switzerland
CATEGORIES:Class,Crashcourse,DJ,Party,Socialdance
ATTACH;FMTTYPE=image/png:https://swingdanceevents.ch/wp-content/uploads/2025/10/FlyerBogen2025_Tuesday_standard.png
END:VEVENT
BEGIN:VEVENT
DTSTART;TZID=Europe/Zurich:20261027T190000
DTEND;TZID=Europe/Zurich:20261027T233000
DTSTAMP:20260421T083616
CREATED:20260402T103342Z
LAST-MODIFIED:20260402T103342Z
UID:10003017-1793127600-1793143800@swingdanceevents.ch
SUMMARY:El Boge Swing Social & Classes (beginners welcome)
DESCRIPTION:Der Dienstag El Boge Swing Social. \n\n20.15 – 23:30 Socialdance mit DJ (Fr.10.-\, 5.- für Teilnehmer Klasse)\nLindy Hop Klassen \n\n19:00 – 19:30 free Lindy CrashCourse\n19:30 – 20:15 Lindy 1 walk in class Fr.20.- (just walk in\, kein Partner notwendig).\nTeachers: Marco “Muetze” & Alina\, Julio\, Matej\, Eike\n\n\nSoloJazz / Jazzroots\n\non a break\n\n\n\nAlle Klassen benötigen keine Anmeldung. Kommt einfach vorbei auf den Klassenstart.
URL:https://swingdanceevents.ch/event/el-boge-swing-social-classes-beginners-welcome-6-2-2-3-3-3-2-2-4-3-4-2-5-4-2-2-2-2-2-2-2-5-2-3-2-2-2-2-2-3-4-13-7/2026-10-27/
LOCATION:El Social\, Viaduktstrasse 64\, Zürich\, ZH\, 8005\, Switzerland
CATEGORIES:Class,Crashcourse,DJ,Party,Socialdance
ATTACH;FMTTYPE=image/png:https://swingdanceevents.ch/wp-content/uploads/2025/10/FlyerBogen2025_Tuesday_standard.png
END:VEVENT
BEGIN:VEVENT
DTSTART;TZID=Europe/Zurich:20261103T190000
DTEND;TZID=Europe/Zurich:20261103T233000
DTSTAMP:20260421T083616
CREATED:20260402T103342Z
LAST-MODIFIED:20260402T103342Z
UID:10003018-1793732400-1793748600@swingdanceevents.ch
SUMMARY:El Boge Swing Social & Classes (beginners welcome)
DESCRIPTION:Der Dienstag El Boge Swing Social. \n\n20.15 – 23:30 Socialdance mit DJ (Fr.10.-\, 5.- für Teilnehmer Klasse)\nLindy Hop Klassen \n\n19:00 – 19:30 free Lindy CrashCourse\n19:30 – 20:15 Lindy 1 walk in class Fr.20.- (just walk in\, kein Partner notwendig).\nTeachers: Marco “Muetze” & Alina\, Julio\, Matej\, Eike\n\n\nSoloJazz / Jazzroots\n\non a break\n\n\n\nAlle Klassen benötigen keine Anmeldung. Kommt einfach vorbei auf den Klassenstart.
URL:https://swingdanceevents.ch/event/el-boge-swing-social-classes-beginners-welcome-6-2-2-3-3-3-2-2-4-3-4-2-5-4-2-2-2-2-2-2-2-5-2-3-2-2-2-2-2-3-4-13-7/2026-11-03/
LOCATION:El Social\, Viaduktstrasse 64\, Zürich\, ZH\, 8005\, Switzerland
CATEGORIES:Class,Crashcourse,DJ,Party,Socialdance
ATTACH;FMTTYPE=image/png:https://swingdanceevents.ch/wp-content/uploads/2025/10/FlyerBogen2025_Tuesday_standard.png
END:VEVENT
BEGIN:VEVENT
DTSTART;TZID=Europe/Zurich:20261110T190000
DTEND;TZID=Europe/Zurich:20261110T233000
DTSTAMP:20260421T083616
CREATED:20260402T103342Z
LAST-MODIFIED:20260402T103342Z
UID:10003019-1794337200-1794353400@swingdanceevents.ch
SUMMARY:El Boge Swing Social & Classes (beginners welcome)
DESCRIPTION:Der Dienstag El Boge Swing Social. \n\n20.15 – 23:30 Socialdance mit DJ (Fr.10.-\, 5.- für Teilnehmer Klasse)\nLindy Hop Klassen \n\n19:00 – 19:30 free Lindy CrashCourse\n19:30 – 20:15 Lindy 1 walk in class Fr.20.- (just walk in\, kein Partner notwendig).\nTeachers: Marco “Muetze” & Alina\, Julio\, Matej\, Eike\n\n\nSoloJazz / Jazzroots\n\non a break\n\n\n\nAlle Klassen benötigen keine Anmeldung. Kommt einfach vorbei auf den Klassenstart.
URL:https://swingdanceevents.ch/event/el-boge-swing-social-classes-beginners-welcome-6-2-2-3-3-3-2-2-4-3-4-2-5-4-2-2-2-2-2-2-2-5-2-3-2-2-2-2-2-3-4-13-7/2026-11-10/
LOCATION:El Social\, Viaduktstrasse 64\, Zürich\, ZH\, 8005\, Switzerland
CATEGORIES:Class,Crashcourse,DJ,Party,Socialdance
ATTACH;FMTTYPE=image/png:https://swingdanceevents.ch/wp-content/uploads/2025/10/FlyerBogen2025_Tuesday_standard.png
END:VEVENT
BEGIN:VEVENT
DTSTART;TZID=Europe/Zurich:20261117T190000
DTEND;TZID=Europe/Zurich:20261117T233000
DTSTAMP:20260421T083616
CREATED:20260402T103342Z
LAST-MODIFIED:20260402T103342Z
UID:10003020-1794942000-1794958200@swingdanceevents.ch
SUMMARY:El Boge Swing Social & Classes (beginners welcome)
DESCRIPTION:Der Dienstag El Boge Swing Social. \n\n20.15 – 23:30 Socialdance mit DJ (Fr.10.-\, 5.- für Teilnehmer Klasse)\nLindy Hop Klassen \n\n19:00 – 19:30 free Lindy CrashCourse\n19:30 – 20:15 Lindy 1 walk in class Fr.20.- (just walk in\, kein Partner notwendig).\nTeachers: Marco “Muetze” & Alina\, Julio\, Matej\, Eike\n\n\nSoloJazz / Jazzroots\n\non a break\n\n\n\nAlle Klassen benötigen keine Anmeldung. Kommt einfach vorbei auf den Klassenstart.
URL:https://swingdanceevents.ch/event/el-boge-swing-social-classes-beginners-welcome-6-2-2-3-3-3-2-2-4-3-4-2-5-4-2-2-2-2-2-2-2-5-2-3-2-2-2-2-2-3-4-13-7/2026-11-17/
LOCATION:El Social\, Viaduktstrasse 64\, Zürich\, ZH\, 8005\, Switzerland
CATEGORIES:Class,Crashcourse,DJ,Party,Socialdance
ATTACH;FMTTYPE=image/png:https://swingdanceevents.ch/wp-content/uploads/2025/10/FlyerBogen2025_Tuesday_standard.png
END:VEVENT
BEGIN:VEVENT
DTSTART;TZID=Europe/Zurich:20261124T190000
DTEND;TZID=Europe/Zurich:20261124T233000
DTSTAMP:20260421T083616
CREATED:20260402T103342Z
LAST-MODIFIED:20260402T103342Z
UID:10003021-1795546800-1795563000@swingdanceevents.ch
SUMMARY:El Boge Swing Social & Classes (beginners welcome)
DESCRIPTION:Der Dienstag El Boge Swing Social. \n\n20.15 – 23:30 Socialdance mit DJ (Fr.10.-\, 5.- für Teilnehmer Klasse)\nLindy Hop Klassen \n\n19:00 – 19:30 free Lindy CrashCourse\n19:30 – 20:15 Lindy 1 walk in class Fr.20.- (just walk in\, kein Partner notwendig).\nTeachers: Marco “Muetze” & Alina\, Julio\, Matej\, Eike\n\n\nSoloJazz / Jazzroots\n\non a break\n\n\n\nAlle Klassen benötigen keine Anmeldung. Kommt einfach vorbei auf den Klassenstart.
URL:https://swingdanceevents.ch/event/el-boge-swing-social-classes-beginners-welcome-6-2-2-3-3-3-2-2-4-3-4-2-5-4-2-2-2-2-2-2-2-5-2-3-2-2-2-2-2-3-4-13-7/2026-11-24/
LOCATION:El Social\, Viaduktstrasse 64\, Zürich\, ZH\, 8005\, Switzerland
CATEGORIES:Class,Crashcourse,DJ,Party,Socialdance
ATTACH;FMTTYPE=image/png:https://swingdanceevents.ch/wp-content/uploads/2025/10/FlyerBogen2025_Tuesday_standard.png
END:VEVENT
BEGIN:VEVENT
DTSTART;TZID=Europe/Zurich:20261201T190000
DTEND;TZID=Europe/Zurich:20261201T233000
DTSTAMP:20260421T083616
CREATED:20260402T103342Z
LAST-MODIFIED:20260402T103342Z
UID:10003022-1796151600-1796167800@swingdanceevents.ch
SUMMARY:El Boge Swing Social & Classes (beginners welcome)
DESCRIPTION:Der Dienstag El Boge Swing Social. \n\n20.15 – 23:30 Socialdance mit DJ (Fr.10.-\, 5.- für Teilnehmer Klasse)\nLindy Hop Klassen \n\n19:00 – 19:30 free Lindy CrashCourse\n19:30 – 20:15 Lindy 1 walk in class Fr.20.- (just walk in\, kein Partner notwendig).\nTeachers: Marco “Muetze” & Alina\, Julio\, Matej\, Eike\n\n\nSoloJazz / Jazzroots\n\non a break\n\n\n\nAlle Klassen benötigen keine Anmeldung. Kommt einfach vorbei auf den Klassenstart.
URL:https://swingdanceevents.ch/event/el-boge-swing-social-classes-beginners-welcome-6-2-2-3-3-3-2-2-4-3-4-2-5-4-2-2-2-2-2-2-2-5-2-3-2-2-2-2-2-3-4-13-7/2026-12-01/
LOCATION:El Social\, Viaduktstrasse 64\, Zürich\, ZH\, 8005\, Switzerland
CATEGORIES:Class,Crashcourse,DJ,Party,Socialdance
ATTACH;FMTTYPE=image/png:https://swingdanceevents.ch/wp-content/uploads/2025/10/FlyerBogen2025_Tuesday_standard.png
END:VEVENT
BEGIN:VEVENT
DTSTART;TZID=Europe/Zurich:20261208T190000
DTEND;TZID=Europe/Zurich:20261208T233000
DTSTAMP:20260421T083616
CREATED:20260402T103342Z
LAST-MODIFIED:20260402T103342Z
UID:10003023-1796756400-1796772600@swingdanceevents.ch
SUMMARY:El Boge Swing Social & Classes (beginners welcome)
DESCRIPTION:Der Dienstag El Boge Swing Social. \n\n20.15 – 23:30 Socialdance mit DJ (Fr.10.-\, 5.- für Teilnehmer Klasse)\nLindy Hop Klassen \n\n19:00 – 19:30 free Lindy CrashCourse\n19:30 – 20:15 Lindy 1 walk in class Fr.20.- (just walk in\, kein Partner notwendig).\nTeachers: Marco “Muetze” & Alina\, Julio\, Matej\, Eike\n\n\nSoloJazz / Jazzroots\n\non a break\n\n\n\nAlle Klassen benötigen keine Anmeldung. Kommt einfach vorbei auf den Klassenstart.
URL:https://swingdanceevents.ch/event/el-boge-swing-social-classes-beginners-welcome-6-2-2-3-3-3-2-2-4-3-4-2-5-4-2-2-2-2-2-2-2-5-2-3-2-2-2-2-2-3-4-13-7/2026-12-08/
LOCATION:El Social\, Viaduktstrasse 64\, Zürich\, ZH\, 8005\, Switzerland
CATEGORIES:Class,Crashcourse,DJ,Party,Socialdance
ATTACH;FMTTYPE=image/png:https://swingdanceevents.ch/wp-content/uploads/2025/10/FlyerBogen2025_Tuesday_standard.png
END:VEVENT
BEGIN:VEVENT
DTSTART;TZID=Europe/Zurich:20261215T190000
DTEND;TZID=Europe/Zurich:20261215T233000
DTSTAMP:20260421T083616
CREATED:20260402T103342Z
LAST-MODIFIED:20260402T103342Z
UID:10003024-1797361200-1797377400@swingdanceevents.ch
SUMMARY:El Boge Swing Social & Classes (beginners welcome)
DESCRIPTION:Der Dienstag El Boge Swing Social. \n\n20.15 – 23:30 Socialdance mit DJ (Fr.10.-\, 5.- für Teilnehmer Klasse)\nLindy Hop Klassen \n\n19:00 – 19:30 free Lindy CrashCourse\n19:30 – 20:15 Lindy 1 walk in class Fr.20.- (just walk in\, kein Partner notwendig).\nTeachers: Marco “Muetze” & Alina\, Julio\, Matej\, Eike\n\n\nSoloJazz / Jazzroots\n\non a break\n\n\n\nAlle Klassen benötigen keine Anmeldung. Kommt einfach vorbei auf den Klassenstart.
URL:https://swingdanceevents.ch/event/el-boge-swing-social-classes-beginners-welcome-6-2-2-3-3-3-2-2-4-3-4-2-5-4-2-2-2-2-2-2-2-5-2-3-2-2-2-2-2-3-4-13-7/2026-12-15/
LOCATION:El Social\, Viaduktstrasse 64\, Zürich\, ZH\, 8005\, Switzerland
CATEGORIES:Class,Crashcourse,DJ,Party,Socialdance
ATTACH;FMTTYPE=image/png:https://swingdanceevents.ch/wp-content/uploads/2025/10/FlyerBogen2025_Tuesday_standard.png
END:VEVENT
BEGIN:VEVENT
DTSTART;TZID=Europe/Zurich:20261222T190000
DTEND;TZID=Europe/Zurich:20261222T233000
DTSTAMP:20260421T083616
CREATED:20260402T103342Z
LAST-MODIFIED:20260402T103342Z
UID:10003025-1797966000-1797982200@swingdanceevents.ch
SUMMARY:El Boge Swing Social & Classes (beginners welcome)
DESCRIPTION:Der Dienstag El Boge Swing Social. \n\n20.15 – 23:30 Socialdance mit DJ (Fr.10.-\, 5.- für Teilnehmer Klasse)\nLindy Hop Klassen \n\n19:00 – 19:30 free Lindy CrashCourse\n19:30 – 20:15 Lindy 1 walk in class Fr.20.- (just walk in\, kein Partner notwendig).\nTeachers: Marco “Muetze” & Alina\, Julio\, Matej\, Eike\n\n\nSoloJazz / Jazzroots\n\non a break\n\n\n\nAlle Klassen benötigen keine Anmeldung. Kommt einfach vorbei auf den Klassenstart.
URL:https://swingdanceevents.ch/event/el-boge-swing-social-classes-beginners-welcome-6-2-2-3-3-3-2-2-4-3-4-2-5-4-2-2-2-2-2-2-2-5-2-3-2-2-2-2-2-3-4-13-7/2026-12-22/
LOCATION:El Social\, Viaduktstrasse 64\, Zürich\, ZH\, 8005\, Switzerland
CATEGORIES:Class,Crashcourse,DJ,Party,Socialdance
ATTACH;FMTTYPE=image/png:https://swingdanceevents.ch/wp-content/uploads/2025/10/FlyerBogen2025_Tuesday_standard.png
END:VEVENT
END:VCALENDAR