BEGIN:VCALENDAR
VERSION:2.0
PRODID:-//Swing Dance Events Switzerland - ECPv6.15.20//NONSGML v1.0//EN
CALSCALE:GREGORIAN
METHOD:PUBLISH
X-ORIGINAL-URL:https://swingdanceevents.ch
X-WR-CALDESC:Veranstaltungen für Swing Dance Events Switzerland
REFRESH-INTERVAL;VALUE=DURATION:PT1H
X-Robots-Tag:noindex
X-PUBLISHED-TTL:PT1H
BEGIN:VTIMEZONE
TZID:Europe/Zurich
BEGIN:DAYLIGHT
TZOFFSETFROM:+0100
TZOFFSETTO:+0200
TZNAME:CEST
DTSTART:20230326T010000
END:DAYLIGHT
BEGIN:STANDARD
TZOFFSETFROM:+0200
TZOFFSETTO:+0100
TZNAME:CET
DTSTART:20231029T010000
END:STANDARD
BEGIN:DAYLIGHT
TZOFFSETFROM:+0100
TZOFFSETTO:+0200
TZNAME:CEST
DTSTART:20240331T010000
END:DAYLIGHT
BEGIN:STANDARD
TZOFFSETFROM:+0200
TZOFFSETTO:+0100
TZNAME:CET
DTSTART:20241027T010000
END:STANDARD
BEGIN:DAYLIGHT
TZOFFSETFROM:+0100
TZOFFSETTO:+0200
TZNAME:CEST
DTSTART:20250330T010000
END:DAYLIGHT
BEGIN:STANDARD
TZOFFSETFROM:+0200
TZOFFSETTO:+0100
TZNAME:CET
DTSTART:20251026T010000
END:STANDARD
END:VTIMEZONE
BEGIN:VEVENT
DTSTART;TZID=Europe/Zurich:20240806T190000
DTEND;TZID=Europe/Zurich:20240806T233000
DTSTAMP:20260423T205931
CREATED:20240713T142540Z
LAST-MODIFIED:20240802T195325Z
UID:10002034-1722970800-1722987000@swingdanceevents.ch
SUMMARY:El Boge Swing Live ALAPAR (ARG) & Classes (beginners welcome)
DESCRIPTION:socialdance to live band Alapar Jazz from Argentinia! \n\n20.15 – 23:30 Socialdance mit Alapar & DJ\n19:30 – 20:15 Lindy 1 walk in class mit Marco Muetze & Alina Fr. 20.- (just walk in\, kein Partner notwendig)\n19:00 – 19:30 free Lindy CrashCourse\n\n 
URL:https://swingdanceevents.ch/event/el-boge-swing-live-alapar-arg-classes-beginners-welcome/
LOCATION:El Social\, Viaduktstrasse 64\, Zürich\, ZH\, 8005\, Switzerland
CATEGORIES:Class,Crashcourse,DJ,LiveBand,Party,Socialdance
ATTACH;FMTTYPE=image/jpeg:https://swingdanceevents.ch/wp-content/uploads/2023/08/FB_IMG_1692632018049.jpg
END:VEVENT
BEGIN:VEVENT
DTSTART;TZID=Europe/Zurich:20240804T200000
DTEND;TZID=Europe/Zurich:20240804T230000
DTSTAMP:20260423T205931
CREATED:20240704T112838Z
LAST-MODIFIED:20240704T112906Z
UID:10002023-1722801600-1722812400@swingdanceevents.ch
SUMMARY:BLUES SOCIAL DANCE
DESCRIPTION:Blues Party on first Sunday on the month.\nWelcome to the Blues Social Dance\nwww.elsocial.ch
URL:https://swingdanceevents.ch/event/blues-social-dance-2/
LOCATION:El Social\, Viaduktstrasse 64\, Zürich\, ZH\, 8005\, Switzerland
CATEGORIES:DJ,Party,Socialdance
ATTACH;FMTTYPE=image/jpeg:https://swingdanceevents.ch/wp-content/uploads/2024/07/IMG-20240703-WA0000.jpg
ORGANIZER;CN="El Social":MAILTO:info@elsocial.ch
END:VEVENT
BEGIN:VEVENT
DTSTART;TZID=Europe/Zurich:20240730T180000
DTEND;TZID=Europe/Zurich:20240730T233000
DTSTAMP:20260423T205931
CREATED:20240702T184351Z
LAST-MODIFIED:20240702T184354Z
UID:10001923-1722362400-1722382200@swingdanceevents.ch
SUMMARY:El Boge Swing Social & Classes (beginners welcome)
DESCRIPTION:Der Dienstag El Boge Swing Social. Neu haben wir auch eine SoloJazz Klasse! \n\n20.15 – 23:30 Socialdance mit DJ\n19:30 – 20:15 Lindy 1 walk in class mit Julio (just walk in\, kein Partner notwendig)\n19:00 – 19:30 free Lindy CrashCourse\n18:00 – 19:00 SoloJazz 1 mit Marco “Muetze” (just walk in) →Sommerbreak SoloJazzClass 4. Juli – Ende August
URL:https://swingdanceevents.ch/event/el-boge-swing-social-classes-beginners-welcome-6-2-2/2024-07-30/
LOCATION:El Social\, Viaduktstrasse 64\, Zürich\, ZH\, 8005\, Switzerland
CATEGORIES:Class,Crashcourse,DJ,Party,Socialdance
ATTACH;FMTTYPE=image/png:https://swingdanceevents.ch/wp-content/uploads/2024/06/FlyerBogen2024_Tuesday_July.png
END:VEVENT
BEGIN:VEVENT
DTSTART;TZID=Europe/Zurich:20240723T180000
DTEND;TZID=Europe/Zurich:20240723T233000
DTSTAMP:20260423T205931
CREATED:20240713T141207Z
LAST-MODIFIED:20240713T141209Z
UID:10001922-1721757600-1721777400@swingdanceevents.ch
SUMMARY:El Boge Swing Social (NO CLASSES THIS WEEK!!!)
DESCRIPTION:Der Dienstag El Boge Swing Social. \n\n20.15 – 23:30 Socialdance mit DJ Waldvogel
URL:https://swingdanceevents.ch/event/el-boge-swing-social-classes-beginners-welcome-6-2-2-2/
LOCATION:El Social\, Viaduktstrasse 64\, Zürich\, ZH\, 8005\, Switzerland
CATEGORIES:Class,Crashcourse,DJ,Party,Socialdance
ATTACH;FMTTYPE=image/png:https://swingdanceevents.ch/wp-content/uploads/2024/07/FlyerBogen2024_Tuesday_23July.png
END:VEVENT
BEGIN:VEVENT
DTSTART;TZID=Europe/Zurich:20240716T180000
DTEND;TZID=Europe/Zurich:20240716T233000
DTSTAMP:20260423T205931
CREATED:20240702T184351Z
LAST-MODIFIED:20240702T184354Z
UID:10001921-1721152800-1721172600@swingdanceevents.ch
SUMMARY:El Boge Swing Social & Classes (beginners welcome)
DESCRIPTION:Der Dienstag El Boge Swing Social. Neu haben wir auch eine SoloJazz Klasse! \n\n20.15 – 23:30 Socialdance mit DJ\n19:30 – 20:15 Lindy 1 walk in class mit Julio (just walk in\, kein Partner notwendig)\n19:00 – 19:30 free Lindy CrashCourse\n18:00 – 19:00 SoloJazz 1 mit Marco “Muetze” (just walk in) →Sommerbreak SoloJazzClass 4. Juli – Ende August
URL:https://swingdanceevents.ch/event/el-boge-swing-social-classes-beginners-welcome-6-2-2/2024-07-16/
LOCATION:El Social\, Viaduktstrasse 64\, Zürich\, ZH\, 8005\, Switzerland
CATEGORIES:Class,Crashcourse,DJ,Party,Socialdance
ATTACH;FMTTYPE=image/png:https://swingdanceevents.ch/wp-content/uploads/2024/06/FlyerBogen2024_Tuesday_July.png
END:VEVENT
BEGIN:VEVENT
DTSTART;TZID=Europe/Zurich:20240709T180000
DTEND;TZID=Europe/Zurich:20240709T233000
DTSTAMP:20260423T205931
CREATED:20240702T184351Z
LAST-MODIFIED:20240702T184354Z
UID:10001920-1720548000-1720567800@swingdanceevents.ch
SUMMARY:El Boge Swing Social & Classes (beginners welcome)
DESCRIPTION:Der Dienstag El Boge Swing Social. Neu haben wir auch eine SoloJazz Klasse! \n\n20.15 – 23:30 Socialdance mit DJ\n19:30 – 20:15 Lindy 1 walk in class mit Julio (just walk in\, kein Partner notwendig)\n19:00 – 19:30 free Lindy CrashCourse\n18:00 – 19:00 SoloJazz 1 mit Marco “Muetze” (just walk in) →Sommerbreak SoloJazzClass 4. Juli – Ende August
URL:https://swingdanceevents.ch/event/el-boge-swing-social-classes-beginners-welcome-6-2-2/2024-07-09/
LOCATION:El Social\, Viaduktstrasse 64\, Zürich\, ZH\, 8005\, Switzerland
CATEGORIES:Class,Crashcourse,DJ,Party,Socialdance
ATTACH;FMTTYPE=image/png:https://swingdanceevents.ch/wp-content/uploads/2024/06/FlyerBogen2024_Tuesday_July.png
END:VEVENT
BEGIN:VEVENT
DTSTART;TZID=Europe/Zurich:20240707T200000
DTEND;TZID=Europe/Zurich:20240707T230000
DTSTAMP:20260423T205931
CREATED:20240704T074048Z
LAST-MODIFIED:20240704T111246Z
UID:10002022-1720382400-1720393200@swingdanceevents.ch
SUMMARY:BLUES SOCIAL DANCE
DESCRIPTION:Blues Party on first Sunday on the month.\nWelcome to the Blues Social Dance\nwww.elsocial.ch
URL:https://swingdanceevents.ch/event/blues-social-dance/
LOCATION:El Social\, Viaduktstrasse 64\, Zürich\, ZH\, 8005\, Switzerland
CATEGORIES:DJ,Party,Socialdance
ATTACH;FMTTYPE=image/jpeg:https://swingdanceevents.ch/wp-content/uploads/2024/07/IMG-20240703-WA0000.jpg
ORGANIZER;CN="El Social":MAILTO:info@elsocial.ch
END:VEVENT
BEGIN:VEVENT
DTSTART;TZID=Europe/Zurich:20240702T180000
DTEND;TZID=Europe/Zurich:20240702T233000
DTSTAMP:20260423T205931
CREATED:20240624T160452Z
LAST-MODIFIED:20240624T160457Z
UID:10001919-1719943200-1719963000@swingdanceevents.ch
SUMMARY:El Boge Swing Social & Classes (beginners welcome)
DESCRIPTION:Der Dienstag El Boge Swing Social. Neu haben wir auch eine SoloJazz Klasse! \n\n20.15 – 23:30 Socialdance mit DJ\n19:30 – 20:15 Lindy 1 walk in class mit Julio (just walk in\, kein Partner notwendig)\n19:00 – 19:30 free Lindy CrashCourse\n18:00 – 19:00 SoloJazz 1 mit Marco “Muetze” (just walk in) →Sommerbreak SoloJazzClass 4. Juli – Ende August
URL:https://swingdanceevents.ch/event/el-boge-swing-social-classes-beginners-welcome-6-2/2024-07-02/
LOCATION:El Social\, Viaduktstrasse 64\, Zürich\, ZH\, 8005\, Switzerland
CATEGORIES:Class,Crashcourse,DJ,Party,Socialdance
ATTACH;FMTTYPE=image/png:https://swingdanceevents.ch/wp-content/uploads/2024/06/FlyerBogen2024_Tuesday_June_2.png
END:VEVENT
BEGIN:VEVENT
DTSTART;TZID=Europe/Zurich:20240625T180000
DTEND;TZID=Europe/Zurich:20240625T233000
DTSTAMP:20260423T205931
CREATED:20240624T160452Z
LAST-MODIFIED:20240624T160457Z
UID:10001918-1719338400-1719358200@swingdanceevents.ch
SUMMARY:El Boge Swing Social & Classes (beginners welcome)
DESCRIPTION:Der Dienstag El Boge Swing Social. Neu haben wir auch eine SoloJazz Klasse! \n\n20.15 – 23:30 Socialdance mit DJ\n19:30 – 20:15 Lindy 1 walk in class mit Julio (just walk in\, kein Partner notwendig)\n19:00 – 19:30 free Lindy CrashCourse\n18:00 – 19:00 SoloJazz 1 mit Marco “Muetze” (just walk in) →Sommerbreak SoloJazzClass 4. Juli – Ende August
URL:https://swingdanceevents.ch/event/el-boge-swing-social-classes-beginners-welcome-6-2/2024-06-25/
LOCATION:El Social\, Viaduktstrasse 64\, Zürich\, ZH\, 8005\, Switzerland
CATEGORIES:Class,Crashcourse,DJ,Party,Socialdance
ATTACH;FMTTYPE=image/png:https://swingdanceevents.ch/wp-content/uploads/2024/06/FlyerBogen2024_Tuesday_June_2.png
END:VEVENT
BEGIN:VEVENT
DTSTART;TZID=Europe/Zurich:20240618T180000
DTEND;TZID=Europe/Zurich:20240618T233000
DTSTAMP:20260423T205931
CREATED:20240530T044629Z
LAST-MODIFIED:20240609T161501Z
UID:10001917-1718733600-1718753400@swingdanceevents.ch
SUMMARY:El Boge Swing Live THE MONDAY SWING & Classes (beginners welcome)
DESCRIPTION:Der Dienstag El Boge Swing Social diese Woche mit Live Band. Zusammen mit THE MONDAY SWING (bekannt vom Rank) machen wir Party. \n\n20.15 – 23:30 Socialdance mit THE MONDAY SWING & DJ\n19:30 – 20:15 Lindy 1 walk in class mit Julio (just walk in\, kein Partner notwendig)\n19:00 – 19:30 free Lindy CrashCourse\n18:00 – 19:00 SoloJazz 1 mit Marco “Muetze” (just walk in)
URL:https://swingdanceevents.ch/event/el-boge-swing-social-classes-beginners-welcome-5/
LOCATION:El Social\, Viaduktstrasse 64\, Zürich\, ZH\, 8005\, Switzerland
CATEGORIES:Class,Crashcourse,DJ,LiveBand,Party,Socialdance
ATTACH;FMTTYPE=image/png:https://swingdanceevents.ch/wp-content/uploads/2024/05/FlyerBogen2024_Tuesday_TMS_June18.png
END:VEVENT
BEGIN:VEVENT
DTSTART;TZID=Europe/Zurich:20240615T150000
DTEND;TZID=Europe/Zurich:20240615T170000
DTSTAMP:20260423T205931
CREATED:20240615T083449Z
LAST-MODIFIED:20240615T083449Z
UID:10002016-1718463600-1718470800@swingdanceevents.ch
SUMMARY:Viadukt Sommerfest mit Tanz by El Social
DESCRIPTION:Viadukt Sommerfest mit Tanz by El Social (Bogen 10) \n15-17 Uhr LindyHop\, Balboa und Blues \nAuch weiter Tanzstyle: \n13-15 Uhr Tango Argentino \n17-19 Salsa \n19-21 Uhr Forro \nab 21 Uhr Soul Train
URL:https://swingdanceevents.ch/event/viadukt-sommerfest-mit-tanz-by-el-social/
LOCATION:El Social\, Viaduktstrasse 64\, Zürich\, ZH\, 8005\, Switzerland
CATEGORIES:DJ,Party,Socialdance
ATTACH;FMTTYPE=image/jpeg:https://swingdanceevents.ch/wp-content/uploads/2024/06/WhatsApp-Bild-2024-06-13-um-15.48.46_8d0d5f57.jpg
END:VEVENT
BEGIN:VEVENT
DTSTART;TZID=Europe/Zurich:20240611T180000
DTEND;TZID=Europe/Zurich:20240611T233000
DTSTAMP:20260423T205931
CREATED:20240608T122125Z
LAST-MODIFIED:20240608T122126Z
UID:10001916-1718128800-1718148600@swingdanceevents.ch
SUMMARY:El Boge Swing Social & Classes (beginners welcome)
DESCRIPTION:Der Dienstag El Boge Swing Social. Neu haben wir auch eine SoloJazz Klasse! \n\n20.15 – 23:30 Socialdance mit DJ\n19:30 – 20:15 Lindy 1 walk in class mit Julio (just walk in\, kein Partner notwendig)\n19:00 – 19:30 free Lindy CrashCourse\n18:00 – 19:00 SoloJazz 1 mit Marco “Muetze” (just walk in)
URL:https://swingdanceevents.ch/event/el-boge-swing-social-classes-beginners-welcome-6/
LOCATION:El Social\, Viaduktstrasse 64\, Zürich\, ZH\, 8005\, Switzerland
CATEGORIES:Class,Crashcourse,DJ,Party,Socialdance
ATTACH;FMTTYPE=image/png:https://swingdanceevents.ch/wp-content/uploads/2024/05/FlyerBogen2024_Tuesday_June-2.png
END:VEVENT
BEGIN:VEVENT
DTSTART;TZID=Europe/Zurich:20240604T180000
DTEND;TZID=Europe/Zurich:20240604T233000
DTSTAMP:20260423T205931
CREATED:20240512T185943Z
LAST-MODIFIED:20240530T044056Z
UID:10001915-1717524000-1717543800@swingdanceevents.ch
SUMMARY:El Boge Swing Social & Classes (beginners welcome)
DESCRIPTION:Der Dienstag El Boge Swing Social. Neu haben wir auch eine SoloJazz Klasse! \n\n20.15 – 23:30 Socialdance mit DJ\n19:30 – 20:15 Lindy 1 walk in class mit Marco “Muetze” (just walk in\, kein Partner notwendig)\n19:00 – 19:30 free Lindy CrashCourse\n18:00 – 19:00 SoloJazz 1 mit Marco “Muetze” (just walk in)
URL:https://swingdanceevents.ch/event/el-boge-swing-social-classes-beginners-welcome/
LOCATION:El Social\, Viaduktstrasse 64\, Zürich\, ZH\, 8005\, Switzerland
CATEGORIES:Class,Crashcourse,DJ,Party,Socialdance
ATTACH;FMTTYPE=image/png:https://swingdanceevents.ch/wp-content/uploads/2024/05/FlyerBogen2024_Tuesday_June-1.png
END:VEVENT
BEGIN:VEVENT
DTSTART;TZID=Europe/Zurich:20240602T200000
DTEND;TZID=Europe/Zurich:20240602T230000
DTSTAMP:20260423T205932
CREATED:20240602T110028Z
LAST-MODIFIED:20240602T110138Z
UID:10002007-1717358400-1717369200@swingdanceevents.ch
SUMMARY:Social Blues dance with musicans jam
DESCRIPTION:Blues Party on first Sunday on the month.\n20.00 hs. Social dance with a little Blues Jam Saison →Musicans welcome to join the jam!\nwww.elsocial.ch
URL:https://swingdanceevents.ch/event/social-blues-dance-with-musicans-jam-2-2/
LOCATION:El Social\, Viaduktstrasse 64\, Zürich\, ZH\, 8005\, Switzerland
CATEGORIES:Class,DJ,LiveBand,Party,Socialdance
ATTACH;FMTTYPE=image/jpeg:https://swingdanceevents.ch/wp-content/uploads/2024/02/WhatsApp-Bild-2024-06-02-um-12.15.17_4323e80c.jpg
END:VEVENT
BEGIN:VEVENT
DTSTART;TZID=Europe/Zurich:20240528T180000
DTEND;TZID=Europe/Zurich:20240528T233000
DTSTAMP:20260423T205932
CREATED:20240526T202731Z
LAST-MODIFIED:20240526T202733Z
UID:10001914-1716919200-1716939000@swingdanceevents.ch
SUMMARY:El Boge Swing Social & Classes (beginners welcome)
DESCRIPTION:Der Dienstag El Boge Swing Social. Neu haben wir auch eine SoloJazz Klasse! \n\n20.15 – 23:30 Socialdance mit DJ\n19:30 – 20:15 Lindy 1 walk in class this week special mit Marco “Muetze” & Alina (just walk in\, kein Partner notwendig)\n19:00 – 19:30 free Lindy CrashCourse\n18:00 – 19:00 SoloJazz 1 mit Marco “Muetze” (just walk in)
URL:https://swingdanceevents.ch/event/el-boge-swing-social-classes-beginners-welcome-4/
LOCATION:El Social\, Viaduktstrasse 64\, Zürich\, ZH\, 8005\, Switzerland
CATEGORIES:Class,Crashcourse,DJ,Party,Socialdance
ATTACH;FMTTYPE=image/png:https://swingdanceevents.ch/wp-content/uploads/2024/05/FlyerBogen2024_Tuesday_May28.png
END:VEVENT
BEGIN:VEVENT
DTSTART;TZID=Europe/Zurich:20240521T180000
DTEND;TZID=Europe/Zurich:20240521T233000
DTSTAMP:20260423T205932
CREATED:20240519T114158Z
LAST-MODIFIED:20240519T114159Z
UID:10001913-1716314400-1716334200@swingdanceevents.ch
SUMMARY:El Boge Swing Social & Classes (beginners welcome)
DESCRIPTION:Der Dienstag El Boge Swing Social. Neu haben wir auch eine SoloJazz Klasse! \n\n20.15 – 23:30 Socialdance mit DJ\n19:30 – 20:15 Lindy 1 walk in class mit Julio (just walk in\, kein Partner notwendig)\n19:00 – 19:30 free Lindy CrashCourse\n18:00 – 19:00 SoloJazz 1 mit Marco “Muetze” (just walk in)
URL:https://swingdanceevents.ch/event/el-boge-swing-social-classes-beginners-welcome-3/
LOCATION:El Social\, Viaduktstrasse 64\, Zürich\, ZH\, 8005\, Switzerland
CATEGORIES:Class,Crashcourse,DJ,Party,Socialdance
ATTACH;FMTTYPE=image/png:https://swingdanceevents.ch/wp-content/uploads/2024/05/FlyerBogen2024_Tuesday_June.png
END:VEVENT
BEGIN:VEVENT
DTSTART;TZID=Europe/Zurich:20240514T183000
DTEND;TZID=Europe/Zurich:20240514T233000
DTSTAMP:20260423T205932
CREATED:20240512T175944Z
LAST-MODIFIED:20240514T051645Z
UID:10001651-1715711400-1715729400@swingdanceevents.ch
SUMMARY:El Boge Swing Social Dance & Crash Course & Class
DESCRIPTION:18:30 – 19:00 free crash course Lindy Hop\n19:00 – 20:00 CHF20.-/15.- Lindy Hop 1 “Walk In” Class (beginner Level programm with 20 basic figures)\nsocialdance 20:00 – 23:30 CHF10.- with DJ (CHF5.- for class participants)
URL:https://swingdanceevents.ch/event/el-boge-swing-social-dance-crash-course-class-2-4-2-6-2-3-3-5-2-4-2-3-4-3-2-4/
LOCATION:El Social\, Viaduktstrasse 64\, Zürich\, ZH\, 8005\, Switzerland
CATEGORIES:Class,Crashcourse,DJ,Party,Socialdance
ATTACH;FMTTYPE=image/png:https://swingdanceevents.ch/wp-content/uploads/2024/04/FlyerBogen2024_Tuesday_May.png
END:VEVENT
BEGIN:VEVENT
DTSTART;TZID=Europe/Zurich:20240507T183000
DTEND;TZID=Europe/Zurich:20240507T233000
DTSTAMP:20260423T205932
CREATED:20240422T185820Z
LAST-MODIFIED:20240427T095022Z
UID:10001650-1715106600-1715124600@swingdanceevents.ch
SUMMARY:El Boge Swing Live Bouncy Rhythm Club & Crash Course & Class
DESCRIPTION:18:30 – 19:00 free crash course Lindy Hop\n19:00 – 20:00 CHF20.-/15.- Lindy Hop 1 “Walk In” Class (beginner Level programm with 20 basic figures)\nsocialdance 20:00 – 23:30 CHF25.- with Live Band Bouncy Rhythm Club & DJ (CHF20.- for class participants and Legi)
URL:https://swingdanceevents.ch/event/el-boge-swing-social-dance-crash-course-class-2-4-2-6-2-3-3-5-2-4-2-3-4-3-2-2/
LOCATION:El Social\, Viaduktstrasse 64\, Zürich\, ZH\, 8005\, Switzerland
CATEGORIES:Class,Crashcourse,DJ,LiveBand,Party,Socialdance
ATTACH;FMTTYPE=image/png:https://swingdanceevents.ch/wp-content/uploads/2024/04/bouncyrhytmclubMay2024final.png
END:VEVENT
BEGIN:VEVENT
DTSTART;TZID=Europe/Zurich:20240505T190000
DTEND;TZID=Europe/Zurich:20240505T230000
DTSTAMP:20260423T205932
CREATED:20240229T051819Z
LAST-MODIFIED:20240602T105753Z
UID:10001849-1714935600-1714950000@swingdanceevents.ch
SUMMARY:Social Blues dance with musicans jam
DESCRIPTION:Blues Party on first Sunday on the month.\n19.00 hs Blues-Tango Lesson with Julio Mendez\n20.00 hs. Social dance with a little Blues Jam Saison →Musicans welcome to join the jam!\nwww.elsocial.ch
URL:https://swingdanceevents.ch/event/social-blues-dance-with-musicans-jam-2/2024-05-05/
LOCATION:El Social\, Viaduktstrasse 64\, Zürich\, ZH\, 8005\, Switzerland
CATEGORIES:Class,DJ,LiveBand,Party,Socialdance
ATTACH;FMTTYPE=image/jpeg:https://swingdanceevents.ch/wp-content/uploads/2024/02/SocialBluesElBoge.jpg
END:VEVENT
BEGIN:VEVENT
DTSTART;TZID=Europe/Zurich:20240430T183000
DTEND;TZID=Europe/Zurich:20240430T233000
DTSTAMP:20260423T205932
CREATED:20240428T192348Z
LAST-MODIFIED:20240428T192349Z
UID:10001649-1714501800-1714519800@swingdanceevents.ch
SUMMARY:El Boge Swing Social Dance DJ Battle Muetze vs MATH-ias & Crash Course & Class
DESCRIPTION:18:30 – 19:00 free crash course Lindy Hop\n19:00 – 20:00 CHF20.-/15.- Lindy Hop 1 “Walk In” Class (beginner Level programm with 20 basic figures)\nsocialdance 20:00 – 23:30 CHF10.- with DJ (CHF5.- for class participants)
URL:https://swingdanceevents.ch/event/el-boge-swing-social-dance-crash-course-class-2-4-2-6-2-3-3-5-2-4-2-3-4-3-2-3/
LOCATION:El Social\, Viaduktstrasse 64\, Zürich\, ZH\, 8005\, Switzerland
CATEGORIES:Class,Crashcourse,DJ,Party,Socialdance
ATTACH;FMTTYPE=image/png:https://swingdanceevents.ch/wp-content/uploads/2024/04/FlyerBogen2024_Tuesday_DJBattleMvM4.png
END:VEVENT
BEGIN:VEVENT
DTSTART;TZID=Europe/Zurich:20240423T183000
DTEND;TZID=Europe/Zurich:20240423T233000
DTSTAMP:20260423T205932
CREATED:20240422T185530Z
LAST-MODIFIED:20240422T185531Z
UID:10001648-1713897000-1713915000@swingdanceevents.ch
SUMMARY:El Boge Swing Social Dance & Crash Course & Class
DESCRIPTION:18:30 – 19:00 free crash course Lindy Hop\n19:00 – 20:00 CHF20.-/15.- Lindy Hop 1 “Walk In” Class (beginner Level programm with 20 basic figures)\nsocialdance 20:00 – 23:30 CHF10.- with DJ (CHF5.- for class participants)
URL:https://swingdanceevents.ch/event/el-boge-swing-social-dance-crash-course-class-2-4-2-6-2-3-3-5-2-4-2-3-4-3-2/2024-04-23/
LOCATION:El Social\, Viaduktstrasse 64\, Zürich\, ZH\, 8005\, Switzerland
CATEGORIES:Class,Crashcourse,DJ,Party,Socialdance
ATTACH;FMTTYPE=image/png:https://swingdanceevents.ch/wp-content/uploads/2024/04/FlyerBogen2024_Tuesday_April-1.png
END:VEVENT
BEGIN:VEVENT
DTSTART;TZID=Europe/Zurich:20240416T183000
DTEND;TZID=Europe/Zurich:20240416T233000
DTSTAMP:20260423T205932
CREATED:20240408T202903Z
LAST-MODIFIED:20240414T194409Z
UID:10001647-1713292200-1713310200@swingdanceevents.ch
SUMMARY:El Boge Swing Social Dance & Crash Course & Class
DESCRIPTION:18:30 – 19:00 free crash course Lindy Hop\n19:00 – 20:00 CHF20.-/15.- Lindy Hop 1 “Walk In” Class (beginner Level programm with 20 basic figures)\nsocialdance 20:00 – 23:30 CHF10.- with DJ (CHF5.- for class participants)
URL:https://swingdanceevents.ch/event/el-boge-swing-social-dance-crash-course-class-2-4-2-6-2-3-3-5-2-4-2-3-4-3/
LOCATION:El Social\, Viaduktstrasse 64\, Zürich\, ZH\, 8005\, Switzerland
CATEGORIES:Class,Crashcourse,DJ,Party,Socialdance
ATTACH;FMTTYPE=image/png:https://swingdanceevents.ch/wp-content/uploads/2024/04/FlyerBogen2024_Tuesday_April.png
END:VEVENT
BEGIN:VEVENT
DTSTART;TZID=Europe/Zurich:20240409T183000
DTEND;TZID=Europe/Zurich:20240409T233000
DTSTAMP:20260423T205932
CREATED:20240330T091349Z
LAST-MODIFIED:20240330T091350Z
UID:10001069-1712687400-1712705400@swingdanceevents.ch
SUMMARY:El Boge Swing Live The Pavilion Dance Orchestra & Crash Course & Class
DESCRIPTION:18:30 – 19:00 free crash course Lindy Hop\n19:00 – 20:00 CHF20.-/15.- Lindy Hop 1 «Walk In» Class (beginner Level programm with 20 basic figures)\n20:00 – 23:30 socialdance to DJ and Live Band The Pavilion Dance Orchestra CHF25.- legi 20.-\, (CHF 20.- for class participants) \na short special perfomance from members of our scene!! \nCheck out the Band: https://www.facebook.com/PavilionDanceOrchestra
URL:https://swingdanceevents.ch/event/el-boge-swing-social-dance-crash-course-class-2-4-2-6-2-3-3-5-2-4-2-3-4-2/
LOCATION:El Social\, Viaduktstrasse 64\, Zürich\, ZH\, 8005\, Switzerland
CATEGORIES:Class,Crashcourse,DJ,LiveBand,Party,Show,Socialdance
ATTACH;FMTTYPE=image/png:https://swingdanceevents.ch/wp-content/uploads/2024/03/PavilionDanceOrchestra20240409.png
END:VEVENT
BEGIN:VEVENT
DTSTART;TZID=Europe/Zurich:20240407T190000
DTEND;TZID=Europe/Zurich:20240407T230000
DTSTAMP:20260423T205932
CREATED:20240229T051819Z
LAST-MODIFIED:20240602T105753Z
UID:10001848-1712516400-1712530800@swingdanceevents.ch
SUMMARY:Social Blues dance with musicans jam
DESCRIPTION:Blues Party on first Sunday on the month.\n19.00 hs Blues-Tango Lesson with Julio Mendez\n20.00 hs. Social dance with a little Blues Jam Saison →Musicans welcome to join the jam!\nwww.elsocial.ch
URL:https://swingdanceevents.ch/event/social-blues-dance-with-musicans-jam-2/2024-04-07/
LOCATION:El Social\, Viaduktstrasse 64\, Zürich\, ZH\, 8005\, Switzerland
CATEGORIES:Class,DJ,LiveBand,Party,Socialdance
ATTACH;FMTTYPE=image/jpeg:https://swingdanceevents.ch/wp-content/uploads/2024/02/SocialBluesElBoge.jpg
END:VEVENT
BEGIN:VEVENT
DTSTART;TZID=Europe/Zurich:20240402T183000
DTEND;TZID=Europe/Zurich:20240402T233000
DTSTAMP:20260423T205932
CREATED:20240310T143755Z
LAST-MODIFIED:20240310T143757Z
UID:10001068-1712082600-1712100600@swingdanceevents.ch
SUMMARY:El Boge Swing Social Dance & Crash Course & Class
DESCRIPTION:18:30 – 19:00 free crash course Lindy Hop\n19:00 – 20:00 CHF20.-/15.- Lindy Hop 1 “Walk In” Class (beginner Level programm with 20 basic figures)\nsocialdance 20:00 – 23:30 CHF10.- with DJ (CHF5.- for class participants)
URL:https://swingdanceevents.ch/event/el-boge-swing-social-dance-crash-course-class-2-4-2-6-2-3-3-5-2-4-2-3-4/2024-04-02/
LOCATION:El Social\, Viaduktstrasse 64\, Zürich\, ZH\, 8005\, Switzerland
CATEGORIES:Class,Crashcourse,DJ,Party,Socialdance
ATTACH;FMTTYPE=image/png:https://swingdanceevents.ch/wp-content/uploads/2024/02/FlyerBogen2024_Tuesday_March.png
END:VEVENT
BEGIN:VEVENT
DTSTART;TZID=Europe/Zurich:20240326T183000
DTEND;TZID=Europe/Zurich:20240326T233000
DTSTAMP:20260423T205932
CREATED:20240310T143755Z
LAST-MODIFIED:20240310T143757Z
UID:10001067-1711477800-1711495800@swingdanceevents.ch
SUMMARY:El Boge Swing Social Dance & Crash Course & Class
DESCRIPTION:18:30 – 19:00 free crash course Lindy Hop\n19:00 – 20:00 CHF20.-/15.- Lindy Hop 1 “Walk In” Class (beginner Level programm with 20 basic figures)\nsocialdance 20:00 – 23:30 CHF10.- with DJ (CHF5.- for class participants)
URL:https://swingdanceevents.ch/event/el-boge-swing-social-dance-crash-course-class-2-4-2-6-2-3-3-5-2-4-2-3-4/2024-03-26/
LOCATION:El Social\, Viaduktstrasse 64\, Zürich\, ZH\, 8005\, Switzerland
CATEGORIES:Class,Crashcourse,DJ,Party,Socialdance
ATTACH;FMTTYPE=image/png:https://swingdanceevents.ch/wp-content/uploads/2024/02/FlyerBogen2024_Tuesday_March.png
END:VEVENT
BEGIN:VEVENT
DTSTART;TZID=Europe/Zurich:20240319T183000
DTEND;TZID=Europe/Zurich:20240319T233000
DTSTAMP:20260423T205932
CREATED:20240310T143755Z
LAST-MODIFIED:20240310T143757Z
UID:10001066-1710873000-1710891000@swingdanceevents.ch
SUMMARY:El Boge Swing Social Dance & Crash Course & Class
DESCRIPTION:18:30 – 19:00 free crash course Lindy Hop\n19:00 – 20:00 CHF20.-/15.- Lindy Hop 1 “Walk In” Class (beginner Level programm with 20 basic figures)\nsocialdance 20:00 – 23:30 CHF10.- with DJ (CHF5.- for class participants)
URL:https://swingdanceevents.ch/event/el-boge-swing-social-dance-crash-course-class-2-4-2-6-2-3-3-5-2-4-2-3-4/2024-03-19/
LOCATION:El Social\, Viaduktstrasse 64\, Zürich\, ZH\, 8005\, Switzerland
CATEGORIES:Class,Crashcourse,DJ,Party,Socialdance
ATTACH;FMTTYPE=image/png:https://swingdanceevents.ch/wp-content/uploads/2024/02/FlyerBogen2024_Tuesday_March.png
END:VEVENT
BEGIN:VEVENT
DTSTART;TZID=Europe/Zurich:20240312T183000
DTEND;TZID=Europe/Zurich:20240312T233000
DTSTAMP:20260423T205932
CREATED:20240310T143755Z
LAST-MODIFIED:20240310T143757Z
UID:10001065-1710268200-1710286200@swingdanceevents.ch
SUMMARY:El Boge Swing Social Dance & Crash Course & Class
DESCRIPTION:18:30 – 19:00 free crash course Lindy Hop\n19:00 – 20:00 CHF20.-/15.- Lindy Hop 1 “Walk In” Class (beginner Level programm with 20 basic figures)\nsocialdance 20:00 – 23:30 CHF10.- with DJ (CHF5.- for class participants)
URL:https://swingdanceevents.ch/event/el-boge-swing-social-dance-crash-course-class-2-4-2-6-2-3-3-5-2-4-2-3-4/2024-03-12/
LOCATION:El Social\, Viaduktstrasse 64\, Zürich\, ZH\, 8005\, Switzerland
CATEGORIES:Class,Crashcourse,DJ,Party,Socialdance
ATTACH;FMTTYPE=image/png:https://swingdanceevents.ch/wp-content/uploads/2024/02/FlyerBogen2024_Tuesday_March.png
END:VEVENT
BEGIN:VEVENT
DTSTART;TZID=Europe/Zurich:20240309T203000
DTEND;TZID=Europe/Zurich:20240310T003000
DTSTAMP:20260423T205932
CREATED:20240304T181823Z
LAST-MODIFIED:20240307T115833Z
UID:10001851-1710016200-1710030600@swingdanceevents.ch
SUMMARY:El Boge Swing Saturday Special
DESCRIPTION:20:30 – 00:30 Socialdance with DJ Muetze & DJ Waldvogel in the mix \nder klassische El Boge Swing\, einfach mal an einem Samstag!!
URL:https://swingdanceevents.ch/event/el-boge-swing-saturday-special/
LOCATION:El Social\, Viaduktstrasse 64\, Zürich\, ZH\, 8005\, Switzerland
CATEGORIES:Class,Crashcourse,DJ,Party,Socialdance
ATTACH;FMTTYPE=image/png:https://swingdanceevents.ch/wp-content/uploads/2024/03/FlyerBogen2024_Saturday05March-1.png
END:VEVENT
BEGIN:VEVENT
DTSTART;TZID=Europe/Zurich:20240305T183000
DTEND;TZID=Europe/Zurich:20240305T233000
DTSTAMP:20260423T205932
CREATED:20240204T194646Z
LAST-MODIFIED:20240204T194647Z
UID:10001064-1709663400-1709681400@swingdanceevents.ch
SUMMARY:El Boge Swing LIVE THE SHEIKS Social Dance & Crash Course & Class
DESCRIPTION:20:00 – 23:30 Live: The Sheiks! Socialdance with live band & DJ (CHF25.- / CHF20.- for class participants and stutents) \n18:30 – 19:00 free crash course Lindy Hop\n19:00 – 20:00 CHF20.-/15.- Lindy Hop 1 “Walk In” Class (beginner Level programm with 20 basic figures) \n\nThe Sheiks – Swingful Joy! \nDie sechs Musiker haben sich vom Jazz der Anfänge berauschen lassen\, torkeln durch zeitloses Hitmaterial und galoppieren auf prächtigen Eigenkompositionen davon. \nPräsentiert wird dies mit durchschlagender Spielfreude und einer frischen Brise Dada\, dass man meint\, die röhrenden 20er hätten gerade erst begonnen. \nValerio Lepori – Posaune & Stimme\nRoger Greipl – Sax & Stumme\nBenjamin Danech – Trompete & Stimme\nTobias Künzli – Klavier & Stimme\nJonas Künzli – Bass & Stimme\nFlavio Viazzolli – Schlagzeug & Stimme
URL:https://swingdanceevents.ch/event/el-boge-swing-social-dance-crash-course-class-2-4-2-6-2-3-3-5-2-4-2-3-2/
LOCATION:El Social\, Viaduktstrasse 64\, Zürich\, ZH\, 8005\, Switzerland
CATEGORIES:Class,Crashcourse,DJ,Party,Socialdance
ATTACH;FMTTYPE=image/jpeg:https://swingdanceevents.ch/wp-content/uploads/2023/05/sheiksPic1-scaled.jpg
END:VEVENT
END:VCALENDAR