BEGIN:VCALENDAR
VERSION:2.0
PRODID:-//Swing Dance Events Switzerland - ECPv6.15.20//NONSGML v1.0//EN
CALSCALE:GREGORIAN
METHOD:PUBLISH
X-ORIGINAL-URL:https://swingdanceevents.ch
X-WR-CALDESC:Veranstaltungen für Swing Dance Events Switzerland
REFRESH-INTERVAL;VALUE=DURATION:PT1H
X-Robots-Tag:noindex
X-PUBLISHED-TTL:PT1H
BEGIN:VTIMEZONE
TZID:Europe/Zurich
BEGIN:DAYLIGHT
TZOFFSETFROM:+0100
TZOFFSETTO:+0200
TZNAME:CEST
DTSTART:20240331T010000
END:DAYLIGHT
BEGIN:STANDARD
TZOFFSETFROM:+0200
TZOFFSETTO:+0100
TZNAME:CET
DTSTART:20241027T010000
END:STANDARD
BEGIN:DAYLIGHT
TZOFFSETFROM:+0100
TZOFFSETTO:+0200
TZNAME:CEST
DTSTART:20250330T010000
END:DAYLIGHT
BEGIN:STANDARD
TZOFFSETFROM:+0200
TZOFFSETTO:+0100
TZNAME:CET
DTSTART:20251026T010000
END:STANDARD
BEGIN:DAYLIGHT
TZOFFSETFROM:+0100
TZOFFSETTO:+0200
TZNAME:CEST
DTSTART:20260329T010000
END:DAYLIGHT
BEGIN:STANDARD
TZOFFSETFROM:+0200
TZOFFSETTO:+0100
TZNAME:CET
DTSTART:20261025T010000
END:STANDARD
BEGIN:DAYLIGHT
TZOFFSETFROM:+0100
TZOFFSETTO:+0200
TZNAME:CEST
DTSTART:20270328T010000
END:DAYLIGHT
BEGIN:STANDARD
TZOFFSETFROM:+0200
TZOFFSETTO:+0100
TZNAME:CET
DTSTART:20271031T010000
END:STANDARD
END:VTIMEZONE
BEGIN:VEVENT
DTSTART;TZID=Europe/Zurich:20260308T110000
DTEND;TZID=Europe/Zurich:20260308T133000
DTSTAMP:20260421T190535
CREATED:20260209T093331Z
LAST-MODIFIED:20260209T093331Z
UID:10003132-1772967600-1772976600@swingdanceevents.ch
SUMMARY:Solo Jazz intensive with Tyedric Hill
DESCRIPTION:Date: 08.03.26  Time: 11:00 – 13:30   Price: 70.-/45.- CHF (reduced) \nThis workshop is designed for experienced dancers who want to take their Solo Jazz to the next level. If you enjoy challenging\, physically demanding classes\, this is the place for you. Tyedric will lead a 2.5-hour intensive\, sharing his deep understanding of Jazz dance and music. Get ready to sweat\, be challenged\, and explore new ways of moving your body.
URL:https://swingdanceevents.ch/event/solo-jazz-intensive-with-tyedric-hill/
LOCATION:Ella’s Fellas\, Hohlstrasse 192\, Zürich\, 8004\, Switzerland
ATTACH;FMTTYPE=image/jpeg:https://swingdanceevents.ch/wp-content/uploads/2026/02/3.jpg
ORGANIZER;CN="Ella's Fellas":MAILTO:info@ellasfellas.ch
END:VEVENT
BEGIN:VEVENT
DTSTART;TZID=Europe/Zurich:20260307T103000
DTEND;TZID=Europe/Zurich:20260307T163000
DTSTAMP:20260421T190535
CREATED:20260209T093206Z
LAST-MODIFIED:20260209T093206Z
UID:10003131-1772879400-1772901000@swingdanceevents.ch
SUMMARY:Solo Jazz & House Workshop with Tyedric & Mike
DESCRIPTION:Date: 07.03.26  Time: 10:30-12:00; 13:00-14:30; 15:30-16:30   Price: 100.- / 65.- CHF (reduced) \nIn this workshop\, you will explore the connections between House and Jazz music and dance. You’ll learn how to cross over between the two styles\, discovering similarities in steps as well as differences in groove and feel. All dancers are welcome. No prior experience in Solo Jazz or House is required\, though some background in either style will help you gain a deeper understanding. Mike and Tyedric will each teach one class individually\, as well as one class together. Get ready for a full day of music and movement with four hours of classes.
URL:https://swingdanceevents.ch/event/solo-jazz-house-workshop-with-tyedric-mike/
LOCATION:Ella’s Fellas\, Hohlstrasse 192\, Zürich\, 8004\, Switzerland
ATTACH;FMTTYPE=image/jpeg:https://swingdanceevents.ch/wp-content/uploads/2026/02/2.jpg
ORGANIZER;CN="Ella's Fellas":MAILTO:info@ellasfellas.ch
END:VEVENT
BEGIN:VEVENT
DTSTART;TZID=Europe/Zurich:20260221T140000
DTEND;TZID=Europe/Zurich:20260221T163000
DTSTAMP:20260421T190535
CREATED:20251215T092314Z
LAST-MODIFIED:20251215T092314Z
UID:10003046-1771682400-1771691400@swingdanceevents.ch
SUMMARY:HOUSE WORKSHOP
DESCRIPTION:Datum: 21.02.26  Zeit: 14:00-16:30   Preis: 70.-/45.- CHF (ermässigt) \nDies ist ein Workshop für Einsteiger:innen mit Mike\, der darauf abzielt\, eine solide Basis im House Dance aufzubauen. Wir lernen grundlegende Schritte und Grooves kennen – perfekt für alle\, die mit House Dance starten oder ihre Grundlagen vertiefen möchten.
URL:https://swingdanceevents.ch/event/house-workshop/
LOCATION:Ella’s Fellas\, Hohlstrasse 192\, Zürich\, 8004\, Switzerland
ATTACH;FMTTYPE=image/png:https://swingdanceevents.ch/wp-content/uploads/2025/12/Solo-Workshops-3.png
ORGANIZER;CN="Ella's Fellas":MAILTO:info@ellasfellas.ch
END:VEVENT
BEGIN:VEVENT
DTSTART;TZID=Europe/Zurich:20260124T150000
DTEND;TZID=Europe/Zurich:20260124T190000
DTSTAMP:20260421T190535
CREATED:20251215T090434Z
LAST-MODIFIED:20251215T090523Z
UID:10003045-1769266800-1769281200@swingdanceevents.ch
SUMMARY:Social Dance – Live Band – Free Crashcourse
DESCRIPTION:Egal\, ob du seit einem Monat tanzt oder noch nie Lindy Hop ausprobiert hast\, alle sind willkommen! Die Social Dance ist ein Ort\, an dem du Neues ausprobieren\, Leute kennenlernen\, wild oder entspannt tanzen\, zuschauen\, zuhören oder einfach Zeit mit Freund*innen verbringen kannst. Wir freuen uns auf dich und dieses Mal am Samstag mit Live Band! \nGratis Crash-Kurs: 14:30 – 15:00Türöffnung: 15:00Eintritt: 20.- / 10.- \nWichtig: \nFalls du das erste Mal bei uns bist\, musst du dich als Vereinsmitglied anmelden (einmalig\, kostenlos und ohne Verpflichtungen). \nDamit sich bei uns auch alle wohlfühlen\, gilt bei uns dieser Code of Conduct (ansehen).
URL:https://swingdanceevents.ch/event/social-dance-live-band-free-crashcourse-2/
LOCATION:Ella’s Fellas\, Hohlstrasse 192\, Zürich\, 8004\, Switzerland
ATTACH;FMTTYPE=image/jpeg:https://swingdanceevents.ch/wp-content/uploads/2025/12/social-dance.jpg
ORGANIZER;CN="Ella's Fellas":MAILTO:info@ellasfellas.ch
END:VEVENT
BEGIN:VEVENT
DTSTART;TZID=Europe/Zurich:20251220T140000
DTEND;TZID=Europe/Zurich:20251220T163000
DTSTAMP:20260421T190535
CREATED:20250902T093953Z
LAST-MODIFIED:20250902T094514Z
UID:10002910-1766239200-1766248200@swingdanceevents.ch
SUMMARY:Solo Jazz Workshop – Body Movment & Grooves
DESCRIPTION:Date: 20.12.2025     Time: 14:00-16:30     Price: 70.-/45.- (reduced) \nIn this workshop we will focus on various body movements and how to integrate these movement qualities in a Solo Jazz sequence. This workshop is for everyone who wants to explore different ways to move their body to jazz music\, from bathroom dancers to experienced lindy hoppers. Join Fabi and Emma to groove\, learn about jazz culture and add some solo steps to your dance vocabulary!
URL:https://swingdanceevents.ch/event/solo-jazz-workshop-body-movment-grooves/
LOCATION:Ella’s Fellas\, Hohlstrasse 192\, Zürich\, 8004\, Switzerland
ATTACH;FMTTYPE=image/png:https://swingdanceevents.ch/wp-content/uploads/2025/09/7.png
ORGANIZER;CN="Ella's Fellas":MAILTO:info@ellasfellas.ch
END:VEVENT
BEGIN:VEVENT
DTSTART;TZID=Europe/Zurich:20251205T204500
DTEND;TZID=Europe/Zurich:20251205T235900
DTSTAMP:20260421T190535
CREATED:20250902T093335Z
LAST-MODIFIED:20250902T093335Z
UID:10002909-1764967500-1764979140@swingdanceevents.ch
SUMMARY:Social Dance – Live Band – Free Crash course – 05.12.25
DESCRIPTION:Whether you’ve been dancing for a month or have never tried Lindy Hop before\, everyone is welcome! Social dance is a place where you can try new things\, meet people\, dance comfortably or wildly\, watch\, listen\, or just spend time with your friends. We are happy to have you! \nFree Crash Course: 20:15 – 20:45 \nDoor Opening: 20:45 \nEntrance: 20.-/ 10.- CHF \nImportant: \nIf you are with us for the first time\, you have to register as an association member (one-time\, free of charge and without obligations) \nTo make sure that everyone feels comfortable\, we have the following Code of Conduct (view).
URL:https://swingdanceevents.ch/event/social-dance-live-band-free-crash-course-05-12-25-5/
LOCATION:Ella’s Fellas\, Hohlstrasse 192\, Zürich\, 8004\, Switzerland
ATTACH;FMTTYPE=image/jpeg:https://swingdanceevents.ch/wp-content/uploads/2025/09/social-dance-rent-room-2-1.jpg
ORGANIZER;CN="Ella's Fellas":MAILTO:info@ellasfellas.ch
END:VEVENT
BEGIN:VEVENT
DTSTART;TZID=Europe/Zurich:20251122T110000
DTEND;TZID=Europe/Zurich:20251122T133000
DTSTAMP:20260421T190535
CREATED:20250902T092837Z
LAST-MODIFIED:20250902T092837Z
UID:10002907-1763809200-1763818200@swingdanceevents.ch
SUMMARY:Aerial Workshop
DESCRIPTION:Date: 22.11.2025     Time: 11:00-13:30    Price: 70.-/45.-CHF (reduced) \nJoin us for our next aerial workshop with Fabienne and Luciano! In this session\, you’ll learn three different airsteps. We will build up each figure step by step and show you how to safely spot each other. No prior aerial experience is necessary\, but you should be familiar with the basic steps of Lindy Hop. \nYou’ll need to sign up with a fixed partner as we won’t be rotating partners during this class. Please wear comfortable clothing and shoes that allow you to move freely\, flip\, and get down on the ground.
URL:https://swingdanceevents.ch/event/aerial-workshop-8/
LOCATION:Ella’s Fellas\, Hohlstrasse 192\, Zürich\, 8004\, Switzerland
ATTACH;FMTTYPE=image/png:https://swingdanceevents.ch/wp-content/uploads/2025/09/Workshops-3.png
ORGANIZER;CN="Ella's Fellas":MAILTO:info@ellasfellas.ch
END:VEVENT
BEGIN:VEVENT
DTSTART;TZID=Europe/Zurich:20251115T140000
DTEND;TZID=Europe/Zurich:20251115T163000
DTSTAMP:20260421T190535
CREATED:20250902T092547Z
LAST-MODIFIED:20250902T092547Z
UID:10002906-1763215200-1763224200@swingdanceevents.ch
SUMMARY:Solo Jazz Workshop - Basic Steps & Rhythm
DESCRIPTION:Date: 15.11.2025     Time: 14:00-16:30     Price: 70.-/45.- (reduced) \nIn this workshop\, we will break down some basic steps\, rhythms\, and movement qualities of Solo Jazz. Together with Fabi and Emma\, you will explore different ways to groove and express your individuality within the music. This workshop is intended for those new to jazz as well as dancers who want to reconnect with the fundamentals and deepen their understanding.
URL:https://swingdanceevents.ch/event/solo-jazz-workshop-basic-steps-rhythm/
LOCATION:Ella’s Fellas\, Hohlstrasse 192\, Zürich\, 8004\, Switzerland
ATTACH;FMTTYPE=image/png:https://swingdanceevents.ch/wp-content/uploads/2025/09/6.png
ORGANIZER;CN="Ella's Fellas":MAILTO:info@ellasfellas.ch
END:VEVENT
BEGIN:VEVENT
DTSTART;TZID=Europe/Zurich:20251115T110000
DTEND;TZID=Europe/Zurich:20251115T133000
DTSTAMP:20260421T190535
CREATED:20250616T110522Z
LAST-MODIFIED:20251002T064735Z
UID:10002686-1763204400-1763213400@swingdanceevents.ch
SUMMARY:Lindy in a day
DESCRIPTION:Time: 11:00-13:30     Price: 70.-/45.- (reduced) \nIn this workshop you will get to know Swing music\, Lindy Hop and us. You will have the opportunity to dance a lot and get a glimpse into the world of Lindy Hop. You do not need a partner for this class. Even if you think you have two left feet\, you are very welcome 😉
URL:https://swingdanceevents.ch/event/lindy-in-a-day/2025-11-15/
LOCATION:Ella’s Fellas\, Hohlstrasse 192\, Zürich\, 8004\, Switzerland
ATTACH;FMTTYPE=image/png:https://swingdanceevents.ch/wp-content/uploads/2025/06/Workshops-3.png
ORGANIZER;CN="Ella's Fellas":MAILTO:info@ellasfellas.ch
END:VEVENT
BEGIN:VEVENT
DTSTART;TZID=Europe/Zurich:20251114T204500
DTEND;TZID=Europe/Zurich:20251114T235900
DTSTAMP:20260421T190535
CREATED:20250902T092153Z
LAST-MODIFIED:20250902T092153Z
UID:10002904-1763153100-1763164740@swingdanceevents.ch
SUMMARY:Social Dance – Live Band – Free Crash course – 14.11.25
DESCRIPTION:Whether you’ve been dancing for a month or have never tried Lindy Hop before\, everyone is welcome! Social dance is a place where you can try new things\, meet people\, dance comfortably or wildly\, watch\, listen\, or just spend time with your friends. We are happy to have you and this time\, we’ve got a live band. \nFree Crash Course: 20:15 – 20:45Door Opening: 20:45Entrance: 20.- / 10.- \nImportant: \nIf you are with us for the first time\, you have to register as an association member (one-time\, free of charge and without obligations) \nTo make sure that everyone feels comfortable\, we have the following Code of Conduct (view).
URL:https://swingdanceevents.ch/event/social-dance-live-band-free-crash-course-14-11-25-2/
LOCATION:Ella’s Fellas\, Hohlstrasse 192\, Zürich\, 8004\, Switzerland
ATTACH;FMTTYPE=image/jpeg:https://swingdanceevents.ch/wp-content/uploads/2025/09/social-dance-rent-room-2.jpg
ORGANIZER;CN="Ella's Fellas":MAILTO:info@ellasfellas.ch
END:VEVENT
BEGIN:VEVENT
DTSTART;TZID=Europe/Zurich:20251018T140000
DTEND;TZID=Europe/Zurich:20251018T163000
DTSTAMP:20260421T190535
CREATED:20250902T090302Z
LAST-MODIFIED:20250902T090302Z
UID:10002902-1760796000-1760805000@swingdanceevents.ch
SUMMARY:Solo Jazz Workshop - Fast - track Choreo
DESCRIPTION:Date: 18.10.2025     Time: 14:00-16:30     Price: 70/45 CHF (reduced) \nThis fast-paced workshop is all about picking up a Solo Jazz routine in one go. We’ll work on memory and styling\, with a focus on clarity\, rhythm\, and movement quality. Fabi and Emma will support you in building presence and confidence when presenting a routine in front of others. Ideal for dancers who are comfortable with Solo Jazz and ready to learn quickly.
URL:https://swingdanceevents.ch/event/solo-jazz-workshop-fast-track-choreo/
LOCATION:Ella’s Fellas\, Hohlstrasse 192\, Zürich\, 8004\, Switzerland
ATTACH;FMTTYPE=image/png:https://swingdanceevents.ch/wp-content/uploads/2025/09/5.png
ORGANIZER;CN="Ella's Fellas":MAILTO:info@ellasfellas.ch
END:VEVENT
BEGIN:VEVENT
DTSTART;TZID=Europe/Zurich:20251018T110000
DTEND;TZID=Europe/Zurich:20251018T133000
DTSTAMP:20260421T190535
CREATED:20250819T090650Z
LAST-MODIFIED:20250819T090650Z
UID:10002874-1760785200-1760794200@swingdanceevents.ch
SUMMARY:Aerial Workshop
DESCRIPTION:Date: 18.10.2025     Time: 11:00-13:30    Price: 70.-/45.-CHF (reduced) \nJoin us for our next aerial workshop with Fabienne and Luciano! In this session\, you’ll learn three different airsteps. We will build up each figure step by step and show you how to safely spot each other. No prior aerial experience is necessary\, but you should be familiar with the basic steps of Lindy Hop. You’ll need to sign up with a fixed partner as we won’t be rotating partners during this class. Please wear comfortable clothing and shoes that allow you to move freely\, flip\, and get down on the ground.
URL:https://swingdanceevents.ch/event/aerial-workshop-6/
LOCATION:Ella’s Fellas\, Hohlstrasse 192\, Zürich\, 8004\, Switzerland
ATTACH;FMTTYPE=image/png:https://swingdanceevents.ch/wp-content/uploads/2025/08/Workshops.png
ORGANIZER;CN="Ella's Fellas":MAILTO:info@ellasfellas.ch
END:VEVENT
BEGIN:VEVENT
DTSTART;TZID=Europe/Zurich:20251004T140000
DTEND;TZID=Europe/Zurich:20251004T163000
DTSTAMP:20260421T190535
CREATED:20250902T085635Z
LAST-MODIFIED:20250902T085635Z
UID:10002901-1759586400-1759595400@swingdanceevents.ch
SUMMARY:Solo Jazz Workshop - Improvisation
DESCRIPTION:Date: 04.10.2025    Time: 14:00-16:30     Price: 70/45 (reduced) \nIn this workshop\, we will explore how to improvise to jazz music. Fabi and Emma will guide you through musicality\, music structure\, and share tools to help you gain confidence dancing on your own. This workshop is open to all levels\, from curious beginners to experienced solo dancers. Join us to improvise\, experiment\, and express your individuality through jazz.
URL:https://swingdanceevents.ch/event/solo-jazz-workshop-improvisation/
LOCATION:Ella’s Fellas\, Hohlstrasse 192\, Zürich\, 8004\, Switzerland
ATTACH;FMTTYPE=image/png:https://swingdanceevents.ch/wp-content/uploads/2025/09/4.png
ORGANIZER;CN="Ella's Fellas":MAILTO:info@ellasfellas.ch
END:VEVENT
BEGIN:VEVENT
DTSTART;TZID=Europe/Zurich:20250913T110000
DTEND;TZID=Europe/Zurich:20250913T133000
DTSTAMP:20260421T190535
CREATED:20250616T110522Z
LAST-MODIFIED:20251002T064735Z
UID:10002684-1757761200-1757770200@swingdanceevents.ch
SUMMARY:Lindy in a day
DESCRIPTION:Time: 11:00-13:30     Price: 70.-/45.- (reduced) \nIn this workshop you will get to know Swing music\, Lindy Hop and us. You will have the opportunity to dance a lot and get a glimpse into the world of Lindy Hop. You do not need a partner for this class. Even if you think you have two left feet\, you are very welcome 😉
URL:https://swingdanceevents.ch/event/lindy-in-a-day/2025-09-13/
LOCATION:Ella’s Fellas\, Hohlstrasse 192\, Zürich\, 8004\, Switzerland
ATTACH;FMTTYPE=image/png:https://swingdanceevents.ch/wp-content/uploads/2025/06/Workshops-3.png
ORGANIZER;CN="Ella's Fellas":MAILTO:info@ellasfellas.ch
END:VEVENT
END:VCALENDAR