BEGIN:VCALENDAR
VERSION:2.0
PRODID:-//Swing Dance Events Switzerland - ECPv6.15.20//NONSGML v1.0//EN
CALSCALE:GREGORIAN
METHOD:PUBLISH
X-WR-CALNAME:Swing Dance Events Switzerland
X-ORIGINAL-URL:https://swingdanceevents.ch
X-WR-CALDESC:Veranstaltungen für Swing Dance Events Switzerland
REFRESH-INTERVAL;VALUE=DURATION:PT1H
X-Robots-Tag:noindex
X-PUBLISHED-TTL:PT1H
BEGIN:VTIMEZONE
TZID:Europe/Zurich
BEGIN:DAYLIGHT
TZOFFSETFROM:+0100
TZOFFSETTO:+0200
TZNAME:CEST
DTSTART:20250330T010000
END:DAYLIGHT
BEGIN:STANDARD
TZOFFSETFROM:+0200
TZOFFSETTO:+0100
TZNAME:CET
DTSTART:20251026T010000
END:STANDARD
BEGIN:DAYLIGHT
TZOFFSETFROM:+0100
TZOFFSETTO:+0200
TZNAME:CEST
DTSTART:20260329T010000
END:DAYLIGHT
BEGIN:STANDARD
TZOFFSETFROM:+0200
TZOFFSETTO:+0100
TZNAME:CET
DTSTART:20261025T010000
END:STANDARD
BEGIN:DAYLIGHT
TZOFFSETFROM:+0100
TZOFFSETTO:+0200
TZNAME:CEST
DTSTART:20270328T010000
END:DAYLIGHT
BEGIN:STANDARD
TZOFFSETFROM:+0200
TZOFFSETTO:+0100
TZNAME:CET
DTSTART:20271031T010000
END:STANDARD
END:VTIMEZONE
BEGIN:VEVENT
DTSTART;TZID=Europe/Zurich:20260530T103000
DTEND;TZID=Europe/Zurich:20260530T143000
DTSTAMP:20260421T173400
CREATED:20260402T111204Z
LAST-MODIFIED:20260402T111204Z
UID:10003167-1780137000-1780151400@swingdanceevents.ch
SUMMARY:Workshop with Trisha Sewell
DESCRIPTION:Date: 30.05.26   Time: 10:30 – 14:30   Price: 90.-/55.- CHF (reduced) Registration: https://ellasfellas.ch/en/weekend-workshops/ \nPart 1: Where the Groove Lies \nThis part of the workshop invites you to experience groove as something you live within rather than just something you dance to. We will focus on how rhythm is held\, expressed\, and sustained through the body\, enhancing your sense of pulse\, flow\, and musical presence. Through exploration\, you will develop a more grounded\, adaptable connection to rhythm\, allowing the groove to naturally influence both your solo movement and your partner dancing. This session aims to lay the foundation for greater clarity\, ease\, and expressiveness in your dancing. \nPart 2: Hear It\, Feel It\, then Move It \nBuilding on the foundation of groove\, this class places music at the centre of your movement choices. Instead of shaping the dance first with sequences and patterns\, we explore how rhythm\, phrasing\, and dynamics naturally guide the body’s movement. With a focus on openness\, curiosity\, and embodied listening\, you will aim to develop a more intuitive relationship with the music. This encourages greater musicality\, responsiveness\, and freedom of expression\, enabling you to move with intention and authenticity. \nLearn more about Trisha Sewell: https://www.trishasewell.com/bio.html
URL:https://swingdanceevents.ch/event/workshop-with-trisha-sewell/
LOCATION:Ella’s Fellas\, Hohlstrasse 192\, Zürich\, 8004\, Switzerland
ATTACH;FMTTYPE=image/jpeg:https://swingdanceevents.ch/wp-content/uploads/2026/04/Kurse-Workshops.jpg
ORGANIZER;CN="Ella's Fellas":MAILTO:info@ellasfellas.ch
END:VEVENT
END:VCALENDAR