BEGIN:VCALENDAR
VERSION:2.0
PRODID:-//Swing Dance Events Switzerland - ECPv6.15.20//NONSGML v1.0//EN
CALSCALE:GREGORIAN
METHOD:PUBLISH
X-ORIGINAL-URL:https://swingdanceevents.ch
X-WR-CALDESC:Veranstaltungen für Swing Dance Events Switzerland
REFRESH-INTERVAL;VALUE=DURATION:PT1H
X-Robots-Tag:noindex
X-PUBLISHED-TTL:PT1H
BEGIN:VTIMEZONE
TZID:Europe/Zurich
BEGIN:DAYLIGHT
TZOFFSETFROM:+0100
TZOFFSETTO:+0200
TZNAME:CEST
DTSTART:20240331T010000
END:DAYLIGHT
BEGIN:STANDARD
TZOFFSETFROM:+0200
TZOFFSETTO:+0100
TZNAME:CET
DTSTART:20241027T010000
END:STANDARD
BEGIN:DAYLIGHT
TZOFFSETFROM:+0100
TZOFFSETTO:+0200
TZNAME:CEST
DTSTART:20250330T010000
END:DAYLIGHT
BEGIN:STANDARD
TZOFFSETFROM:+0200
TZOFFSETTO:+0100
TZNAME:CET
DTSTART:20251026T010000
END:STANDARD
BEGIN:DAYLIGHT
TZOFFSETFROM:+0100
TZOFFSETTO:+0200
TZNAME:CEST
DTSTART:20260329T010000
END:DAYLIGHT
BEGIN:STANDARD
TZOFFSETFROM:+0200
TZOFFSETTO:+0100
TZNAME:CET
DTSTART:20261025T010000
END:STANDARD
END:VTIMEZONE
BEGIN:VEVENT
DTSTART;TZID=Europe/Zurich:20250906T193000
DTEND;TZID=Europe/Zurich:20250907T010000
DTSTAMP:20260421T160604
CREATED:20250827T145933Z
LAST-MODIFIED:20250827T150039Z
UID:10002886-1757187000-1757206800@swingdanceevents.ch
SUMMARY:Lost in Swing im Feuerwehrmuseum DEPOT 61
DESCRIPTION:Lost in Swing aus Lausanne bei und in St.Gallen! Das Besondere an diesem Social Dance ist unsere Lociation\, die wir erstmalig austesten. Die Band heitzt dem Feuerwehrmuseum DEPOT 61 bestimmt richtig ein und falls der Funke zu sehr überspringt\, sind wir auch direkt am richtigen Ort. \nTaster «Charleston Tandem Fun!»: 19.30 – 20.30 Uhr\nFür Tänzer:innen\, die bereits Lindy tanzen und Charleston Basics beherrschen. \nEintritt: 25 Fr. Nichtmitglieder / 20 Fr. Mitglieder\, Kulturlegi \nOrt: Feuerwehrmuseum DEPOT 61\, Burgstrasse 61\, 9000 St. Gallen\, Schweiz
URL:https://swingdanceevents.ch/event/lost-in-swing-im-feuerwehrmuseum-depot-61-2/
LOCATION:Feuerwehrmuseum DEPOT 61\, Burgstrasse 61\, St. Gallen\, St. Gallen\, 9000\, Switzerland
CATEGORIES:Crashcourse,LiveBand,Party,Teaster
ATTACH;FMTTYPE=image/jpeg:https://swingdanceevents.ch/wp-content/uploads/2025/08/4336c7_b0cc7f28f9a54d66ab8672c2a43bc5c5mv2.jpg
END:VEVENT
END:VCALENDAR