BEGIN:VCALENDAR
VERSION:2.0
PRODID:-//Swing Dance Events Switzerland - ECPv6.15.20//NONSGML v1.0//EN
CALSCALE:GREGORIAN
METHOD:PUBLISH
X-ORIGINAL-URL:https://swingdanceevents.ch
X-WR-CALDESC:Veranstaltungen für Swing Dance Events Switzerland
REFRESH-INTERVAL;VALUE=DURATION:PT1H
X-Robots-Tag:noindex
X-PUBLISHED-TTL:PT1H
BEGIN:VTIMEZONE
TZID:Europe/Zurich
BEGIN:DAYLIGHT
TZOFFSETFROM:+0100
TZOFFSETTO:+0200
TZNAME:CEST
DTSTART:20260329T010000
END:DAYLIGHT
BEGIN:STANDARD
TZOFFSETFROM:+0200
TZOFFSETTO:+0100
TZNAME:CET
DTSTART:20261025T010000
END:STANDARD
BEGIN:DAYLIGHT
TZOFFSETFROM:+0100
TZOFFSETTO:+0200
TZNAME:CEST
DTSTART:20270328T010000
END:DAYLIGHT
BEGIN:STANDARD
TZOFFSETFROM:+0200
TZOFFSETTO:+0100
TZNAME:CET
DTSTART:20271031T010000
END:STANDARD
BEGIN:DAYLIGHT
TZOFFSETFROM:+0100
TZOFFSETTO:+0200
TZNAME:CEST
DTSTART:20280326T010000
END:DAYLIGHT
BEGIN:STANDARD
TZOFFSETFROM:+0200
TZOFFSETTO:+0100
TZNAME:CET
DTSTART:20281029T010000
END:STANDARD
BEGIN:DAYLIGHT
TZOFFSETFROM:+0100
TZOFFSETTO:+0200
TZNAME:CEST
DTSTART:20290325T010000
END:DAYLIGHT
BEGIN:STANDARD
TZOFFSETFROM:+0200
TZOFFSETTO:+0100
TZNAME:CET
DTSTART:20291028T010000
END:STANDARD
END:VTIMEZONE
BEGIN:VEVENT
DTSTART;TZID=Europe/Zurich:20271213T200000
DTEND;TZID=Europe/Zurich:20271213T220000
DTSTAMP:20260419T225550
CREATED:20260412T201700Z
LAST-MODIFIED:20260412T201700Z
UID:10003247-1828728000-1828735200@swingdanceevents.ch
SUMMARY:Montags-Social
DESCRIPTION:Wir tanzen im neuen Vereinsheim (Kulturetage). Im Sommer auch mal draußen in der Konzertmuschel. \nKein Eintritt\, das Event wird durch eure Spenden finanziert.
URL:https://swingdanceevents.ch/event/montags-social/2027-12-13/
LOCATION:Konzertmuschel\, Stadtgarten\, Konstanz
CATEGORIES:DJ,Socialdance
ATTACH;FMTTYPE=image/png:https://swingdanceevents.ch/wp-content/uploads/2026/04/cropped-Logo-rund-blau-1024x964-1-768x723-3.png
END:VEVENT
BEGIN:VEVENT
DTSTART;TZID=Europe/Zurich:20271220T200000
DTEND;TZID=Europe/Zurich:20271220T220000
DTSTAMP:20260419T225550
CREATED:20260412T201700Z
LAST-MODIFIED:20260412T201700Z
UID:10003248-1829332800-1829340000@swingdanceevents.ch
SUMMARY:Montags-Social
DESCRIPTION:Wir tanzen im neuen Vereinsheim (Kulturetage). Im Sommer auch mal draußen in der Konzertmuschel. \nKein Eintritt\, das Event wird durch eure Spenden finanziert.
URL:https://swingdanceevents.ch/event/montags-social/2027-12-20/
LOCATION:Konzertmuschel\, Stadtgarten\, Konstanz
CATEGORIES:DJ,Socialdance
ATTACH;FMTTYPE=image/png:https://swingdanceevents.ch/wp-content/uploads/2026/04/cropped-Logo-rund-blau-1024x964-1-768x723-3.png
END:VEVENT
BEGIN:VEVENT
DTSTART;TZID=Europe/Zurich:20271227T200000
DTEND;TZID=Europe/Zurich:20271227T220000
DTSTAMP:20260419T225550
CREATED:20260412T201700Z
LAST-MODIFIED:20260412T201700Z
UID:10003249-1829937600-1829944800@swingdanceevents.ch
SUMMARY:Montags-Social
DESCRIPTION:Wir tanzen im neuen Vereinsheim (Kulturetage). Im Sommer auch mal draußen in der Konzertmuschel. \nKein Eintritt\, das Event wird durch eure Spenden finanziert.
URL:https://swingdanceevents.ch/event/montags-social/2027-12-27/
LOCATION:Konzertmuschel\, Stadtgarten\, Konstanz
CATEGORIES:DJ,Socialdance
ATTACH;FMTTYPE=image/png:https://swingdanceevents.ch/wp-content/uploads/2026/04/cropped-Logo-rund-blau-1024x964-1-768x723-3.png
END:VEVENT
BEGIN:VEVENT
DTSTART;TZID=Europe/Zurich:20280103T200000
DTEND;TZID=Europe/Zurich:20280103T220000
DTSTAMP:20260419T225550
CREATED:20260412T201700Z
LAST-MODIFIED:20260412T201700Z
UID:10003250-1830542400-1830549600@swingdanceevents.ch
SUMMARY:Montags-Social
DESCRIPTION:Wir tanzen im neuen Vereinsheim (Kulturetage). Im Sommer auch mal draußen in der Konzertmuschel. \nKein Eintritt\, das Event wird durch eure Spenden finanziert.
URL:https://swingdanceevents.ch/event/montags-social/2028-01-03/
LOCATION:Konzertmuschel\, Stadtgarten\, Konstanz
CATEGORIES:DJ,Socialdance
ATTACH;FMTTYPE=image/png:https://swingdanceevents.ch/wp-content/uploads/2026/04/cropped-Logo-rund-blau-1024x964-1-768x723-3.png
END:VEVENT
END:VCALENDAR