BEGIN:VCALENDAR
VERSION:2.0
PRODID:-//Swing Dance Events Switzerland - ECPv6.15.20//NONSGML v1.0//EN
CALSCALE:GREGORIAN
METHOD:PUBLISH
X-ORIGINAL-URL:https://swingdanceevents.ch
X-WR-CALDESC:Veranstaltungen für Swing Dance Events Switzerland
REFRESH-INTERVAL;VALUE=DURATION:PT1H
X-Robots-Tag:noindex
X-PUBLISHED-TTL:PT1H
BEGIN:VTIMEZONE
TZID:Europe/Zurich
BEGIN:DAYLIGHT
TZOFFSETFROM:+0100
TZOFFSETTO:+0200
TZNAME:CEST
DTSTART:20220327T010000
END:DAYLIGHT
BEGIN:STANDARD
TZOFFSETFROM:+0200
TZOFFSETTO:+0100
TZNAME:CET
DTSTART:20221030T010000
END:STANDARD
BEGIN:DAYLIGHT
TZOFFSETFROM:+0100
TZOFFSETTO:+0200
TZNAME:CEST
DTSTART:20230326T010000
END:DAYLIGHT
BEGIN:STANDARD
TZOFFSETFROM:+0200
TZOFFSETTO:+0100
TZNAME:CET
DTSTART:20231029T010000
END:STANDARD
BEGIN:DAYLIGHT
TZOFFSETFROM:+0100
TZOFFSETTO:+0200
TZNAME:CEST
DTSTART:20240331T010000
END:DAYLIGHT
BEGIN:STANDARD
TZOFFSETFROM:+0200
TZOFFSETTO:+0100
TZNAME:CET
DTSTART:20241027T010000
END:STANDARD
BEGIN:DAYLIGHT
TZOFFSETFROM:+0100
TZOFFSETTO:+0200
TZNAME:CEST
DTSTART:20250330T010000
END:DAYLIGHT
BEGIN:STANDARD
TZOFFSETFROM:+0200
TZOFFSETTO:+0100
TZNAME:CET
DTSTART:20251026T010000
END:STANDARD
BEGIN:DAYLIGHT
TZOFFSETFROM:+0100
TZOFFSETTO:+0200
TZNAME:CEST
DTSTART:20260329T010000
END:DAYLIGHT
BEGIN:STANDARD
TZOFFSETFROM:+0200
TZOFFSETTO:+0100
TZNAME:CET
DTSTART:20261025T010000
END:STANDARD
END:VTIMEZONE
BEGIN:VEVENT
DTSTART;VALUE=DATE:20250208
DTEND;VALUE=DATE:20250211
DTSTAMP:20260422T074428
CREATED:20241231T120349Z
LAST-MODIFIED:20241231T120349Z
UID:10002411-1738990800-1739163599@swingdanceevents.ch
SUMMARY:Lindy Hop Workshop mit Roser und Marcos (ESP)
DESCRIPTION:Roser und Marcos aus Spanien besuchen uns in St.Gallen zu einem Lindy Hop Workshop!\nErlebe die beiden am Samstag in 3 Beginner/Intermediate Klassen oder am Sonntag in 3 Intermediate/Advanced Klassen.\nAlle Infos sowie das Programm findest du auf der Homepage der Sitterbugs
URL:https://swingdanceevents.ch/event/lindy-hop-workshop-mit-roser-und-marcos-esp/
LOCATION:Kursraum Sitterbugs\, Zwinglistrasse 7\, St.Gallen\, 9500\, Switzerland
CATEGORIES:Class,Workshop
ATTACH;FMTTYPE=image/png:https://swingdanceevents.ch/wp-content/uploads/2024/12/Roser-und-Marcos-Bild.png
END:VEVENT
BEGIN:VEVENT
DTSTART;VALUE=DATE:20240921
DTEND;VALUE=DATE:20240924
DTSTAMP:20260422T074428
CREATED:20240616T095428Z
LAST-MODIFIED:20240723T120033Z
UID:10002017-1726894800-1727067599@swingdanceevents.ch
SUMMARY:Balboa Intensive mit Elena & Alberto (IT)
DESCRIPTION:Elena und Alberto aus Italien kommen nach St.Gallen für einen Balboa Intensiv Workshop. Save the date! \nAlle Infos und Anmeldung auf www.retroactivity.ch/workshops
URL:https://swingdanceevents.ch/event/balboa-intensive-mit-elena-alberto-it/
LOCATION:Kursraum Sitterbugs\, Zwinglistrasse 7\, St.Gallen\, 9500\, Switzerland
CATEGORIES:Class,Workshop
ORGANIZER;CN="RetroActivity":MAILTO:info@retroactivity.ch
END:VEVENT
BEGIN:VEVENT
DTSTART;VALUE=DATE:20240817
DTEND;VALUE=DATE:20240820
DTSTAMP:20260422T074428
CREATED:20240421T155630Z
LAST-MODIFIED:20240521T141655Z
UID:10001869-1723870800-1724043599@swingdanceevents.ch
SUMMARY:Workshop Intensive mit Jo Hoffberg (USA)
DESCRIPTION:Jo Hoffberg kommt nach St.Gallen.\nAm 17. & 18. August 2024 organisieren wir einen Intensiv-Workshop für alle Levels. Die Anmeldung öffnet bald. \nInfos und Anmeldung unter: www.retroactivity.ch/workshops
URL:https://swingdanceevents.ch/event/workshop-intensive-mit-jo-hoffberg-usa/
LOCATION:Kursraum Sitterbugs\, Zwinglistrasse 7\, St.Gallen\, 9500\, Switzerland
CATEGORIES:Class,Workshop
ORGANIZER;CN="RetroActivity":MAILTO:info@retroactivity.ch
END:VEVENT
BEGIN:VEVENT
DTSTART;TZID=Europe/Zurich:20230505T200000
DTEND;TZID=Europe/Zurich:20230505T223000
DTSTAMP:20260422T074428
CREATED:20230424T094733Z
LAST-MODIFIED:20230424T094733Z
UID:10001306-1683316800-1683325800@swingdanceevents.ch
SUMMARY:Fyrobig Hop
DESCRIPTION:Wir öffnen die Türen des Sitterbugs Tanzraums für euch und laden zum Fyrobig Hop ein! \nWo? Tanzraum Sitterbugs an der Zwinglistrasse 7 in 9000 St.Gallen\nWann? 20:00 – 22:30 Uhr\nEintritt frei – Kollekte
URL:https://swingdanceevents.ch/event/fyrobig-hop-3/
LOCATION:Kursraum Sitterbugs\, Zwinglistrasse 7\, St.Gallen\, 9500\, Switzerland
CATEGORIES:DJ,Party
ATTACH;FMTTYPE=image/jpeg:https://swingdanceevents.ch/wp-content/uploads/2023/04/20220114_fyrobig_hop_02_A6.jpg
END:VEVENT
END:VCALENDAR