BEGIN:VCALENDAR
VERSION:2.0
PRODID:-//Swing Dance Events Switzerland - ECPv6.15.20//NONSGML v1.0//EN
CALSCALE:GREGORIAN
METHOD:PUBLISH
X-ORIGINAL-URL:https://swingdanceevents.ch
X-WR-CALDESC:Veranstaltungen für Swing Dance Events Switzerland
REFRESH-INTERVAL;VALUE=DURATION:PT1H
X-Robots-Tag:noindex
X-PUBLISHED-TTL:PT1H
BEGIN:VTIMEZONE
TZID:Europe/Zurich
BEGIN:DAYLIGHT
TZOFFSETFROM:+0100
TZOFFSETTO:+0200
TZNAME:CEST
DTSTART:20230326T010000
END:DAYLIGHT
BEGIN:STANDARD
TZOFFSETFROM:+0200
TZOFFSETTO:+0100
TZNAME:CET
DTSTART:20231029T010000
END:STANDARD
BEGIN:DAYLIGHT
TZOFFSETFROM:+0100
TZOFFSETTO:+0200
TZNAME:CEST
DTSTART:20240331T010000
END:DAYLIGHT
BEGIN:STANDARD
TZOFFSETFROM:+0200
TZOFFSETTO:+0100
TZNAME:CET
DTSTART:20241027T010000
END:STANDARD
BEGIN:DAYLIGHT
TZOFFSETFROM:+0100
TZOFFSETTO:+0200
TZNAME:CEST
DTSTART:20250330T010000
END:DAYLIGHT
BEGIN:STANDARD
TZOFFSETFROM:+0200
TZOFFSETTO:+0100
TZNAME:CET
DTSTART:20251026T010000
END:STANDARD
END:VTIMEZONE
BEGIN:VEVENT
DTSTART;TZID=Europe/Zurich:20241213T210000
DTEND;TZID=Europe/Zurich:20241214T030000
DTSTAMP:20260421T113353
CREATED:20241209T204035Z
LAST-MODIFIED:20241220T030252Z
UID:10002376-1734123600-1734145200@swingdanceevents.ch
SUMMARY:Soul Night
DESCRIPTION:21 Uhr bis spät mit Soulmusik ab Platte! Für Northern Soul & Disco Lovers!\n(Ihr müsst keine Northern Soul Moves kennen!)\nEs legen auf:\nDJs Martin Earthman  & Henning Burn\nRestaurant El Rincon\, Moosstrasse 15\, Luzern \n 
URL:https://swingdanceevents.ch/event/soul-night-4/
LOCATION:Restaurant El Rincon Argentino\, Moostrasse 15\, Luzern\, Luzern\, 6003\, Switzerland
CATEGORIES:DJ,Party
ATTACH;FMTTYPE=image/jpeg:https://swingdanceevents.ch/wp-content/uploads/2024/12/Soul-Night-quad-13.12.24-1-scaled.jpg
ORGANIZER;CN="Triplestep":MAILTO:kontakt@triplestep.ch
END:VEVENT
BEGIN:VEVENT
DTSTART;TZID=Europe/Zurich:20241213T210000
DTEND;TZID=Europe/Zurich:20241213T210000
DTSTAMP:20260421T113353
CREATED:20241209T193733Z
LAST-MODIFIED:20241220T030356Z
UID:10002393-1734123600-1734123600@swingdanceevents.ch
SUMMARY:Soul Night
DESCRIPTION:21 Uhr bis spät mit Soulmusik ab Platte! Für Northern Soul & Disco Lovers!\n(Ihr müsst keine Northern Soul Moves kennen!) \nEs legen auf:\nDJs Martin Earthman  & Henning Burn \nRestaurant El Rincon\, Moosstrasse 15\, Luzern\nEintritt: FR 10.– \nwww.triplestep.ch
URL:https://swingdanceevents.ch/event/soul-night-3/
LOCATION:Restaurant El Rincon Argentino\, Moostrasse 15\, Luzern\, Luzern\, 6003\, Switzerland
CATEGORIES:DJ,Party
ATTACH;FMTTYPE=image/jpeg:https://swingdanceevents.ch/wp-content/uploads/2024/12/Soul-Night-quad-13.12.24-scaled.jpg
ORGANIZER;CN="Triplestep":MAILTO:kontakt@triplestep.ch
END:VEVENT
END:VCALENDAR