BEGIN:VCALENDAR
VERSION:2.0
PRODID:-//Swing Dance Events Switzerland - ECPv6.15.20//NONSGML v1.0//EN
CALSCALE:GREGORIAN
METHOD:PUBLISH
X-ORIGINAL-URL:https://swingdanceevents.ch
X-WR-CALDESC:Veranstaltungen für Swing Dance Events Switzerland
REFRESH-INTERVAL;VALUE=DURATION:PT1H
X-Robots-Tag:noindex
X-PUBLISHED-TTL:PT1H
BEGIN:VTIMEZONE
TZID:Europe/Zurich
BEGIN:DAYLIGHT
TZOFFSETFROM:+0100
TZOFFSETTO:+0200
TZNAME:CEST
DTSTART:20220327T010000
END:DAYLIGHT
BEGIN:STANDARD
TZOFFSETFROM:+0200
TZOFFSETTO:+0100
TZNAME:CET
DTSTART:20221030T010000
END:STANDARD
BEGIN:DAYLIGHT
TZOFFSETFROM:+0100
TZOFFSETTO:+0200
TZNAME:CEST
DTSTART:20230326T010000
END:DAYLIGHT
BEGIN:STANDARD
TZOFFSETFROM:+0200
TZOFFSETTO:+0100
TZNAME:CET
DTSTART:20231029T010000
END:STANDARD
BEGIN:DAYLIGHT
TZOFFSETFROM:+0100
TZOFFSETTO:+0200
TZNAME:CEST
DTSTART:20240331T010000
END:DAYLIGHT
BEGIN:STANDARD
TZOFFSETFROM:+0200
TZOFFSETTO:+0100
TZNAME:CET
DTSTART:20241027T010000
END:STANDARD
BEGIN:DAYLIGHT
TZOFFSETFROM:+0100
TZOFFSETTO:+0200
TZNAME:CEST
DTSTART:20250330T010000
END:DAYLIGHT
BEGIN:STANDARD
TZOFFSETFROM:+0200
TZOFFSETTO:+0100
TZNAME:CET
DTSTART:20251026T010000
END:STANDARD
BEGIN:DAYLIGHT
TZOFFSETFROM:+0100
TZOFFSETTO:+0200
TZNAME:CEST
DTSTART:20260329T010000
END:DAYLIGHT
BEGIN:STANDARD
TZOFFSETFROM:+0200
TZOFFSETTO:+0100
TZNAME:CET
DTSTART:20261025T010000
END:STANDARD
END:VTIMEZONE
BEGIN:VEVENT
DTSTART;VALUE=DATE:20251121
DTEND;VALUE=DATE:20251126
DTSTAMP:20260419T220549
CREATED:20250714T152719Z
LAST-MODIFIED:20250714T153000Z
UID:10002824-1763701200-1764046799@swingdanceevents.ch
SUMMARY:Stir it! 2025
DESCRIPTION:Teachers: \nDaniil & Maria (https://youtu.be/Hd1zlYzPgjc) \nJacek und Konrad (https://youtu.be/LwoREub7k34\, https://youtu.be/SbZUnp9wC94) \nTadas und Pamela (https://youtu.be/Om4LSRhp9Dw) \nKarl (Solo) (https://youtu.be/WXanJoOAvHU) \nBriana (Stepping\, Body Percussion\, Rhythm in Play) (https://youtu.be/d5hKHOMYlL0) \nArnas & Egle (https://youtu.be/vu7r9E3zfJs) \nInes & Dani (Boogie Woogie) (https://youtu.be/ubr4Qi_JCBU) \nBands: \nHot Sugar Band (https://youtu.be/U24WGUmkFHE) \nChicago Swing Collective (https://youtu.be/mp6-8UGH87I) \nThe Sheiks (Workshop Band) (https://youtu.be/h6MtP94u2c4) \nAlle weiteren Infos findet ihr auf unserer Website www.stirit.ch und auf social media Instagram_stirit.
URL:https://swingdanceevents.ch/event/stir-it-2025/
LOCATION:Tanzwerk 101\, Pfingstweidstrasse 101\, Zürich\, Zürich\, 8005\, Switzerland
CATEGORIES:Festival,LiveBand,Party,Workshop
ATTACH;FMTTYPE=image/jpeg:https://swingdanceevents.ch/wp-content/uploads/2025/07/ec82784e-3cbb-4d05-a9d6-4d4d7b6d47ff.jpg
END:VEVENT
BEGIN:VEVENT
DTSTART;VALUE=DATE:20250919
DTEND;VALUE=DATE:20250923
DTSTAMP:20260419T220549
CREATED:20250305T225908Z
LAST-MODIFIED:20250305T225908Z
UID:10002608-1758258000-1758517199@swingdanceevents.ch
SUMMARY:10th Swiss Boogie Weekend (by the Crazy Shakers\, Zurich)
DESCRIPTION:Im Jahr des 40-jährigen Bestehens der Crazy Shakers veranstalten wir zum 10. Mal das Swiss Boogie Weekend. Und natürlich wird es etwas ganz Besonderes: Drei Tage voller Workshops\, eine große Party mit Live-Bands und natürlich internationale Trainer bei uns zu Gast in Zürich. \nDie Workshops sind für alle Niveaus geeignet. Von Anfänger bis besonders erfahrene Tänzer –  für jeden wird etwas geboten. Wir können es kaum erwarten\, euch eine großartige Zeit zu bereiten! \nDeine Trainer: \n\nTanya Georgiievska & Sondre Olsen Bye (NOR)\nWilma Edlund & Viktor Edlund (SWE)\nLena Magnusson & Tobias Ramberg (SWE)\nPaula Appenzeller & Jesper Boberg (CH & SWE)\nJessica Kaiser & Markus Kakuska (AUT)\n\nWeitere Informationen: https://boogieweekend.ch \n\nWe celebrate the 40th anniversary of the Crazy Shakers and the 10th anniversary of the Swiss Boogie Weekend. And of course it will be special: Three days full of workshops\, a big party with live bands and of course international trainers at our place in Zurich. \nWorkshops are offered for all different levels\, from beginner to advanced – there is something for everyone. We can’t wait to see you having a great time! \nYour trainer: \n\nTanya Georgiievska & Sondre Olsen Bye (NOR)\nWilma Edlund & Viktor Edlund (SWE)\nLena Magnusson & Tobias Ramberg (SWE)\nPaula Appenzeller & Jesper Boberg (CH & SWE)\nJessica Kaiser & Markus Kakuska (AUT)\n\nFurther information: https://boogieweekend.ch
URL:https://swingdanceevents.ch/event/10th-swiss-boogie-weekend-by-the-crazy-shakers-zurich/
LOCATION:Club Silbando\, Förrlibuckstrasse 62\, Zürich\, ZH\, 8005\, Switzerland
CATEGORIES:Festival,Party,Show,Socialdance,Workshop
ATTACH;FMTTYPE=image/png:https://swingdanceevents.ch/wp-content/uploads/2025/03/Logo-Swiss-Boogie-Weekend.png
END:VEVENT
BEGIN:VEVENT
DTSTART;TZID=Europe/Zurich:20250216T120000
DTEND;TZID=Europe/Zurich:20250216T133000
DTSTAMP:20260419T220549
CREATED:20250129T190800Z
LAST-MODIFIED:20250129T193125Z
UID:10002534-1739707200-1739712600@swingdanceevents.ch
SUMMARY:Boogie Workshop (Advanced S2) mit Nelly & Lucas aus Frankreich
DESCRIPTION:Am 15. und 16. Februar haben wir die Freude\, Nelly und Lucas aus Frankreich bei uns zu begrüssen\, die einen Boogie-Woogie-Workshop geben werden! \nAngeboten werden:\n– Intermediate / Session 1\n– Intermediate / Session 2\n– Advanced / Session 1\n– Advanced / Session 2 \nHier einige ihrer Erfolge 2024: \n\nWeltmeisterschaft Prague 2024: MC  Platz 4 (von 31)\nEuropameisterschaft Stuttgart 2024: MC  Platz 7 (von 29)\nWorld Cup Cork 2024: MC  Platz 13 (von 32)\nWorld Cup Kumla 2024: MC  Platz 9 (von 25) \n\nLevel: Advanced \nOrt: Tanzwerk 101\, Pfingstweidstrasse 101\, 8005 Zürich\nKurs: Advanced – Session 2\nAnmeldung: E-Mail an info@crazyshakers.ch\nKosten: 20 CHF pro Level und Session / Für Clubmitglieder kostenlos
URL:https://swingdanceevents.ch/event/boogie-workshop-advanced-s2-mit-nelly-lucas-aus-frankreich/
LOCATION:Tanzwerk 101\, Pfingstweidstrasse 101\, Zürich\, Zürich\, 8005\, Switzerland
CATEGORIES:Workshop
ATTACH;FMTTYPE=image/jpeg:https://swingdanceevents.ch/wp-content/uploads/2025/01/IMG_9003-5.jpg
END:VEVENT
BEGIN:VEVENT
DTSTART;TZID=Europe/Zurich:20250216T100000
DTEND;TZID=Europe/Zurich:20250216T113000
DTSTAMP:20260419T220549
CREATED:20250129T185235Z
LAST-MODIFIED:20250129T193043Z
UID:10002531-1739700000-1739705400@swingdanceevents.ch
SUMMARY:Boogie Workshop (Intermediate S2) mit Nelly & Lucas aus Frankreich
DESCRIPTION:Am 15. und 16. Februar haben wir die Freude\, Nelly und Lucas aus Frankreich bei uns zu begrüssen\, die einen Boogie-Woogie-Workshop geben werden! \nAngeboten werden:\n– Intermediate / Session 1\n– Intermediate / Session 2\n– Advanced / Session 1\n– Advanced / Session 2 \nHier einige ihrer Erfolge 2024: \n\nWeltmeisterschaft Prague 2024: MC  Platz 4 (von 31)\nEuropameisterschaft Stuttgart 2024: MC  Platz 7 (von 29)\nWorld Cup Cork 2024: MC  Platz 13 (von 32)\nWorld Cup Kumla 2024: MC  Platz 9 (von 25) \n\nLevel: Intermediate \nOrt: Tanzwerk 101\, Pfingstweidstrasse 101\, 8005 Zürich\nKurs: Intermediate – Session 2\nAnmeldung: E-Mail an info@crazyshakers.ch\nKosten: 20 CHF pro Level und Session / Für Clubmitglieder kostenlos
URL:https://swingdanceevents.ch/event/boogie-workshop-intermediate-s2-mit-nelly-und-lucas-aus-frankreich/
LOCATION:Tanzwerk 101\, Pfingstweidstrasse 101\, Zürich\, Zürich\, 8005\, Switzerland
CATEGORIES:Workshop
ATTACH;FMTTYPE=image/jpeg:https://swingdanceevents.ch/wp-content/uploads/2025/01/IMG_9003-2.jpg
END:VEVENT
BEGIN:VEVENT
DTSTART;TZID=Europe/Zurich:20250215T150000
DTEND;TZID=Europe/Zurich:20250215T163000
DTSTAMP:20260419T220549
CREATED:20250129T190555Z
LAST-MODIFIED:20250129T192940Z
UID:10002533-1739631600-1739637000@swingdanceevents.ch
SUMMARY:Boogie Workshop (Advanced S1) mit Nelly & Lucas aus Frankreich
DESCRIPTION:Am 15. und 16. Februar haben wir die Freude\, Nelly und Lucas aus Frankreich bei uns zu begrüssen\, die einen Boogie-Woogie-Workshop geben werden! \nAngeboten werden:\n– Intermediate / Session 1\n– Intermediate / Session 2\n– Advanced / Session 1\n– Advanced / Session 2 \nHier einige ihrer Erfolge 2024: \n\nWeltmeisterschaft Prague 2024: MC  Platz 4 (von 31)\nEuropameisterschaft Stuttgart 2024: MC  Platz 7 (von 29)\nWorld Cup Cork 2024: MC  Platz 13 (von 32)\nWorld Cup Kumla 2024: MC  Platz 9 (von 25) \n\nLevel: Advanced \nOrt: Tanzwerk 101\, Pfingstweidstrasse 101\, 8005 Zürich\nKurs: Advanced – Session 1\nAnmeldung: E-Mail an info@crazyshakers.ch\nKosten: 20 CHF pro Level und Session / Für Clubmitglieder kostenlos
URL:https://swingdanceevents.ch/event/boogie-workshop-advanced-s1-mit-nelly-lucas-aus-frankreich/
LOCATION:Tanzwerk 101\, Pfingstweidstrasse 101\, Zürich\, Zürich\, 8005\, Switzerland
CATEGORIES:Workshop
ATTACH;FMTTYPE=image/jpeg:https://swingdanceevents.ch/wp-content/uploads/2025/01/IMG_9003-4.jpg
END:VEVENT
BEGIN:VEVENT
DTSTART;TZID=Europe/Zurich:20250215T130000
DTEND;TZID=Europe/Zurich:20250215T143000
DTSTAMP:20260419T220549
CREATED:20250129T184739Z
LAST-MODIFIED:20250129T190313Z
UID:10002530-1739624400-1739629800@swingdanceevents.ch
SUMMARY:Boogie Workshop (Intermediate S1) mit Nelly & Lucas aus Frankreich
DESCRIPTION:Am 15. und 16. Februar haben wir die Freude\, Nelly und Lucas aus Frankreich bei uns zu begrüssen\, die einen Boogie-Woogie-Workshop geben werden! \nAngeboten werden:\n– Intermediate / Session 1\n– Intermediate / Session 2\n– Advanced / Session 1\n– Advanced / Session 2 \nHier einige ihrer Erfolge 2024: \n\nWeltmeisterschaft Prague 2024: MC  Platz 4 (von 31)  \nEuropameisterschaft Stuttgart 2024: MC  Platz 7 (von 29)  \nWorld Cup Cork 2024: MC  Platz 13 (von 32)\nWorld Cup Kumla 2024: MC  Platz 9 (von 25) \n\nLevel: Intermediate \nOrt: Tanzwerk 101\, Pfingstweidstrasse 101\, 8005 Zürich\nKurs: Intermediate – Session 1\nAnmeldung: E-Mail an info@crazyshakers.ch\nKosten: 20 CHF pro Level und Session / Für Clubmitglieder kostenlos
URL:https://swingdanceevents.ch/event/boogie-workshop-intermediate-s1-mit-nelly-und-lucas-aus-frankreich/
LOCATION:Tanzwerk 101\, Pfingstweidstrasse 101\, Zürich\, Zürich\, 8005\, Switzerland
CATEGORIES:Workshop
ATTACH;FMTTYPE=image/jpeg:https://swingdanceevents.ch/wp-content/uploads/2025/01/IMG_9003-1.jpg
END:VEVENT
BEGIN:VEVENT
DTSTART;TZID=Europe/Zurich:20250202T160000
DTEND;TZID=Europe/Zurich:20250202T190000
DTSTAMP:20260419T220549
CREATED:20240728T132914Z
LAST-MODIFIED:20241124T154238Z
UID:10002055-1738512000-1738522800@swingdanceevents.ch
SUMMARY:Tea Time Swing
DESCRIPTION:Tea Time Swing mit auserlesenem Tee\, feinem Kuchen und Swing Musik zum Tanzen\, zwei Sonntage pro Monat\, von 16:00 bis 19:00 Uhr. \nOrt:\nBananenreiferei\, Pfingstweidstrasse 101\, 8005 Zürich \nAnreise per ÖV:\nVom Bahnhof Hardbrücke zu Fuss oder 2 Stationen mit dem Tram 4 bis Toni Areal\, über die Strasse ins Migros Gebäude\, der Beschilderung «Bananenreiferei» folgen.
URL:https://swingdanceevents.ch/event/tea-time-swing-12/
LOCATION:Tanzwerk 101\, Pfingstweidstrasse 101\, Zürich\, Zürich\, 8005\, Switzerland
CATEGORIES:DJ,Party,Socialdance
ATTACH;FMTTYPE=image/png:https://swingdanceevents.ch/wp-content/uploads/2024/07/2024_tts_web_high_gnrl-1.png
ORGANIZER;CN="TeaTimeSwing by Lindy and More":MAILTO:teatimeswing@gmx.ch
END:VEVENT
BEGIN:VEVENT
DTSTART;TZID=Europe/Zurich:20250115T150000
DTEND;TZID=Europe/Zurich:20250115T163000
DTSTAMP:20260419T220549
CREATED:20250129T185547Z
LAST-MODIFIED:20250129T185547Z
UID:10002532-1736953200-1736958600@swingdanceevents.ch
SUMMARY:Boogie Workshop (Advanced S1) mit Nelly und Lucas aus Frankreich
DESCRIPTION:Am 15. und 16. Februar haben wir die Freude\, Nelly und Lucas aus Frankreich bei uns zu begrüssen\, die einen Boogie-Woogie-Workshop geben werden! \nAngeboten werden:\n– Intermediate / Session 1\n– Intermediate / Session 2\n– Advanced / Session 1\n– Advanced / Session 2 \nHier einige ihrer Erfolge 2024: \n\nWeltmeisterschaft Prague 2024: MC  Platz 4 (von 31)\nEuropameisterschaft Stuttgart 2024: MC  Platz 7 (von 29)\nWorld Cup Cork 2024: MC  Platz 13 (von 32)\nWorld Cup Kumla 2024: MC  Platz 9 (von 25) \n\nLevel: Intermediate \nOrt: Tanzwerk 101\, Pfingstweidstrasse 101\, 8005 Zürich\nKurs: Intermediate – Session 1\nAnmeldung: E-Mail an info@crazyshakers.ch\nKosten: 20 CHF pro Level und Session
URL:https://swingdanceevents.ch/event/boogie-workshop-advanced-s1-mit-nelly-und-lucas-aus-frankreich/
LOCATION:Tanzwerk 101\, Pfingstweidstrasse 101\, Zürich\, Zürich\, 8005\, Switzerland
CATEGORIES:Workshop
ATTACH;FMTTYPE=image/jpeg:https://swingdanceevents.ch/wp-content/uploads/2025/01/IMG_9003-3.jpg
END:VEVENT
BEGIN:VEVENT
DTSTART;TZID=Europe/Zurich:20250112T160000
DTEND;TZID=Europe/Zurich:20250112T190000
DTSTAMP:20260419T220549
CREATED:20240728T132627Z
LAST-MODIFIED:20241124T154326Z
UID:10002053-1736697600-1736708400@swingdanceevents.ch
SUMMARY:Tea Time Swing
DESCRIPTION:Tea Time Swing mit auserlesenem Tee\, feinem Kuchen und Swing Musik zum Tanzen\, zwei Sonntage pro Monat\, von 16:00 bis 19:00 Uhr. \nMusik:\nDJ Rahel\nDJane Nathasha \nOrt:\nBananenreiferei\, Pfingstweidstrasse 101\, 8005 Zürich \nAnreise per ÖV:\nVom Bahnhof Hardbrücke zu Fuss oder 2 Stationen mit dem Tram 4 bis Toni Areal\, über die Strasse ins Migros Gebäude\, der Beschilderung «Bananenreiferei» folgen.
URL:https://swingdanceevents.ch/event/tea-time-swing-11/
LOCATION:Tanzwerk 101\, Pfingstweidstrasse 101\, Zürich\, Zürich\, 8005\, Switzerland
CATEGORIES:DJ,Party,Socialdance
ATTACH;FMTTYPE=image/png:https://swingdanceevents.ch/wp-content/uploads/2024/07/2025_tts_web_high_0112.png
ORGANIZER;CN="TeaTimeSwing by Lindy and More":MAILTO:teatimeswing@gmx.ch
END:VEVENT
BEGIN:VEVENT
DTSTART;TZID=Europe/Zurich:20241115T180000
DTEND;TZID=Europe/Zurich:20241117T210000
DTSTAMP:20260419T220549
CREATED:20240328T084842Z
LAST-MODIFIED:20240625T143126Z
UID:10001861-1731693600-1731877200@swingdanceevents.ch
SUMMARY:Stir it! 2024
DESCRIPTION:Come join us for a weekend full of various swing classes (Lindy Hop\, Solo Jazz\, Balboa\, Blues\, tasters\, …)\, eating\, chatting\, enjoying and learning! With parties on Friday\, Saturday and Sunday in the beautiful venue at Tanzwerk 101. \nStir it! offers more than just the usual dance classes. All lessons are Free-Choice classes\, and there is no need to register by level\, you can freely choose them on-site. The complexity of each class will be marked with a “spiciness level” of 🌶️\, 🌶️🌶️\, or 🌶️🌶️🌶️. This way\, you can decide how much of a challenge you want. \nGet ready to be surprised and inspired!
URL:https://swingdanceevents.ch/event/stir-it-2024/
LOCATION:Tanzwerk 101\, Pfingstweidstrasse 101\, Zürich\, Zürich\, 8005\, Switzerland
CATEGORIES:Class,DJ,Festival,LiveBand,Party
END:VEVENT
BEGIN:VEVENT
DTSTART;TZID=Europe/Zurich:20240210T200000
DTEND;TZID=Europe/Zurich:20240211T010000
DTSTAMP:20260419T220549
CREATED:20240202T065915Z
LAST-MODIFIED:20240202T070226Z
UID:10001816-1707595200-1707613200@swingdanceevents.ch
SUMMARY:Blues Party / live music
DESCRIPTION:This year Swingtzerland will have a blues room again! Join us for an amazing night of dancing to the music of Stompin’ Blues Buddy and our DJs. \nBlues Taster 20:00 to 21:00\nParty from 21:00 to late \nThere is only a limited number of tickets and registration through the form below is mandatory. All infos on: \nhttps://bluesli.ch/blues-party-february-2024/ \nThere will be no door tickets
URL:https://swingdanceevents.ch/event/blues-party-live-music/
LOCATION:Tanzwerk 101\, Pfingstweidstrasse 101\, Zürich\, Zürich\, 8005\, Switzerland
CATEGORIES:Crashcourse,DJ,LiveBand,Party,Socialdance,Teaster
ATTACH;FMTTYPE=image/png:https://swingdanceevents.ch/wp-content/uploads/2024/02/Screenshot-2024-01-27-142639.png
ORGANIZER;CN="Blues and more":MAILTO:registerbluesli@gmail.com
END:VEVENT
BEGIN:VEVENT
DTSTART;TZID=Europe/Zurich:20231117T180000
DTEND;TZID=Europe/Zurich:20231119T210000
DTSTAMP:20260419T220549
CREATED:20230305T104117Z
LAST-MODIFIED:20230305T104530Z
UID:10001130-1700244000-1700427600@swingdanceevents.ch
SUMMARY:Stir It! 2023
DESCRIPTION:EN: We are looking forward to welcoming you back for the next edition of Stir It! on November 17\, 18 and 19 in the beautiful city of Zurich. Mark your calendars and get ready for a weekend full of workshops with beloved international teachers and parties to hot live music and DJ’s that will make your dance hearts beat faster. Stay tuned for more information coming soon… \nDE: Wir freuen uns darauf\, euch bei der nächsten Ausgabe vom Stir It! am 17.\, 18. und 19. November in der schönen Stadt Zürich wieder begrüßen zu dürfen. Markiert eure Kalender und bereitet euch für ein Wochenende voller Workshops mit beliebten internationalen Teachers und Partys zu Live-Musik und DJs vor\, die eure Herzen höher schlagen lassen werden. Weiter Informationen folgen in Kürze…
URL:https://swingdanceevents.ch/event/stir-it-2023/
LOCATION:Tanzwerk 101\, Pfingstweidstrasse 101\, Zürich\, Zürich\, 8005\, Switzerland
CATEGORIES:Festival
END:VEVENT
END:VCALENDAR