BEGIN:VCALENDAR
VERSION:2.0
PRODID:-//Swing Dance Events Switzerland - ECPv6.15.20//NONSGML v1.0//EN
CALSCALE:GREGORIAN
METHOD:PUBLISH
X-WR-CALNAME:Swing Dance Events Switzerland
X-ORIGINAL-URL:https://swingdanceevents.ch
X-WR-CALDESC:Veranstaltungen für Swing Dance Events Switzerland
REFRESH-INTERVAL;VALUE=DURATION:PT1H
X-Robots-Tag:noindex
X-PUBLISHED-TTL:PT1H
BEGIN:VTIMEZONE
TZID:Europe/Zurich
BEGIN:DAYLIGHT
TZOFFSETFROM:+0100
TZOFFSETTO:+0200
TZNAME:CEST
DTSTART:20220327T010000
END:DAYLIGHT
BEGIN:STANDARD
TZOFFSETFROM:+0200
TZOFFSETTO:+0100
TZNAME:CET
DTSTART:20221030T010000
END:STANDARD
BEGIN:DAYLIGHT
TZOFFSETFROM:+0100
TZOFFSETTO:+0200
TZNAME:CEST
DTSTART:20230326T010000
END:DAYLIGHT
BEGIN:STANDARD
TZOFFSETFROM:+0200
TZOFFSETTO:+0100
TZNAME:CET
DTSTART:20231029T010000
END:STANDARD
BEGIN:DAYLIGHT
TZOFFSETFROM:+0100
TZOFFSETTO:+0200
TZNAME:CEST
DTSTART:20240331T010000
END:DAYLIGHT
BEGIN:STANDARD
TZOFFSETFROM:+0200
TZOFFSETTO:+0100
TZNAME:CET
DTSTART:20241027T010000
END:STANDARD
END:VTIMEZONE
BEGIN:VEVENT
DTSTART;TZID=Europe/Zurich:20230831T190000
DTEND;TZID=Europe/Zurich:20230831T210000
DTSTAMP:20260419T212036
CREATED:20230809T122815Z
LAST-MODIFIED:20230809T122815Z
UID:10001347-1693508400-1693515600@swingdanceevents.ch
SUMMARY:Workshop Gatsby Charleston
DESCRIPTION:Der Spezial-Workshop ist offen für alle\, die wie Gatsby tanzen & jammen wollen. Ideal für Leute die schon lange tanzen\, aber auch für Newbies\, “Ich-habe-2-linke-Füsse”-Menschen\, Superprofis\, alle die Spass haben wollen und… Deine Freunde\, die schon immer in einen Swing-oder Jazzkurs mitnehmen wolltest! \nAnmelden auf: \nmalou.mey@gmail.com \nEs gibt keine dummen Fragen auf: \n076 400 96 98
URL:https://swingdanceevents.ch/event/workshop-gatsby-charleston/
LOCATION:Viktoriaplatz Bern\, Alte Schreinerei\, Gotthelfstr. 29a\, Bern\, Bern\, 3013\, Switzerland
ATTACH;FMTTYPE=image/jpeg:https://swingdanceevents.ch/wp-content/uploads/2023/08/Flyer-WS-Gatsby-Charleston.jpg
END:VEVENT
END:VCALENDAR